From mboxrd@z Thu Jan 1 00:00:00 1970 Return-Path: Received: from mails.dpdk.org (mails.dpdk.org [217.70.189.124]) by inbox.dpdk.org (Postfix) with ESMTP id 746FA46D69 for ; Tue, 19 Aug 2025 21:38:26 +0200 (CEST) Received: from mails.dpdk.org (localhost [127.0.0.1]) by mails.dpdk.org (Postfix) with ESMTP id 4691E40151; Tue, 19 Aug 2025 21:38:26 +0200 (CEST) Received: from mail-yw1-f227.google.com (mail-yw1-f227.google.com [209.85.128.227]) by mails.dpdk.org (Postfix) with ESMTP id 7212440151 for ; Tue, 19 Aug 2025 21:38:25 +0200 (CEST) Received: by mail-yw1-f227.google.com with SMTP id 00721157ae682-71e816e7f09so22136367b3.1 for ; Tue, 19 Aug 2025 12:38:25 -0700 (PDT) DKIM-Signature: v=1; a=rsa-sha256; c=relaxed/relaxed; d=iol.unh.edu; s=unh-iol; t=1755632304; x=1756237104; darn=dpdk.org; h=references:in-reply-to:cc:to:from:subject:message-id:date:from:to :cc:subject:date:message-id:reply-to; bh=cCUocjxZAhES8Kh4tabLsdmCXJ8CR0SNGjkXrTNCrEA=; b=aHIHLUS5tzO0IJXZMGnemTtbCnBZXkC9+/DsgwtveSEShtL8hOKYe+SQEXFq2RhvYm EEm2P8th24I8+r88dLtEjxqGdXO7AONfX0qNAbgI7lz1HWg7khmINFQzP0s8jAqDqW1I aSDbaYKDC30A7xAxmeT0sbs4tcPqvk7Q6M16M= X-Google-DKIM-Signature: v=1; a=rsa-sha256; c=relaxed/relaxed; d=1e100.net; s=20230601; t=1755632304; x=1756237104; h=references:in-reply-to:cc:to:from:subject:message-id:date :x-gm-message-state:from:to:cc:subject:date:message-id:reply-to; bh=cCUocjxZAhES8Kh4tabLsdmCXJ8CR0SNGjkXrTNCrEA=; b=ET6LxJ/Y7w4yExkISRKBNxCHiKzDEWrwgDJcqhj8Tf0ndusyXMMK4WemtylOZoDs1y ucXaqvcPufy1erwz0W0YQz3NusbZokfqZxm27AiB/DOIewTEFNlEg4/awDU/yr8/+Vcg biW+Lwn2iVKXZxv9tmGKLNK/yp1+RWXhpudGd+dKB41hG7iod6nGkgZkPkpS4c4Kxz2k K3IXCUIfDHh56QZAFzKJOtLlLSkUTHQ86e8N/ZEix3NLMLS3RD2G2oSQKGURDc1IjEsp uf9uIHXLf+qUkCGH4Ds4T9Spxf6xlDBFjT6SFgB0CzlggnNtiK1XX8X6UWe8u7foInXN jvFw== X-Gm-Message-State: AOJu0YwHfKUwFmvCQ+IlXIyyq/b7WEYUnYe4PhnKuPr/bDyRAwOCm2j8 cu0ubZhrgdfWfNM8deRFy6UHs2X66JNICiNNe1qUP8y1BE4vWwcO41ITnacNQKvbg+L1EtdsHji +gT0u1p5UJ0hAJ92KFASkl03c4EnDnrQueCRfA4SEEkW65JGrAOveOZTlk+Lz X-Gm-Gg: ASbGncthXlaeTv8AZtogBGOKVcxkCAT8VRaRgl0/kdvP28OCGuFn9j/Uw7kn9eQMK7u Qw42GP6i2jtm3qM5SdRzWVHBdfgJlR70PXw8MaB3crd+r4ma3fUOjT/wjsh7XWqWl683pRtebtv MSe8ZqSNWDrFhMdgfH7vlSQzFsNgdKZMNKLsxu3SFudONov/Wwkbyvm/4lJ3AWsp2CWIiAEzSHZ OViz8s+SUoKS68X2Yc+lvbXNT7Ni/8DswFrPNg8r5O1QrUtchirm4o9y9zgYG7FdG4XTvFgYUEl 7HK6Z9iU0970XyIAb0GRI2QylhQkM3+0hpxuSjXyn1nqVyw1wg== X-Google-Smtp-Source: AGHT+IEkzrkskY4hs4irt7y02GZhRD0Q+iVHXKhdF2uNTaHbpLbJ8Q9kZZaGQC0w/iTJfudeK6UAYbKBTjYu X-Received: by 2002:a05:690c:998e:b0:71d:4c89:4acb with SMTP id 00721157ae682-71fb30eb062mr4782367b3.16.1755632304505; Tue, 19 Aug 2025 12:38:24 -0700 (PDT) Received: from postal.iol.unh.edu (postal.iol.unh.edu. [2606:4100:3880:1234::84]) by smtp-relay.gmail.com with ESMTPS id 00721157ae682-71faf0f490asm568157b3.36.2025.08.19.12.38.24 (version=TLS1_2 cipher=ECDHE-ECDSA-AES128-GCM-SHA256 bits=128/128); Tue, 19 Aug 2025 12:38:24 -0700 (PDT) X-Relaying-Domain: iol.unh.edu Date: Tue, 19 Aug 2025 12:38:24 -0700 (PDT) Message-ID: <68a4d2b0.050a0220.2184d1.2cacSMTPIN_ADDED_MISSING@mx.google.com> Received: from [172.21.0.3] (unknown [172.18.0.240]) by postal.iol.unh.edu (Postfix) with ESMTP id 30D16604D420; Tue, 19 Aug 2025 15:38:24 -0400 (EDT) Subject: |SUCCESS| pw156000-156001 [PATCH] [v3,2/2] virtio: simplify use of p From: dpdklab@iol.unh.edu To: Test Report Cc: dpdk-test-reports@iol.unh.edu In-Reply-To: <20250819112521.1608207-2-bruce.richardson@intel.com> References: <20250819112521.1608207-2-bruce.richardson@intel.com> Content-Type: text/plain X-BeenThere: test-report@dpdk.org X-Mailman-Version: 2.1.29 Precedence: list List-Id: automatic DPDK test reports List-Unsubscribe: , List-Archive: List-Post: List-Help: List-Subscribe: , Errors-To: test-report-bounces@dpdk.org Test-Label: iol-unit-amd64-testing Test-Status: SUCCESS http://dpdk.org/patch/156001 _Testing PASS_ Submitter: Bruce Richardson Date: Tuesday, August 19 2025 11:25:21 DPDK git baseline: Repo:dpdk Branch: master CommitID:38543d33bd47fc0ee21f59db80a8763620741879 156000-156001 --> testing pass Upstream job id: Generic-VM-Unit-Test-DPDK#30609 Test environment and result as below: +-------------------------------+----------------+ | Environment | dpdk_unit_test | +===============================+================+ | CentOS Stream 9 | PASS | +-------------------------------+----------------+ | Fedora Linux 40 | PASS | +-------------------------------+----------------+ | Fedora Linux 41 | PASS | +-------------------------------+----------------+ | Debian GNU/Linux 12 | PASS | +-------------------------------+----------------+ | Fedora Linux 42 | PASS | +-------------------------------+----------------+ | CentOS Stream 10 | PASS | +-------------------------------+----------------+ | Red Hat Enterprise Linux 8.10 | PASS | +-------------------------------+----------------+ | Ubuntu 22.04 | PASS | +-------------------------------+----------------+ | Ubuntu 24.04 | PASS | +-------------------------------+----------------+ | Ubuntu 20.04 | PASS | +-------------------------------+----------------+ | Red Hat Enterprise Linux 9.5 | PASS | +-------------------------------+----------------+ | Windows Server 2022 | PASS | +-------------------------------+----------------+ CentOS Stream 9 Kernel: 5.15 Compiler: gcc gcc (GCC) 11.5.0 20240719 (Red Hat 11.5.0-7) Fedora Linux 40 Kernel: 5.15 Compiler: clang gcc (GCC) 14.2.1 20240912 (Red Hat 14.2.1-3) Fedora Linux 41 Kernel: 5.15 Compiler: gcc gcc (GCC) 14.3.1 20250523 (Red Hat 14.3.1-1) Debian GNU/Linux 12 Kernel: 5.15 Compiler: gcc gcc (Debian 12.2.0-14+deb12u1) 12.2.0 Fedora Linux 42 Kernel: 5.15 Compiler: gcc gcc (GCC) 15.1.1 20250521 (Red Hat 15.1.1-2) CentOS Stream 10 Kernel: 5.15 Compiler: gcc gcc (GCC) 14.2.1 20250110 (Red Hat 14.2.1-8) Red Hat Enterprise Linux 8.10 Kernel: 5.15 Compiler: gcc gcc (GCC) 8.5.0 20210514 (Red Hat 8.5.0-22) Ubuntu 22.04 Kernel: 5.15 Compiler: gcc gcc (Ubuntu 11.4.0-1ubuntu1~22.04) 11.4.0 Ubuntu 24.04 Kernel: 5.15 Compiler: gcc gcc (Ubuntu 13.3.0-6ubuntu2~24.04) 13.3.0 Ubuntu 20.04 Kernel: 5.15 Compiler: gcc gcc (Ubuntu 9.4.0-1ubuntu1~20.04.2) 9.4.0 Red Hat Enterprise Linux 9.5 Kernel: 5.15 Compiler: gcc gcc (GCC) 11.5.0 20240719 (Red Hat 11.5.0-2) Windows Server 2022 Kernel: 10.0.20348.2031 Compiler: clang 15.0.7, gcc 14.1.0 (MinGW), and MSVC VS 19.39.33521 To view detailed results, visit: https://lab.dpdk.org/results/dashboard/patchsets/33905/ UNH-IOL DPDK Community Lab To manage your email subscriptions, visit: https://lab.dpdk.org/results/dashboard/preferences/subscriptions/