From mboxrd@z Thu Jan 1 00:00:00 1970 Return-Path: Received: from mails.dpdk.org (mails.dpdk.org [217.70.189.124]) by inbox.dpdk.org (Postfix) with ESMTP id CA79646D69 for ; Tue, 19 Aug 2025 21:43:13 +0200 (CEST) Received: from mails.dpdk.org (localhost [127.0.0.1]) by mails.dpdk.org (Postfix) with ESMTP id AD29940151; Tue, 19 Aug 2025 21:43:13 +0200 (CEST) Received: from mail-qv1-f98.google.com (mail-qv1-f98.google.com [209.85.219.98]) by mails.dpdk.org (Postfix) with ESMTP id 5617F40151 for ; Tue, 19 Aug 2025 21:43:12 +0200 (CEST) Received: by mail-qv1-f98.google.com with SMTP id 6a1803df08f44-70a9f5d4d97so59786156d6.3 for ; Tue, 19 Aug 2025 12:43:12 -0700 (PDT) DKIM-Signature: v=1; a=rsa-sha256; c=relaxed/relaxed; d=iol.unh.edu; s=unh-iol; t=1755632591; x=1756237391; darn=dpdk.org; h=references:in-reply-to:cc:to:from:subject:message-id:date:from:to :cc:subject:date:message-id:reply-to; bh=mZhhd6fZCLKfyenCh3A8wPDSG7SD5HIUTY/QDdCMy8I=; b=R24XLAZhhP13FsdqvImtSgnAsDchNV3rX2tVsngENjj3nJNI72nvTsVCaAoLZt2qiY efCj+hst1QXsgWYzGOotI5V2Uk7zElFs4+uFwReLZTHjSU8/4h75qvJSEyEJY8yyJa7e 9qB0ahs724CkqjVBXt7Hs/Nm8eGklVXqO4Ezk= X-Google-DKIM-Signature: v=1; a=rsa-sha256; c=relaxed/relaxed; d=1e100.net; s=20230601; t=1755632591; x=1756237391; h=references:in-reply-to:cc:to:from:subject:message-id:date :x-gm-message-state:from:to:cc:subject:date:message-id:reply-to; bh=mZhhd6fZCLKfyenCh3A8wPDSG7SD5HIUTY/QDdCMy8I=; b=chD8QGse6nFWHFjKQdx1wrQ6cGGXeA/aXp1kIGo5JR9vBL/j7LVS2ht63EuyV3Meys rJHGjs6csSJJJ3rO0ffOiDsIWxAUn/a93LfSCt1XH0IYw7QX/VhIBY/LDzDW1N/PTp8F 336f1r4ZziTkHvUsSzGQP3crox9gxtO2BZ30wu0w1jwwBwedXT4L2ShgZXmv6QZ51xfH lIn+N0SEp0esqDHSQ2Aa2mLkNahU/28V4TIlatki+982fravSzWrIZIYlAc3FzgcKvUT k/D4H3bcs3y2nxtOfNZzi79Q3Z+4yU5mWGWWsAe2u+42QevNFxxzYGKKKNuGUiPtqHJi MgKA== X-Gm-Message-State: AOJu0YzQ6X4TfCbgHYy159CGybfIz2tQjYWNXiFLj8ngtK72tYNK5GDf yJg45GhwWk5MqSKgK18NQTyRF2bqSUDJmp4rMLBiNS8nDMvrhWxwmsMjbWGhHSI4ygSwZXRSYCx zVOrVVnOBA0tA8rIig52DXnHg49heiJZ4bJlEzJE5t4QhwTvqgLvk4grq5qao X-Gm-Gg: ASbGnct7S/GmP6Ke0khHWlSWMYZFkRryD3HKb1ZtXFSUEEXRY7xTJmVk+dipHsKwt4N OuHTbBXzNQW1811Gm37oLpcQRyaFyIaFD8mfM7mCIHknYHRgIIsJnPUnPsJ2yJm46+jVR7wokgW +PNf9BLbNrLqA84ahtAGcGbwvyarS7xza0qPd0rFOIEjnLhEpDgE3o6I5FM63HtB/42uj8vbNQ1 XUXtOFpNQaAqGZ0E2IN7XlZe2t7Ep3g8Yy+3vtzY6Vd3P1OqIpQ4X4RLKOlosAxSuR1th7K3wB8 MDRwJ25vqY69vseCsVwp25FyLqo3hSBuoO4OKQDtiy0/1brYtg== X-Google-Smtp-Source: AGHT+IGXS5K7bWgrtmq1PWOPlDz44lfwNvEkv1JYaLw9GjWvIMFJ0J7sWK6hKt4R5pVnINOFZPs5Tm6WbmZE X-Received: by 2002:ad4:5dc7:0:b0:707:4043:ca with SMTP id 6a1803df08f44-70d77094fb4mr2799376d6.35.1755632591636; Tue, 19 Aug 2025 12:43:11 -0700 (PDT) Received: from postal.iol.unh.edu (postal.iol.unh.edu. [2606:4100:3880:1234::84]) by smtp-relay.gmail.com with ESMTPS id 6a1803df08f44-70ba921ce91sm7030216d6.25.2025.08.19.12.43.11 (version=TLS1_2 cipher=ECDHE-ECDSA-AES128-GCM-SHA256 bits=128/128); Tue, 19 Aug 2025 12:43:11 -0700 (PDT) X-Relaying-Domain: iol.unh.edu Date: Tue, 19 Aug 2025 12:43:11 -0700 (PDT) Message-ID: <68a4d3cf.d40a0220.3d5c07.22f0SMTPIN_ADDED_MISSING@mx.google.com> Received: from [172.21.0.3] (unknown [172.18.0.240]) by postal.iol.unh.edu (Postfix) with ESMTP id 5B804604D420; Tue, 19 Aug 2025 15:43:11 -0400 (EDT) Subject: |SUCCESS| pw156000-156001 [PATCH] [v3,2/2] virtio: simplify use of p From: dpdklab@iol.unh.edu To: Test Report Cc: dpdk-test-reports@iol.unh.edu In-Reply-To: <20250819112521.1608207-2-bruce.richardson@intel.com> References: <20250819112521.1608207-2-bruce.richardson@intel.com> Content-Type: text/plain X-BeenThere: test-report@dpdk.org X-Mailman-Version: 2.1.29 Precedence: list List-Id: automatic DPDK test reports List-Unsubscribe: , List-Archive: List-Post: List-Help: List-Subscribe: , Errors-To: test-report-bounces@dpdk.org Test-Label: iol-unit-amd64-testing Test-Status: SUCCESS http://dpdk.org/patch/156001 _Testing PASS_ Submitter: Bruce Richardson Date: Tuesday, August 19 2025 11:25:21 DPDK git baseline: Repo:dpdk Branch: master CommitID:38543d33bd47fc0ee21f59db80a8763620741879 156000-156001 --> testing pass Upstream job id: Generic-VM-Unit-Test-DPDK#30610 Test environment and result as below: +-------------------------------+----------------+ | Environment | dpdk_unit_test | +===============================+================+ | CentOS Stream 9 | PASS | +-------------------------------+----------------+ | Fedora Linux 40 | PASS | +-------------------------------+----------------+ | Fedora Linux 41 | PASS | +-------------------------------+----------------+ | Debian GNU/Linux 12 | PASS | +-------------------------------+----------------+ | Fedora Linux 42 | PASS | +-------------------------------+----------------+ | CentOS Stream 10 | PASS | +-------------------------------+----------------+ | Red Hat Enterprise Linux 8.10 | PASS | +-------------------------------+----------------+ | Ubuntu 22.04 | PASS | +-------------------------------+----------------+ | Ubuntu 24.04 | PASS | +-------------------------------+----------------+ | Ubuntu 20.04 | PASS | +-------------------------------+----------------+ | Red Hat Enterprise Linux 9.5 | PASS | +-------------------------------+----------------+ | Windows Server 2022 | PASS | +-------------------------------+----------------+ CentOS Stream 9 Kernel: 5.15 Compiler: gcc gcc (GCC) 11.5.0 20240719 (Red Hat 11.5.0-7) Fedora Linux 40 Kernel: 5.15 Compiler: clang gcc (GCC) 14.2.1 20240912 (Red Hat 14.2.1-3) Fedora Linux 41 Kernel: 5.15 Compiler: gcc gcc (GCC) 14.3.1 20250523 (Red Hat 14.3.1-1) Debian GNU/Linux 12 Kernel: 5.15 Compiler: gcc gcc (Debian 12.2.0-14+deb12u1) 12.2.0 Fedora Linux 42 Kernel: 5.15 Compiler: gcc gcc (GCC) 15.1.1 20250521 (Red Hat 15.1.1-2) CentOS Stream 10 Kernel: 5.15 Compiler: gcc gcc (GCC) 14.2.1 20250110 (Red Hat 14.2.1-8) Red Hat Enterprise Linux 8.10 Kernel: 5.15 Compiler: gcc gcc (GCC) 8.5.0 20210514 (Red Hat 8.5.0-22) Ubuntu 22.04 Kernel: 5.15 Compiler: gcc gcc (Ubuntu 11.4.0-1ubuntu1~22.04) 11.4.0 Ubuntu 24.04 Kernel: 5.15 Compiler: gcc gcc (Ubuntu 13.3.0-6ubuntu2~24.04) 13.3.0 Ubuntu 20.04 Kernel: 5.15 Compiler: gcc gcc (Ubuntu 9.4.0-1ubuntu1~20.04.2) 9.4.0 Red Hat Enterprise Linux 9.5 Kernel: 5.15 Compiler: gcc gcc (GCC) 11.5.0 20240719 (Red Hat 11.5.0-2) Windows Server 2022 Kernel: 10.0.20348.2031 Compiler: clang 15.0.7, gcc 14.1.0 (MinGW), and MSVC VS 19.39.33521 To view detailed results, visit: https://lab.dpdk.org/results/dashboard/patchsets/33905/ UNH-IOL DPDK Community Lab To manage your email subscriptions, visit: https://lab.dpdk.org/results/dashboard/preferences/subscriptions/