From mboxrd@z Thu Jan 1 00:00:00 1970 Return-Path: Received: from mails.dpdk.org (mails.dpdk.org [217.70.189.124]) by inbox.dpdk.org (Postfix) with ESMTP id 61C3846D69 for ; Wed, 20 Aug 2025 00:06:35 +0200 (CEST) Received: from mails.dpdk.org (localhost [127.0.0.1]) by mails.dpdk.org (Postfix) with ESMTP id 5B90B40151; Wed, 20 Aug 2025 00:06:35 +0200 (CEST) Received: from mail-pg1-f225.google.com (mail-pg1-f225.google.com [209.85.215.225]) by mails.dpdk.org (Postfix) with ESMTP id ED99B40151 for ; Wed, 20 Aug 2025 00:06:33 +0200 (CEST) Received: by mail-pg1-f225.google.com with SMTP id 41be03b00d2f7-b47174c3817so4258911a12.2 for ; Tue, 19 Aug 2025 15:06:33 -0700 (PDT) DKIM-Signature: v=1; a=rsa-sha256; c=relaxed/relaxed; d=iol.unh.edu; s=unh-iol; t=1755641193; x=1756245993; darn=dpdk.org; h=references:in-reply-to:cc:to:from:subject:message-id:date:from:to :cc:subject:date:message-id:reply-to; bh=I/d+Uw9GiymO7IUbUWx8znQLZf7dQiLOfcMxmjWJYRA=; b=OGGnYn1Srxwjnf+vPTS/VZrBz/nM4J5xurzMpWQ5SNCvWyyJ53eJyhsqB6yglOrzi4 RweJkIkGFP0LxJQGRSuYDbMybX6lc30wj5BTc6I/euDZqBy/EafuFHS8OZY6f9DFCZn7 ukA4N21tC/VHDuob6W9xpgMO1MaIS/yTETVLI= X-Google-DKIM-Signature: v=1; a=rsa-sha256; c=relaxed/relaxed; d=1e100.net; s=20230601; t=1755641193; x=1756245993; h=references:in-reply-to:cc:to:from:subject:message-id:date :x-gm-message-state:from:to:cc:subject:date:message-id:reply-to; bh=I/d+Uw9GiymO7IUbUWx8znQLZf7dQiLOfcMxmjWJYRA=; b=RGfm8EHvPFM9ql70Y5v1XHdlS0yPC6qI/nJmmYFSMEWmHeUqy3fKcFZTJXSxoKtUha 2/fBR8Gjw2k2GKVHNq6OdaUnwRPTuDd8AwM9H7WjgZHSNHZ1K1ASex0Ed2CpcqMpPY/W EPtnK9W7KciYptVv8L6RXibbXh4AZvkk6g9fOhLxNs4t3EiPkqA6LT5HQKftgR0JKMU4 uSoujExBwZX1zl1xq+YxhGUusZHM/+zkzrExEhCnqyPkdI9ZSidOKI4M0zxZhYCglyi0 5uOQgMOqZqjQ4dXXJGnqhWXBBK+wK+jQ08UJqmLVThRvW7pTbyL189M6eWNZ2zEYT+V5 aFaQ== X-Gm-Message-State: AOJu0YxFB2Vx/Rnu/b1r5zV9reEhziQBi1X1SqRpj50JWIwiIXrsIboT JVoamW7Uwokmo+mUq7x1M/+HMHLCaEFf892tUbVLCWVR9RMcrwivdOPoHlCy3c8LRiJxdruDb6u JUY7JyG+6ls6qdyxCZJLZtNxiqL9MeDHbvm2L75oYFxVP X-Gm-Gg: ASbGncvTZJyly5gaCNkx90vvGZTszBooJflhLvMpjqf203JdQVSeaQUG3SOM2x8jAxZ dOf9FVSXl7cx/MUwfgjEDhDOVgZggEp/lyGYmG81+jIODPsPG78LAfdcaxFUttdWS7zt4wrlV9b Fab0DiBpMil/IAmxIV8JgFR0XZnb67aKiY/bN70BtbOW8Lox1UrwPtAzQEei3t/4pu0DgEkwfQ6 0s0xNhpOeDQk20kZsaIT/f9HKq41rEzCDFI2ip+CN5ddYLclN0Eq3QwEejkZUw46sJkPTymB+8d xbcv1QU4yrI/f75tfjp9MFfqD0646Z268fqCuJldzZhGvw1B4SPMV8f5VV9Dimsr1xRPAlQh X-Google-Smtp-Source: AGHT+IHnGHgOhj0INex9vtU01SKVOIwaTAq8wyFD6pQvrBJiy/khuSKdQK/1JX+HPspUGzkjZleNkrjCk6pt X-Received: by 2002:a17:903:1c3:b0:23f:c005:eab0 with SMTP id d9443c01a7336-245ef24ce2fmr6217365ad.40.1755641193070; Tue, 19 Aug 2025 15:06:33 -0700 (PDT) Received: from postal.iol.unh.edu (postal.iol.unh.edu. [132.177.123.84]) by smtp-relay.gmail.com with ESMTPS id d9443c01a7336-245ed3652f7sm780825ad.36.2025.08.19.15.06.32 (version=TLS1_2 cipher=ECDHE-ECDSA-AES128-GCM-SHA256 bits=128/128); Tue, 19 Aug 2025 15:06:33 -0700 (PDT) X-Relaying-Domain: iol.unh.edu Date: Tue, 19 Aug 2025 15:06:33 -0700 (PDT) Message-ID: <68a4f569.170a0220.162cad.4bfbSMTPIN_ADDED_MISSING@mx.google.com> Received: from [172.21.0.2] (unknown [172.18.0.240]) by postal.iol.unh.edu (Postfix) with ESMTP id 615C7604D420; Tue, 19 Aug 2025 18:06:32 -0400 (EDT) Subject: |SUCCESS| pw155982 [PATCH] [v5,1/1] ethdev: add support to provide l From: dpdklab@iol.unh.edu To: Test Report Cc: dpdk-test-reports@iol.unh.edu In-Reply-To: <20250819055126.2745262-1-skori@marvell.com> References: <20250819055126.2745262-1-skori@marvell.com> Content-Type: text/plain X-BeenThere: test-report@dpdk.org X-Mailman-Version: 2.1.29 Precedence: list List-Id: automatic DPDK test reports List-Unsubscribe: , List-Archive: List-Post: List-Help: List-Subscribe: , Errors-To: test-report-bounces@dpdk.org Test-Label: iol-unit-arm64-testing Test-Status: SUCCESS http://dpdk.org/patch/155982 _Testing PASS_ Submitter: Sunil Kumar Kori Date: Tuesday, August 19 2025 05:51:06 DPDK git baseline: Repo:dpdk Branch: master CommitID:6df5b211fae053219163a3eb301b26198974fb73 155982 --> testing pass Upstream job id: Generic-Unit-Test-DPDK#363848 Test environment and result as below: +------------------------------+---------------------------+------------------------------+----------------+--------------+ | Environment | cryptodev_sw_zuc_autotest | cryptodev_sw_snow3g_autotest | dpdk_unit_test | lpm_autotest | +==============================+===========================+==============================+================+==============+ | Debian 12 (arm) | PASS | PASS | SKIPPED | SKIPPED | +------------------------------+---------------------------+------------------------------+----------------+--------------+ | CentOS Stream 10 | SKIPPED | SKIPPED | PASS | SKIPPED | +------------------------------+---------------------------+------------------------------+----------------+--------------+ | CentOS Stream 9 | SKIPPED | SKIPPED | PASS | SKIPPED | +------------------------------+---------------------------+------------------------------+----------------+--------------+ | Debian GNU/Linux 12 | SKIPPED | SKIPPED | PASS | SKIPPED | +------------------------------+---------------------------+------------------------------+----------------+--------------+ | Fedora Linux 40 | SKIPPED | SKIPPED | PASS | SKIPPED | +------------------------------+---------------------------+------------------------------+----------------+--------------+ | Fedora Linux 41 | SKIPPED | SKIPPED | PASS | SKIPPED | +------------------------------+---------------------------+------------------------------+----------------+--------------+ | Fedora Linux 42 | SKIPPED | SKIPPED | PASS | SKIPPED | +------------------------------+---------------------------+------------------------------+----------------+--------------+ | Ubuntu 20.04 | SKIPPED | SKIPPED | PASS | PASS | +------------------------------+---------------------------+------------------------------+----------------+--------------+ | Red Hat Enterprise Linux 9.5 | SKIPPED | SKIPPED | PASS | SKIPPED | +------------------------------+---------------------------+------------------------------+----------------+--------------+ | Ubuntu 24.04 | SKIPPED | SKIPPED | PASS | SKIPPED | +------------------------------+---------------------------+------------------------------+----------------+--------------+ | Ubuntu 22.04 | SKIPPED | SKIPPED | PASS | SKIPPED | +------------------------------+---------------------------+------------------------------+----------------+--------------+ Debian 12 (arm) Kernel: Depends on container host Compiler: gcc (Debian 12.2.0-14) 12.2.0 CentOS Stream 10 Kernel: 5.4 Compiler: gcc gcc (GCC) 14.2.1 20250110 (Red Hat 14.2.1-8) CentOS Stream 9 Kernel: 5.4 Compiler: gcc gcc (GCC) 11.5.0 20240719 (Red Hat 11.5.0-7) Debian GNU/Linux 12 Kernel: 5.4 Compiler: gcc gcc (Debian 12.2.0-14+deb12u1) 12.2.0 Fedora Linux 40 Kernel: 5.4 Compiler: gcc gcc (GCC) 14.2.1 20240912 (Red Hat 14.2.1-3) Fedora Linux 41 Kernel: 5.4 Compiler: clang gcc (GCC) 14.3.1 20250523 (Red Hat 14.3.1-1) Fedora Linux 42 Kernel: 5.4 Compiler: clang gcc (GCC) 15.1.1 20250521 (Red Hat 15.1.1-2) Ubuntu 20.04 Kernel: 5.4 Compiler: gcc gcc (Ubuntu 9.4.0-1ubuntu1~20.04.2) 9.4.0 Red Hat Enterprise Linux 9.5 Kernel: 5.4 Compiler: gcc gcc (GCC) 11.5.0 20240719 (Red Hat 11.5.0-2) Ubuntu 24.04 Kernel: 5.4 Compiler: gcc gcc (Ubuntu 13.3.0-6ubuntu2~24.04) 13.3.0 Ubuntu 22.04 Kernel: 5.4 Compiler: gcc gcc (Ubuntu 11.4.0-1ubuntu1~22.04) 11.4.0 To view detailed results, visit: https://lab.dpdk.org/results/dashboard/patchsets/33902/ UNH-IOL DPDK Community Lab To manage your email subscriptions, visit: https://lab.dpdk.org/results/dashboard/preferences/subscriptions/