From mboxrd@z Thu Jan 1 00:00:00 1970 Return-Path: Received: from mails.dpdk.org (mails.dpdk.org [217.70.189.124]) by inbox.dpdk.org (Postfix) with ESMTP id 8616C46D8B for ; Thu, 21 Aug 2025 18:12:29 +0200 (CEST) Received: from mails.dpdk.org (localhost [127.0.0.1]) by mails.dpdk.org (Postfix) with ESMTP id 80AB0402B1; Thu, 21 Aug 2025 18:12:29 +0200 (CEST) Received: from mail-qk1-f228.google.com (mail-qk1-f228.google.com [209.85.222.228]) by mails.dpdk.org (Postfix) with ESMTP id 20FAA402B1 for ; Thu, 21 Aug 2025 18:12:28 +0200 (CEST) Received: by mail-qk1-f228.google.com with SMTP id af79cd13be357-7e8704c52b3so128339485a.1 for ; Thu, 21 Aug 2025 09:12:28 -0700 (PDT) DKIM-Signature: v=1; a=rsa-sha256; c=relaxed/relaxed; d=iol.unh.edu; s=unh-iol; t=1755792747; x=1756397547; darn=dpdk.org; h=references:in-reply-to:cc:to:from:subject:message-id:date:from:to :cc:subject:date:message-id:reply-to; bh=ph6NorSRlI99TPefKGJ8M5jxaSHCdPw8XFMfG0HH38A=; b=ImDKnT34ZyDrBnHNGjoGCPuQlkg2NJXMLeoFe6suMsRGOy4n6zeW0TgpSWceb0Vuzi fpK2w2s5Gyj5v7jJC1oxpKlZkbLycxATZTq9vuYHrVzDIJeLvAx8HiuH95mowWjVRXj8 g7HqWm+OcHOaLVdlmJDZN8bkS4c0NrGZ7SKL4= X-Google-DKIM-Signature: v=1; a=rsa-sha256; c=relaxed/relaxed; d=1e100.net; s=20230601; t=1755792747; x=1756397547; h=references:in-reply-to:cc:to:from:subject:message-id:date :x-gm-message-state:from:to:cc:subject:date:message-id:reply-to; bh=ph6NorSRlI99TPefKGJ8M5jxaSHCdPw8XFMfG0HH38A=; b=I1R5IWF2hhQn0wx8iePXpgy2Pe9sXr//N0TxA3k2hPfEg9kPU1g39EH7WCuKrfJVnz RwcDyrpaK26IhO3Z9bqZo9QGdbZNAW7DSXfBeJwQcimmkMF5pIfZ/Zy9XS1qle4yNMrA 7Udc6Tkhqb4SlXbtE9xf5YoqWhFpN3RArelWVUJ0ElxMGmSKYWYCZekQVOctd6qR61Jy OklupJOrZPuoMjXlMOSnkjgdRftyvdoUeXrPO8lXQb3TuBv+Yghca9ATPK1yjPeVZNJd DuiNI+CCWqfoelJTjwkEvoZbbpSV0D8h+lge9VlYuslddH+w9KcdDJ8t8U41YoMwnFFN mpLg== X-Gm-Message-State: AOJu0Yy3YVUqS3iNSsr7mP4mqu3Kw5Ov6VQ+O7jvIyV8wtkTYqwy9ywf 3dfXSBZgHM7xL8IJ6R2eIYEaINBbgW0bCcgBLOUp/88VR5mFOzAuVwsFwIBHRYce/5TftIFlBfV uPuPjD4d7ftElZA8bbDqRzxgf3xtf94cchSMhfbvU5QZblfBMjau0JNo1YMgH X-Gm-Gg: ASbGnct80Ow7QsweNMTvuDG9QcXpMY+j4KBRzcX6Kbkt/VKy9wxHm/AIm0qYAUdvg6g KzOUchL9L/BJPbMsKCpB0XTxgAZ1/l0M85OKhi/J96o2tzmKtPDN/MFm/MVbuHnNDCfqzkVc70p NEf9JlXH/Kr7R4M9scTMX2lYYnTf4VUQIM36dN+weYqitLDOUvf5QJDqv74aP3RLZK+jmy+J9ZS 6bpBz+wETpBMk5wOmjxY0txVrsCljKZ1JIE7r8QDysZnXUxOspm2pMm0TrKlvmT7YNYp312RY2V lEpx5WesVjWxWNG6wF2FTyqLHsHAg3DRQ87zo3HTFIDFljKYxg== X-Google-Smtp-Source: AGHT+IHf0FA0eryvZRWulBYeHAAhID7extIODetm0pSRvWdce16+3/7eu/mvNJRIF3stTgB+BFJdz4YKKEYh X-Received: by 2002:a05:620a:ac02:b0:7ea:1069:2c8d with SMTP id af79cd13be357-7ea10692caamr52259785a.46.1755792743825; Thu, 21 Aug 2025 09:12:23 -0700 (PDT) Received: from postal.iol.unh.edu (postal.iol.unh.edu. [2606:4100:3880:1234::84]) by smtp-relay.gmail.com with ESMTPS id 6a1803df08f44-70ba9061ba5sm10388776d6.13.2025.08.21.09.12.23 (version=TLS1_2 cipher=ECDHE-ECDSA-AES128-GCM-SHA256 bits=128/128); Thu, 21 Aug 2025 09:12:23 -0700 (PDT) X-Relaying-Domain: iol.unh.edu Date: Thu, 21 Aug 2025 09:12:23 -0700 (PDT) Message-ID: <68a74567.d40a0220.26fa6.496dSMTPIN_ADDED_MISSING@mx.google.com> Received: from [172.21.0.12] (unknown [172.18.0.240]) by postal.iol.unh.edu (Postfix) with ESMTP id 8346F604D420; Thu, 21 Aug 2025 12:12:23 -0400 (EDT) Subject: |SUCCESS| pw156013 [PATCH] devtools: ignore new warnings on reported From: dpdklab@iol.unh.edu To: Test Report Cc: dpdk-test-reports@iol.unh.edu In-Reply-To: <20250820095050.1090859-1-dsosnowski@nvidia.com> References: <20250820095050.1090859-1-dsosnowski@nvidia.com> Content-Type: text/plain X-BeenThere: test-report@dpdk.org X-Mailman-Version: 2.1.29 Precedence: list List-Id: automatic DPDK test reports List-Unsubscribe: , List-Archive: List-Post: List-Help: List-Subscribe: , Errors-To: test-report-bounces@dpdk.org Test-Label: iol-compile-amd64-testing Test-Status: SUCCESS http://dpdk.org/patch/156013 _Testing PASS_ Submitter: Dariusz Sosnowski Date: Wednesday, August 20 2025 09:50:50 DPDK git baseline: Repo:dpdk Branch: master CommitID:38543d33bd47fc0ee21f59db80a8763620741879 156013 --> testing pass Upstream job id: Windows-Compile-DPDK-Native#30471 Test environment and result as below: +---------------------+--------------------+-------------------+-------------------------+ | Environment | dpdk_meson_compile | dpdk_msvc_compile | dpdk_llvm_clang_compile | +=====================+====================+===================+=========================+ | Ubuntu 20.04 | PASS | SKIPPED | SKIPPED | +---------------------+--------------------+-------------------+-------------------------+ | FreeBSD 14.2 | PASS | SKIPPED | SKIPPED | +---------------------+--------------------+-------------------+-------------------------+ | Windows Server 2022 | SKIPPED | PASS | PASS | +---------------------+--------------------+-------------------+-------------------------+ Ubuntu 20.04 Kernel: 4.19 Compiler: gcc gcc (Ubuntu 9.4.0-1ubuntu1~20.04.2) 9.4.0 FreeBSD 14.2 Kernel: 14.2-RELEASE Compiler: clang 18.1.6 Windows Server 2022 Kernel: 10.0.20348.2031 Compiler: clang 15.0.7, gcc 14.1.0 (MinGW), and MSVC VS 19.39.33521 To view detailed results, visit: https://lab.dpdk.org/results/dashboard/patchsets/33917/ UNH-IOL DPDK Community Lab To manage your email subscriptions, visit: https://lab.dpdk.org/results/dashboard/preferences/subscriptions/