From mboxrd@z Thu Jan 1 00:00:00 1970 Return-Path: Received: from mails.dpdk.org (mails.dpdk.org [217.70.189.124]) by inbox.dpdk.org (Postfix) with ESMTP id 265DB46F09 for ; Tue, 16 Sep 2025 04:31:57 +0200 (CEST) Received: from mails.dpdk.org (localhost [127.0.0.1]) by mails.dpdk.org (Postfix) with ESMTP id 0A3E14025A; Tue, 16 Sep 2025 04:31:57 +0200 (CEST) Received: from mail-qv1-f99.google.com (mail-qv1-f99.google.com [209.85.219.99]) by mails.dpdk.org (Postfix) with ESMTP id 8482B4025A for ; Tue, 16 Sep 2025 04:31:55 +0200 (CEST) Received: by mail-qv1-f99.google.com with SMTP id 6a1803df08f44-77d253914d0so14986696d6.0 for ; Mon, 15 Sep 2025 19:31:55 -0700 (PDT) DKIM-Signature: v=1; a=rsa-sha256; c=relaxed/relaxed; d=iol.unh.edu; s=unh-iol; t=1757989915; x=1758594715; darn=dpdk.org; h=references:in-reply-to:cc:to:from:subject:message-id:date:from:to :cc:subject:date:message-id:reply-to; bh=5rURxPk3/i+xwUlYjUzrtP/FrXRGmH/n5PFGgbpQZvQ=; b=W/j1G9QAQzLBs4WqjjtnyaWs9p5W4zumO3fH+9Flg0RvcS/AQaCgn/tAUFDYAyYtuy pOZ7ZmgKShcrVVm1ol+xvQSxZpD85AutY8q7DPEqt4wO8bX4bm4xD/D+H4BS9WyWghY1 WcWfqwb/VgTUAMUNrSXPXnxmhXF/3VYttq1J0= X-Google-DKIM-Signature: v=1; a=rsa-sha256; c=relaxed/relaxed; d=1e100.net; s=20230601; t=1757989915; x=1758594715; h=references:in-reply-to:cc:to:from:subject:message-id:date :x-gm-message-state:from:to:cc:subject:date:message-id:reply-to; bh=5rURxPk3/i+xwUlYjUzrtP/FrXRGmH/n5PFGgbpQZvQ=; b=RNmQ35wkB3q3F+VJaXbfPV+0XpUrytOkXfrlcnaJmWVX7DAT4HU6SfGFpGUl/5dTBy SNRJERT6dCrddNnsYsh5uk/OhSaSzzljNDpXYv67Vk8rDtKbHdcEbR8lf8SMwNzn+xEk QZyBiZlsSXYTNgDdwhywhBUK2f8aOoVOcJKaiKo1fkD6+5Drsl104x5U/ul8tPN8HKdP y01evFEPSv+3UjqH3j2mgVURH3BukuaXAsM5hNmRBIxeodnnc5dJo4Kum8lqAyO/fjSr LrdsGv0wZQyW92vE72QaexLxZoqD8RGf/AGy+3JehCCszIfBqtVd2hmjjFLRqGCZoIao ghaQ== X-Gm-Message-State: AOJu0YzwQyl9D1chQ/UwiC1JeMogg9yo/dr+KuozFWF5KaNehBZuRqhz xJVLW0e277fdtpbIeagN+JDrSBGYFy4PZdNv8hcV+WCNXY0bNeIvLVWMVHNwl2Q+V5wIE+zDf06 TlY8F6VoQNa5LTy2CnINF9awy6a+m6yjXjCB3CzK9GJ7Uxq/mM92JhRYcvSjB X-Gm-Gg: ASbGncvNqrwy+y2j1nWDnBnUUXhE2SuH1PAEOfIq/4P3z6v9aj1jpN81qRyH7txSOo7 yK/kY1e9bljXFzQQE6VQTX19UcVd+VJk5NoUjqZ50RzRaixpTkg3Sfxkm4nGviPBFRntjHcvt8l H2FNrBmpijQbe/UTnbWQ4HXw/M2PmCD39YeB9eYft4vPgYOppoMpykVvCbsP8Tm0PjejjkSBL4v JkABnkofzr+1zFSSDGvdTfYm/NA751RIZGUaLz+pIQfAGtGIqFA9DIGAL9FShp8y6UBtGM96gb8 sW5M7BKDPopbudNfZ6NJjObSFsyizIhKIGTp6PQQ3HEwPhG5Gg== X-Google-Smtp-Source: AGHT+IGzFvDk+/gP30/HhvZcFyHiRcgZmtAwnda2YTSen1cuc0ZRuuR9aGpQvLLrDN4nW9xUCyUOhFmW8R5f X-Received: by 2002:a0c:f054:0:b0:78d:304d:2ed with SMTP id 6a1803df08f44-78d304d03ccmr11436496d6.41.1757989914726; Mon, 15 Sep 2025 19:31:54 -0700 (PDT) Received: from postal.iol.unh.edu (postal.iol.unh.edu. [2606:4100:3880:1234::84]) by smtp-relay.gmail.com with ESMTPS id 6a1803df08f44-763be2f67c4sm10948386d6.36.2025.09.15.19.31.54 (version=TLS1_2 cipher=ECDHE-ECDSA-AES128-GCM-SHA256 bits=128/128); Mon, 15 Sep 2025 19:31:54 -0700 (PDT) X-Relaying-Domain: iol.unh.edu Date: Mon, 15 Sep 2025 19:31:54 -0700 (PDT) Message-ID: <68c8cc1a.d40a0220.3c7066.1298SMTPIN_ADDED_MISSING@mx.google.com> Received: from [172.21.0.2] (unknown [172.18.0.240]) by postal.iol.unh.edu (Postfix) with ESMTP id 62CFF6051830; Mon, 15 Sep 2025 22:31:54 -0400 (EDT) Subject: |SUCCESS| pw156623 [PATCH] [1/1] ring: safe partial ordering for hea From: dpdklab@iol.unh.edu To: Test Report Cc: dpdk-test-reports@iol.unh.edu In-Reply-To: <20250915185451.533039-2-wathsala.vithanage@arm.com> References: <20250915185451.533039-2-wathsala.vithanage@arm.com> Content-Type: text/plain X-BeenThere: test-report@dpdk.org X-Mailman-Version: 2.1.29 Precedence: list List-Id: automatic DPDK test reports List-Unsubscribe: , List-Archive: List-Post: List-Help: List-Subscribe: , Errors-To: test-report-bounces@dpdk.org Test-Label: iol-compile-arm64-testing Test-Status: SUCCESS http://dpdk.org/patch/156623 _Testing PASS_ Submitter: Wathsala Vithanage Date: Monday, September 15 2025 18:54:50 DPDK git baseline: Repo:dpdk Branch: master CommitID:4159ea62922ce41566c7bab44655ad78bee85458 156623 --> testing pass Upstream job id: Generic-DPDK-Compile-Meson#425596 Test environment and result as below: +------------------------------+--------------------+ | Environment | dpdk_meson_compile | +==============================+====================+ | Ubuntu 20.04 | PASS | +------------------------------+--------------------+ | Red Hat Enterprise Linux 9.5 | PASS | +------------------------------+--------------------+ | Fedora Linux 42 | PASS | +------------------------------+--------------------+ | Debian GNU/Linux 12 | PASS | +------------------------------+--------------------+ | Ubuntu 22.04 | PASS | +------------------------------+--------------------+ | Ubuntu 24.04 | PASS | +------------------------------+--------------------+ | CentOS Stream 9 | PASS | +------------------------------+--------------------+ | CentOS Stream 10 | PASS | +------------------------------+--------------------+ Ubuntu 20.04 Kernel: 5.15 Compiler: aarch64-linux-gnu-gcc gcc (Ubuntu 9.4.0-1ubuntu1~20.04.2) 9.4.0 Red Hat Enterprise Linux 9.5 Kernel: 5.4 Compiler: gcc gcc (GCC) 11.5.0 20240719 (Red Hat 11.5.0-2) Fedora Linux 42 Kernel: 5.4 Compiler: gcc gcc (GCC) 15.2.1 20250808 (Red Hat 15.2.1-1) Debian GNU/Linux 12 Kernel: 5.4 Compiler: gcc gcc (Debian 12.2.0-14+deb12u1) 12.2.0 Ubuntu 22.04 Kernel: 5.4 Compiler: gcc gcc (Ubuntu 11.4.0-1ubuntu1~22.04) 11.4.0 Ubuntu 24.04 Kernel: 5.4 Compiler: gcc gcc (Ubuntu 13.3.0-6ubuntu2~24.04) 13.3.0 CentOS Stream 9 Kernel: 5.4 Compiler: gcc gcc (GCC) 11.5.0 20240719 (Red Hat 11.5.0-11) CentOS Stream 10 Kernel: 5.4 Compiler: gcc gcc (GCC) 14.2.1 20250110 (Red Hat 14.2.1-8) To view detailed results, visit: https://lab.dpdk.org/results/dashboard/patchsets/34074/ UNH-IOL DPDK Community Lab To manage your email subscriptions, visit: https://lab.dpdk.org/results/dashboard/preferences/subscriptions/