From mboxrd@z Thu Jan 1 00:00:00 1970 Return-Path: Received: from mails.dpdk.org (mails.dpdk.org [217.70.189.124]) by inbox.dpdk.org (Postfix) with ESMTP id 9F1D446F09 for ; Tue, 16 Sep 2025 17:06:06 +0200 (CEST) Received: from mails.dpdk.org (localhost [127.0.0.1]) by mails.dpdk.org (Postfix) with ESMTP id 82BDC402E0; Tue, 16 Sep 2025 17:06:06 +0200 (CEST) Received: from mail-oa1-f97.google.com (mail-oa1-f97.google.com [209.85.160.97]) by mails.dpdk.org (Postfix) with ESMTP id 4861C402E0 for ; Tue, 16 Sep 2025 17:06:05 +0200 (CEST) Received: by mail-oa1-f97.google.com with SMTP id 586e51a60fabf-3305aceab00so4764529fac.2 for ; Tue, 16 Sep 2025 08:06:05 -0700 (PDT) DKIM-Signature: v=1; a=rsa-sha256; c=relaxed/relaxed; d=iol.unh.edu; s=unh-iol; t=1758035164; x=1758639964; darn=dpdk.org; h=references:in-reply-to:cc:to:from:subject:message-id:date:from:to :cc:subject:date:message-id:reply-to; bh=rF3ozYTbVOfg7atz8nC+9pzH17l4oURStcgkMcFsEQU=; b=Crxuh9jLnaYtW3/3pCpddBFJCPDkMXkoluCJOTfFKw+5hJdtPRJ7tBiQuZ5+osSQ+i z32pk2Byy01iMUfLUj/p10Dt4LiRANnASn9YM9FtYNdrsUj+AjBs4KLswxX2MRGrnu9j +6NhlcW8tBFSQECELzmELbpsrRgF122Ip0YU8= X-Google-DKIM-Signature: v=1; a=rsa-sha256; c=relaxed/relaxed; d=1e100.net; s=20230601; t=1758035164; x=1758639964; h=references:in-reply-to:cc:to:from:subject:message-id:date :x-gm-message-state:from:to:cc:subject:date:message-id:reply-to; bh=rF3ozYTbVOfg7atz8nC+9pzH17l4oURStcgkMcFsEQU=; b=vnoVmtPxHLFkgvJiRHwsIE6axpWBJW2zvpQeB6ld/520kzqdJDPvnS85zAKP18cZAI VPDzq9ryBDb1stzRucC/QlwUMADHtlN3Ccb2B86kCP5n9rJixZAaWDlCWNK31lLAtIdS IA7G8irdsk7ypjbTiVWljGqoeyvBtIix3TANGi8mGf9fz/PSS+yW3+eEMOQlY95FjiXZ q5CwotsGIyC3q0IMqJmjLhfXXbyqtvhY1jcrlplIkKHDS99ILwhmh/eUrvuM80FPUt14 FSN9EcTBzieHTfO9GMeEn1/u0CFkblA2aC5wDzczLkjZOQ6PXedyjkA24MhXb3w2Eh3d pHFw== X-Gm-Message-State: AOJu0YwyRqPYa8r5ldJ7ngy2sLVA3VUOYa8Uc3DuCo+9gJ9jTaW39Cee zLmr9FSrKJ5lyPhm5eld4rDKpzBFL/5Qdb8MOOD0Vc5TR4c4/tv22ul8qR/TLVR+oktu/KCju29 zlFPr5je+xa88L/hmcapRSNLY7L0IinNcV3DGYjt678GP5OG0XdIDhT4c2MhL X-Gm-Gg: ASbGncuyVFQAMTxDsJhTdcoepilBvSX1JpXD5yCYClZZby2G6oyvndOiC63FrzzMhwZ mKMhi2qoUKG7RuGg1YODJTofCVMOE0lHiLr2HJFuDy8pF0s98CPkXIGofdw7r25wgNaZ16BgZWR +Armg4mH5h9kPP+rj37odKQNLilj063ZyH/qgtz6BtE6cV4HekIl5vp5DTLTO0n0rY8llkhhWf5 ftLF4s+8OfxaBuI7867cJagleUtTRb116jICxhSSvxA5b4T8dFMgDMD/ztGbU8HFvw7CzoN2Fv+ +QXiY+iNnE9+0Cw9p9fMdP6Os67I5GaUGsH9he+Px6aqbq+w1A== X-Google-Smtp-Source: AGHT+IH1QEmhGHkn9DKDXWr0RVxWqnw0Znt0aJ+nPEiFJhF4cN3/KocX+uJ1D2c+8NIrZGTzxc/9b+/6oN/K X-Received: by 2002:a05:6870:8981:b0:322:4639:f397 with SMTP id 586e51a60fabf-32e58f7efc9mr9371232fac.43.1758035164527; Tue, 16 Sep 2025 08:06:04 -0700 (PDT) Received: from postal.iol.unh.edu (postal.iol.unh.edu. [2606:4100:3880:1234::84]) by smtp-relay.gmail.com with ESMTPS id 586e51a60fabf-33151309040sm782299fac.27.2025.09.16.08.06.04 (version=TLS1_2 cipher=ECDHE-ECDSA-AES128-GCM-SHA256 bits=128/128); Tue, 16 Sep 2025 08:06:04 -0700 (PDT) X-Relaying-Domain: iol.unh.edu Date: Tue, 16 Sep 2025 08:06:04 -0700 (PDT) Message-ID: <68c97cdc.050a0220.1ba11c.23d2SMTPIN_ADDED_MISSING@mx.google.com> Received: from [172.21.0.2] (unknown [172.18.0.240]) by postal.iol.unh.edu (Postfix) with ESMTP id 0ED5C604D420; Tue, 16 Sep 2025 11:06:03 -0400 (EDT) Subject: |SUCCESS| pw156626-156627 [PATCH] [2/2] net/xsc: support compressed From: dpdklab@iol.unh.edu To: Test Report Cc: dpdk-test-reports@iol.unh.edu, Stephen Hemminger In-Reply-To: <20250916100852.226649-3-wanry@yunsilicon.com> References: <20250916100852.226649-3-wanry@yunsilicon.com> Content-Type: text/plain X-BeenThere: test-report@dpdk.org X-Mailman-Version: 2.1.29 Precedence: list List-Id: automatic DPDK test reports List-Unsubscribe: , List-Archive: List-Post: List-Help: List-Subscribe: , Errors-To: test-report-bounces@dpdk.org Test-Label: iol-compile-arm64-testing Test-Status: SUCCESS http://dpdk.org/patch/156627 _Testing PASS_ Submitter: Renyong Wan Date: Tuesday, September 16 2025 10:08:54 DPDK git baseline: Repo:dpdk-next-net Branch: master CommitID:5daf52d4f67f45dcfb191bcdc1db8b6e10de5a74 156626-156627 --> testing pass Upstream job id: Generic-DPDK-Compile-Meson#425805 Test environment and result as below: +------------------------------+--------------------+ | Environment | dpdk_meson_compile | +==============================+====================+ | Ubuntu 20.04 | PASS | +------------------------------+--------------------+ | CentOS Stream 10 | PASS | +------------------------------+--------------------+ | Red Hat Enterprise Linux 9.5 | PASS | +------------------------------+--------------------+ | Debian GNU/Linux 12 | PASS | +------------------------------+--------------------+ | Fedora Linux 42 | PASS | +------------------------------+--------------------+ | Ubuntu 24.04 | PASS | +------------------------------+--------------------+ | Ubuntu 22.04 | PASS | +------------------------------+--------------------+ | CentOS Stream 9 | PASS | +------------------------------+--------------------+ Ubuntu 20.04 Kernel: 5.4 Compiler: gcc gcc (Ubuntu 9.4.0-1ubuntu1~20.04.2) 9.4.0 CentOS Stream 10 Kernel: 5.4 Compiler: gcc gcc (GCC) 14.2.1 20250110 (Red Hat 14.2.1-8) Red Hat Enterprise Linux 9.5 Kernel: 5.4 Compiler: gcc gcc (GCC) 11.5.0 20240719 (Red Hat 11.5.0-2) Debian GNU/Linux 12 Kernel: 5.4 Compiler: gcc gcc (Debian 12.2.0-14+deb12u1) 12.2.0 Fedora Linux 42 Kernel: 5.4 Compiler: gcc gcc (GCC) 15.2.1 20250808 (Red Hat 15.2.1-1) Ubuntu 24.04 Kernel: 5.4 Compiler: gcc gcc (Ubuntu 13.3.0-6ubuntu2~24.04) 13.3.0 Ubuntu 22.04 Kernel: 5.4 Compiler: gcc gcc (Ubuntu 11.4.0-1ubuntu1~22.04) 11.4.0 CentOS Stream 9 Kernel: 5.4 Compiler: gcc gcc (GCC) 11.5.0 20240719 (Red Hat 11.5.0-11) To view detailed results, visit: https://lab.dpdk.org/results/dashboard/patchsets/34076/ UNH-IOL DPDK Community Lab To manage your email subscriptions, visit: https://lab.dpdk.org/results/dashboard/preferences/subscriptions/