From mboxrd@z Thu Jan 1 00:00:00 1970 Return-Path: Received: from mails.dpdk.org (mails.dpdk.org [217.70.189.124]) by inbox.dpdk.org (Postfix) with ESMTP id 6B7A646F47 for ; Fri, 19 Sep 2025 14:27:55 +0200 (CEST) Received: from mails.dpdk.org (localhost [127.0.0.1]) by mails.dpdk.org (Postfix) with ESMTP id 65F624028F; Fri, 19 Sep 2025 14:27:55 +0200 (CEST) Received: from mail-pf1-f226.google.com (mail-pf1-f226.google.com [209.85.210.226]) by mails.dpdk.org (Postfix) with ESMTP id 6DACF4028F for ; Fri, 19 Sep 2025 14:27:53 +0200 (CEST) Received: by mail-pf1-f226.google.com with SMTP id d2e1a72fcca58-77d24db67e0so1663419b3a.3 for ; Fri, 19 Sep 2025 05:27:53 -0700 (PDT) DKIM-Signature: v=1; a=rsa-sha256; c=relaxed/relaxed; d=iol.unh.edu; s=unh-iol; t=1758284872; x=1758889672; darn=dpdk.org; h=references:in-reply-to:cc:to:from:subject:message-id:date:from:to :cc:subject:date:message-id:reply-to; bh=oKkEojADVH+x18NhaqDVegx2Tdh5aY0/cXNfzNSaW5Y=; b=NKJoZ8W5OCRe41Y462aafdko6ASCzGc04DCsQ5naO9ArUxwKYYbMf95QIAoLX6LgD/ FuaZkXrd5xW9iuVnHwhvg8iyr4pQGqdVFVHqUEHKLS1H49G4X0rWFOBWnAuoODVH9pfv eb6/pbyVfWtbMxQt94AurG1xjw4bqOaG8NCKg= X-Google-DKIM-Signature: v=1; a=rsa-sha256; c=relaxed/relaxed; d=1e100.net; s=20230601; t=1758284872; x=1758889672; h=references:in-reply-to:cc:to:from:subject:message-id:date :x-gm-message-state:from:to:cc:subject:date:message-id:reply-to; bh=oKkEojADVH+x18NhaqDVegx2Tdh5aY0/cXNfzNSaW5Y=; b=iJzuG9iz3WZDy6d8NUlKXK5kDCtcDkRIKr/IEw/qYtYrov42AMUbxemfaBKXkSY/Xx NJxUZc1RxEh5lucFRpb1U+XAgHSaxop0RA/x7nwsB61qvENeakEtMVrM3g56d6m5Yhrw bDIr/i3/4oup+TcFvJyvy9t6gWdstPfuPl8rhijxjUQf9sjcHdVV2K5gcDnfyLveNeWs /bZA0czYeOi7nwU6f3QvMvUpOkfUDvA/k8ZO1bkxDTFRQGO7S1uL6o4xmsUEglpdzvQ1 HivwvDznHmzc9Ia3RVOPFWNYQsO0ILqMaIo0TP/eLfRohYL5JpW6qUEDUFFKPYyMqZE3 wwtg== X-Gm-Message-State: AOJu0Yw5EfTR6CX37pQe2jYbVRobi/XBImYi0G7LI1K8cQTYPqd2BVd/ KE3llph7uSYtKsCXOBc/arsSr4YoN/oesw1yrptv/387VRFfSoLQDJGV/6wQhqkpfaEHv8Dvphw AGarx/gOWbvzm0VfWtfD8G4xSG71vMDvixZugblOTsuik X-Gm-Gg: ASbGncucyRguzaOeAN6wzqfOt5x2J0ROlWIVJtTIPXuJb9078K/3pKClgoIVwiG/BcC mfpcbK7lRty7eIbs2iqA+ejsnTdSni0dwKV0MiVcP/ICfPeiXcthv70BIGRs/dypRiNHX7mONr3 MrVrPt+l4/3Aw/xuMN8wBzmJFF2ukNv1rqeG5ZCbl0CwYt5GLLbcgLO5NiK/6Efv6tFiD1jWkH7 t82U8HoaGpu4HLcDeAQqZRlYBFI8h817RXvaMphXb53Zv9fF1cKwKou4/kJ9pgS959uj4/8GyTT kCP+ulwkeHLxihql7HlHpW+nkP3bDRlTOGQkN9tCazdjd9drFvkt06PHh9s0JdGbp9jeebgQ X-Google-Smtp-Source: AGHT+IE7IhOE7iK30oMGT2PXsHwv1cRYbYhW/X0/mZz1MVrtrKAuFJPrVERvH/x7VLFCJeD2vlWz+ukew1y5 X-Received: by 2002:a05:6a00:9283:b0:772:80d3:b6a5 with SMTP id d2e1a72fcca58-77e4eac704cmr3944147b3a.21.1758284872514; Fri, 19 Sep 2025 05:27:52 -0700 (PDT) Received: from postal.iol.unh.edu (postal.iol.unh.edu. [132.177.123.84]) by smtp-relay.gmail.com with ESMTPS id d2e1a72fcca58-77cfbe61ee8sm314678b3a.3.2025.09.19.05.27.52 (version=TLS1_2 cipher=ECDHE-ECDSA-AES128-GCM-SHA256 bits=128/128); Fri, 19 Sep 2025 05:27:52 -0700 (PDT) X-Relaying-Domain: iol.unh.edu Date: Fri, 19 Sep 2025 05:27:52 -0700 (PDT) Message-ID: <68cd4c48.050a0220.250278.307aSMTPIN_ADDED_MISSING@mx.google.com> Received: from [172.21.0.2] (unknown [172.18.0.240]) by postal.iol.unh.edu (Postfix) with ESMTP id 4DC5E6051830; Fri, 19 Sep 2025 08:27:51 -0400 (EDT) Subject: |SUCCESS| pw156755-156771 [PATCH] [V12,18/18] drivers/net: add hinic From: dpdklab@iol.unh.edu To: Test Report Cc: dpdk-test-reports@iol.unh.edu, Stephen Hemminger In-Reply-To: <20250919112433.17926-19-wff_light@vip.163.com> References: <20250919112433.17926-19-wff_light@vip.163.com> Content-Type: text/plain X-BeenThere: test-report@dpdk.org X-Mailman-Version: 2.1.29 Precedence: list List-Id: automatic DPDK test reports List-Unsubscribe: , List-Archive: List-Post: List-Help: List-Subscribe: , Errors-To: test-report-bounces@dpdk.org Test-Label: iol-unit-amd64-testing Test-Status: SUCCESS http://dpdk.org/patch/156771 _Testing PASS_ Submitter: Feifei Wang Date: Friday, September 19 2025 11:24:22 DPDK git baseline: Repo:dpdk-next-net Branch: master CommitID:e0003d90a081d1c338dd13bd7f6be4433a621ca4 156755-156771 --> testing pass Upstream job id: Generic-VM-Unit-Test-DPDK#31252 Test environment and result as below: +-------------------------------+----------------+ | Environment | dpdk_unit_test | +===============================+================+ | CentOS Stream 10 | PASS | +-------------------------------+----------------+ | Fedora Linux 40 | PASS | +-------------------------------+----------------+ | Debian GNU/Linux 12 | PASS | +-------------------------------+----------------+ | CentOS Stream 9 | PASS | +-------------------------------+----------------+ | Fedora Linux 41 | PASS | +-------------------------------+----------------+ | Fedora Linux 42 | PASS | +-------------------------------+----------------+ | Red Hat Enterprise Linux 9.5 | PASS | +-------------------------------+----------------+ | Ubuntu 20.04 | PASS | +-------------------------------+----------------+ | Red Hat Enterprise Linux 8.10 | PASS | +-------------------------------+----------------+ | Ubuntu 22.04 | PASS | +-------------------------------+----------------+ | Ubuntu 24.04 | PASS | +-------------------------------+----------------+ | Windows Server 2022 | PASS | +-------------------------------+----------------+ CentOS Stream 10 Kernel: 5.15 Compiler: gcc gcc (GCC) 14.2.1 20250110 (Red Hat 14.2.1-8) Fedora Linux 40 Kernel: 5.15 Compiler: gcc gcc (GCC) 14.2.1 20240912 (Red Hat 14.2.1-3) Debian GNU/Linux 12 Kernel: 5.15 Compiler: gcc gcc (Debian 12.2.0-14+deb12u1) 12.2.0 CentOS Stream 9 Kernel: 5.15 Compiler: gcc gcc (GCC) 11.5.0 20240719 (Red Hat 11.5.0-11) Fedora Linux 41 Kernel: 5.15 Compiler: gcc gcc (GCC) 14.3.1 20250523 (Red Hat 14.3.1-1) Fedora Linux 42 Kernel: 5.15 Compiler: gcc gcc (GCC) 15.2.1 20250808 (Red Hat 15.2.1-1) Red Hat Enterprise Linux 9.5 Kernel: 5.15 Compiler: gcc gcc (GCC) 11.5.0 20240719 (Red Hat 11.5.0-2) Ubuntu 20.04 Kernel: 5.15 Compiler: gcc gcc (Ubuntu 9.4.0-1ubuntu1~20.04.2) 9.4.0 Red Hat Enterprise Linux 8.10 Kernel: 5.15 Compiler: gcc gcc (GCC) 8.5.0 20210514 (Red Hat 8.5.0-22) Ubuntu 22.04 Kernel: 5.15 Compiler: gcc gcc (Ubuntu 11.4.0-1ubuntu1~22.04) 11.4.0 Ubuntu 24.04 Kernel: 5.15 Compiler: gcc gcc (Ubuntu 13.3.0-6ubuntu2~24.04) 13.3.0 Windows Server 2022 Kernel: 10.0.20348.2031 Compiler: clang 15.0.7, gcc 14.1.0 (MinGW), and MSVC VS 19.39.33521 To view detailed results, visit: https://lab.dpdk.org/results/dashboard/patchsets/34108/ UNH-IOL DPDK Community Lab To manage your email subscriptions, visit: https://lab.dpdk.org/results/dashboard/preferences/subscriptions/