From mboxrd@z Thu Jan 1 00:00:00 1970 Return-Path: Received: from mails.dpdk.org (mails.dpdk.org [217.70.189.124]) by inbox.dpdk.org (Postfix) with ESMTP id D965E46F47 for ; Fri, 19 Sep 2025 14:31:50 +0200 (CEST) Received: from mails.dpdk.org (localhost [127.0.0.1]) by mails.dpdk.org (Postfix) with ESMTP id C0E2B402CE; Fri, 19 Sep 2025 14:31:50 +0200 (CEST) Received: from mail-pf1-f225.google.com (mail-pf1-f225.google.com [209.85.210.225]) by mails.dpdk.org (Postfix) with ESMTP id 4BA59402CE for ; Fri, 19 Sep 2025 14:31:49 +0200 (CEST) Received: by mail-pf1-f225.google.com with SMTP id d2e1a72fcca58-77716518125so1184205b3a.3 for ; Fri, 19 Sep 2025 05:31:49 -0700 (PDT) DKIM-Signature: v=1; a=rsa-sha256; c=relaxed/relaxed; d=iol.unh.edu; s=unh-iol; t=1758285108; x=1758889908; darn=dpdk.org; h=references:in-reply-to:cc:to:from:subject:message-id:date:from:to :cc:subject:date:message-id:reply-to; bh=YiXLWUUNNO2rmWn4O8uAfrrvuGq0yeiP2e9QKdfWoIk=; b=Si7Kv01VIWTU3hOz6EOd5fWZTYnEiy/c0GekxL/hDIMwsLxbojTJSkLi2naNIlh/ii hffqo7bmn4D+JHXGh38cegRYJ0h66Lgams7YNznTCRFLRzdrwYFlvjXnM/SPgmRMSK+j oxf4K0Y8wV59QWFypGrERj4GkncJeQ7sUyzWA= X-Google-DKIM-Signature: v=1; a=rsa-sha256; c=relaxed/relaxed; d=1e100.net; s=20230601; t=1758285108; x=1758889908; h=references:in-reply-to:cc:to:from:subject:message-id:date :x-gm-message-state:from:to:cc:subject:date:message-id:reply-to; bh=YiXLWUUNNO2rmWn4O8uAfrrvuGq0yeiP2e9QKdfWoIk=; b=RNWqq77PcneyVBvYjZYTicDlTxp8tQQKrK7WEYG90cZuveBwKPHmklD8zl4CeX5dFA +r2l5JzfZPm8YReW5DS4cYCtaJq3eUqt0OPxYF4cDVEY3k3qQfcAQHD8cjg5unwLx51p zpNu00R3s9Ogem5apMIemXF1E5YWeJWP2x9QnIwYxFa0/36ciHNYk2MeAKkSNN0tZDFs aQobS3o0j/B6yDE2yS3gAoCEyGokVW4jqKA19f9X38XIFTL3oy0nBQdhNzOtQocxMBOU RB5vsTzNnOZkSASlXvSTn+OzRxqUUUYmy/dLczB9A5TNZBb1LLKEYWzVSWpdXdjpgYGp vjHw== X-Gm-Message-State: AOJu0Yy3YtRCScDl+7196pF2uOFnpV7uyVCuoHLquFtNviQqhNOO+O2O ZujnxfkNTDGQ2Ql2515zCFI/WrWPb2M3Lx/oH7Z/ePw1EM6avSiDFj0rtSmkyjcBbDr+lPcZzS7 6vYuQ6ElLVsHxDI4q2r8klu5s+VyOuG2PBvjsHiFCfRBQ9lh5ExN1W+QCGMZ1 X-Gm-Gg: ASbGnctW7lyRknDxvPoTwYUEMoimmDmJAlF2EBKBAnocKPd8ahuOtNzdqWcLaXEKf6M t1ZlWYabOQc9viy0ik5GFL6gQo0BWkQCrN3xAEzU/lilyit+Rvz2cVEwslGgiulco4mrzA4QS1a Ozatd45yAsd8zFLGKTg3RVwQkq6Rb2xnaHE6tPSUdMtdGZyKnQhXSag15tXydmPH7MELeO9zBl4 5DNxwIwj0S7NzmAGkOy5GGiAB4m9Zmj+WWXFU8ndEz4lWsqHK5WA7hNVW41GCkaOyZpx9W53g84 a12etwvVq9wUxPX/1EVqDMfQ8kZY2OyKY8r2FZlxuhX2N+3Ocg== X-Google-Smtp-Source: AGHT+IFjxCBk1M7/bUloFdO1UDU0CHIudP+LU2dKwWM4O+JFmUNvFp90qr3oH4dfLwsuKyEhEmESAex2wlCd X-Received: by 2002:a17:902:e852:b0:256:2b13:5f11 with SMTP id d9443c01a7336-269ba563621mr43471905ad.40.1758285108332; Fri, 19 Sep 2025 05:31:48 -0700 (PDT) Received: from postal.iol.unh.edu (postal.iol.unh.edu. [2606:4100:3880:1234::84]) by smtp-relay.gmail.com with ESMTPS id d9443c01a7336-269802bc01asm3682545ad.67.2025.09.19.05.31.48 (version=TLS1_2 cipher=ECDHE-ECDSA-AES128-GCM-SHA256 bits=128/128); Fri, 19 Sep 2025 05:31:48 -0700 (PDT) X-Relaying-Domain: iol.unh.edu Date: Fri, 19 Sep 2025 05:31:48 -0700 (PDT) Message-ID: <68cd4d34.170a0220.84beb.575eSMTPIN_ADDED_MISSING@mx.google.com> Received: from [172.21.0.2] (unknown [172.18.0.240]) by postal.iol.unh.edu (Postfix) with ESMTP id BDA2E6051830; Fri, 19 Sep 2025 08:31:47 -0400 (EDT) Subject: |SUCCESS| pw156755-156771 [PATCH] [V12,18/18] drivers/net: add hinic From: dpdklab@iol.unh.edu To: Test Report Cc: dpdk-test-reports@iol.unh.edu, Stephen Hemminger In-Reply-To: <20250919112433.17926-19-wff_light@vip.163.com> References: <20250919112433.17926-19-wff_light@vip.163.com> Content-Type: text/plain X-BeenThere: test-report@dpdk.org X-Mailman-Version: 2.1.29 Precedence: list List-Id: automatic DPDK test reports List-Unsubscribe: , List-Archive: List-Post: List-Help: List-Subscribe: , Errors-To: test-report-bounces@dpdk.org Test-Label: iol-unit-amd64-testing Test-Status: SUCCESS http://dpdk.org/patch/156771 _Testing PASS_ Submitter: Feifei Wang Date: Friday, September 19 2025 11:24:22 DPDK git baseline: Repo:dpdk-next-net Branch: master CommitID:e0003d90a081d1c338dd13bd7f6be4433a621ca4 156755-156771 --> testing pass Upstream job id: Generic-VM-Unit-Test-DPDK#31253 Test environment and result as below: +-------------------------------+----------------+ | Environment | dpdk_unit_test | +===============================+================+ | CentOS Stream 10 | PASS | +-------------------------------+----------------+ | Fedora Linux 40 | PASS | +-------------------------------+----------------+ | Debian GNU/Linux 12 | PASS | +-------------------------------+----------------+ | CentOS Stream 9 | PASS | +-------------------------------+----------------+ | Fedora Linux 41 | PASS | +-------------------------------+----------------+ | Fedora Linux 42 | PASS | +-------------------------------+----------------+ | Red Hat Enterprise Linux 9.5 | PASS | +-------------------------------+----------------+ | Ubuntu 20.04 | PASS | +-------------------------------+----------------+ | Red Hat Enterprise Linux 8.10 | PASS | +-------------------------------+----------------+ | Ubuntu 22.04 | PASS | +-------------------------------+----------------+ | Ubuntu 24.04 | PASS | +-------------------------------+----------------+ | Windows Server 2022 | PASS | +-------------------------------+----------------+ CentOS Stream 10 Kernel: 5.15 Compiler: gcc gcc (GCC) 14.2.1 20250110 (Red Hat 14.2.1-8) Fedora Linux 40 Kernel: 5.15 Compiler: gcc gcc (GCC) 14.2.1 20240912 (Red Hat 14.2.1-3) Debian GNU/Linux 12 Kernel: 5.15 Compiler: gcc gcc (Debian 12.2.0-14+deb12u1) 12.2.0 CentOS Stream 9 Kernel: 5.15 Compiler: gcc gcc (GCC) 11.5.0 20240719 (Red Hat 11.5.0-11) Fedora Linux 41 Kernel: 5.15 Compiler: gcc gcc (GCC) 14.3.1 20250523 (Red Hat 14.3.1-1) Fedora Linux 42 Kernel: 5.15 Compiler: gcc gcc (GCC) 15.2.1 20250808 (Red Hat 15.2.1-1) Red Hat Enterprise Linux 9.5 Kernel: 5.15 Compiler: gcc gcc (GCC) 11.5.0 20240719 (Red Hat 11.5.0-2) Ubuntu 20.04 Kernel: 5.15 Compiler: gcc gcc (Ubuntu 9.4.0-1ubuntu1~20.04.2) 9.4.0 Red Hat Enterprise Linux 8.10 Kernel: 5.15 Compiler: gcc gcc (GCC) 8.5.0 20210514 (Red Hat 8.5.0-22) Ubuntu 22.04 Kernel: 5.15 Compiler: gcc gcc (Ubuntu 11.4.0-1ubuntu1~22.04) 11.4.0 Ubuntu 24.04 Kernel: 5.15 Compiler: gcc gcc (Ubuntu 13.3.0-6ubuntu2~24.04) 13.3.0 Windows Server 2022 Kernel: 10.0.20348.2031 Compiler: clang 15.0.7, gcc 14.1.0 (MinGW), and MSVC VS 19.39.33521 To view detailed results, visit: https://lab.dpdk.org/results/dashboard/patchsets/34108/ UNH-IOL DPDK Community Lab To manage your email subscriptions, visit: https://lab.dpdk.org/results/dashboard/preferences/subscriptions/