From mboxrd@z Thu Jan 1 00:00:00 1970 Return-Path: Received: from mails.dpdk.org (mails.dpdk.org [217.70.189.124]) by inbox.dpdk.org (Postfix) with ESMTP id 007AD46F3A for ; Fri, 19 Sep 2025 15:16:41 +0200 (CEST) Received: from mails.dpdk.org (localhost [127.0.0.1]) by mails.dpdk.org (Postfix) with ESMTP id EB390402C5; Fri, 19 Sep 2025 15:16:41 +0200 (CEST) Received: from mail-pl1-f228.google.com (mail-pl1-f228.google.com [209.85.214.228]) by mails.dpdk.org (Postfix) with ESMTP id 31AB7402C5 for ; Fri, 19 Sep 2025 15:16:41 +0200 (CEST) Received: by mail-pl1-f228.google.com with SMTP id d9443c01a7336-2445806e03cso25594455ad.1 for ; Fri, 19 Sep 2025 06:16:41 -0700 (PDT) DKIM-Signature: v=1; a=rsa-sha256; c=relaxed/relaxed; d=iol.unh.edu; s=unh-iol; t=1758287800; x=1758892600; darn=dpdk.org; h=references:in-reply-to:cc:to:from:subject:message-id:date:from:to :cc:subject:date:message-id:reply-to; bh=7JP8hVi/r3LePC42HOD0Rd2yiQby5x/1Tjqk1cJy8pk=; b=h88yVca9ps1hoTmdrZAehAyXentScbDs19JU2i9OkQt/8E8UK5PHSFribL65D+1spK H+fueJHQcgL/IRko+jIYpWCk5WOuTwAJj/w7SKJisNOoHaNvJQymYSHLrFSawS/LYlz4 YSRxKLijuMf2OLSrVt1L0h9ncEzSRLeUskPtQ= X-Google-DKIM-Signature: v=1; a=rsa-sha256; c=relaxed/relaxed; d=1e100.net; s=20230601; t=1758287800; x=1758892600; h=references:in-reply-to:cc:to:from:subject:message-id:date :x-gm-message-state:from:to:cc:subject:date:message-id:reply-to; bh=7JP8hVi/r3LePC42HOD0Rd2yiQby5x/1Tjqk1cJy8pk=; b=rUfWByK8Rn3CMjbiG1zPITVcG5fnjlMOpiVNZob8GnvUOEVaNIDGeb/oIyrJY3X7vq G9drRBzMkRVNNRotEf8ksOH+jfCygqUMXOFj6QDJOyXHLOju3dGzy5/mrjcXstcQh9Yx QNbFFMCDREoNKs2dfJxaiOwdnfM7JFYLjt+S08Iq+spRRpet/q687/263DVc1fQWKwIU frEmucRwRzPxAW9cnW1UvTaUCHvn2OrFuA3hjorsUxSSWq4w4Vcd5qO1iSRhLjprzFg3 DDXkYHfkHPu9MeQN3cYvZWJnFPICWag/Y9FtBrLZbdz1mCXXAnZL7bmaRMY0rphYbWcs vBFg== X-Gm-Message-State: AOJu0Yz6duI3Mnd2UAFVtalkehn8M+Q+N5IKvwbCoLG4Yko3q8utqO56 Urelff1M7QoPNicAWyPrfnLK+3hVkdcU8pSkCXbQB+EBcFzJX6K0N6HQKkbcCI16/dU5X4z9FQq R6B1j2IjApULILM2caVKIlfLlqoHojk4TSw8X4t/0T0An X-Gm-Gg: ASbGncuNsvsFeyd6p3AYHd51/97dPS3ZUC70fYdJ0LU5CViT1eBisPBa1z5dvyfqwCs 0KITuNktn1NeUKxY0zJeII8c4H/pCm2+XW6mEnfvFJGuurKG3DIC7KDZCW8jaBLtLYJtwgWq+5Q by6owlLQjCjgM/QCMQ9n3EAfU2/oeRlL4UvF5U0VbV0FeFXH2fdsB43cLOTUTltU7hklQM60SgO IKs5XZgeKX0Ah/A51hN8PwT7hMGVz+dgaJExI37oW3ZdfxtVgn5TO9xrGtcbqcv2Tvis3+NzLhB GTtQm0z146xWzQPl3OGrahKhHdF7CVwmgzFwTNLQrIc3UzpH91XkzbYkNNUfSulzQ9mKxj8p X-Google-Smtp-Source: AGHT+IH9Coxa90V7ZnP835h4mflXc6HQCnh4+/mKkuSoT+t/VkYfJIQNhq3aTHI2SNTAywtsKNNUCDvPOUVU X-Received: by 2002:a17:902:c94a:b0:265:acc3:d312 with SMTP id d9443c01a7336-269ba5329d8mr47610435ad.43.1758287800357; Fri, 19 Sep 2025 06:16:40 -0700 (PDT) Received: from postal.iol.unh.edu (postal.iol.unh.edu. [132.177.123.84]) by smtp-relay.gmail.com with ESMTPS id d9443c01a7336-26980276e0fsm4008975ad.46.2025.09.19.06.16.40 (version=TLS1_2 cipher=ECDHE-ECDSA-AES128-GCM-SHA256 bits=128/128); Fri, 19 Sep 2025 06:16:40 -0700 (PDT) X-Relaying-Domain: iol.unh.edu Date: Fri, 19 Sep 2025 06:16:40 -0700 (PDT) Message-ID: <68cd57b8.170a0220.12794a.6ee3SMTPIN_ADDED_MISSING@mx.google.com> Received: from [172.21.0.3] (unknown [172.18.0.240]) by postal.iol.unh.edu (Postfix) with ESMTP id 9B5E56051830; Fri, 19 Sep 2025 09:16:39 -0400 (EDT) Subject: |SUCCESS| pw156727-156736 [PATCH] [v3,10/10] vfio: use imported uAPI From: dpdklab@iol.unh.edu To: Test Report Cc: dpdk-test-reports@iol.unh.edu In-Reply-To: <20250919083808.1667491-11-david.marchand@redhat.com> References: <20250919083808.1667491-11-david.marchand@redhat.com> Content-Type: text/plain X-BeenThere: test-report@dpdk.org X-Mailman-Version: 2.1.29 Precedence: list List-Id: automatic DPDK test reports List-Unsubscribe: , List-Archive: List-Post: List-Help: List-Subscribe: , Errors-To: test-report-bounces@dpdk.org Test-Label: iol-compile-arm64-testing Test-Status: SUCCESS http://dpdk.org/patch/156736 _Testing PASS_ Submitter: David Marchand Date: Friday, September 19 2025 08:38:07 DPDK git baseline: Repo:dpdk Branch: master CommitID:6e6cc1dc3548fc862cea377c98d7feef1a335468 156727-156736 --> testing pass Upstream job id: Generic-DPDK-Compile-Meson#426813 Test environment and result as below: +------------------------------+--------------------+ | Environment | dpdk_meson_compile | +==============================+====================+ | Ubuntu 20.04 | PASS | +------------------------------+--------------------+ | Debian GNU/Linux 12 | PASS | +------------------------------+--------------------+ | Fedora Linux 42 | PASS | +------------------------------+--------------------+ | Red Hat Enterprise Linux 9.5 | PASS | +------------------------------+--------------------+ | Ubuntu 22.04 | PASS | +------------------------------+--------------------+ | CentOS Stream 9 | PASS | +------------------------------+--------------------+ | Ubuntu 24.04 | PASS | +------------------------------+--------------------+ | CentOS Stream 10 | PASS | +------------------------------+--------------------+ Ubuntu 20.04 Kernel: 5.15 Compiler: aarch64-linux-gnu-gcc gcc (Ubuntu 9.4.0-1ubuntu1~20.04.2) 9.4.0 Debian GNU/Linux 12 Kernel: 5.4 Compiler: gcc gcc (Debian 12.2.0-14+deb12u1) 12.2.0 Fedora Linux 42 Kernel: 5.4 Compiler: clang gcc (GCC) 15.2.1 20250808 (Red Hat 15.2.1-1) Red Hat Enterprise Linux 9.5 Kernel: 5.4 Compiler: gcc gcc (GCC) 11.5.0 20240719 (Red Hat 11.5.0-2) Ubuntu 22.04 Kernel: 5.4 Compiler: gcc gcc (Ubuntu 11.4.0-1ubuntu1~22.04) 11.4.0 CentOS Stream 9 Kernel: 5.4 Compiler: gcc gcc (GCC) 11.5.0 20240719 (Red Hat 11.5.0-11) Ubuntu 24.04 Kernel: 5.4 Compiler: gcc gcc (Ubuntu 13.3.0-6ubuntu2~24.04) 13.3.0 CentOS Stream 10 Kernel: 5.4 Compiler: gcc gcc (GCC) 14.2.1 20250110 (Red Hat 14.2.1-8) To view detailed results, visit: https://lab.dpdk.org/results/dashboard/patchsets/34104/ UNH-IOL DPDK Community Lab To manage your email subscriptions, visit: https://lab.dpdk.org/results/dashboard/preferences/subscriptions/