From mboxrd@z Thu Jan 1 00:00:00 1970 Return-Path: Received: from mails.dpdk.org (mails.dpdk.org [217.70.189.124]) by inbox.dpdk.org (Postfix) with ESMTP id F298446F4A for ; Fri, 19 Sep 2025 16:17:37 +0200 (CEST) Received: from mails.dpdk.org (localhost [127.0.0.1]) by mails.dpdk.org (Postfix) with ESMTP id DB384402C5; Fri, 19 Sep 2025 16:17:37 +0200 (CEST) Received: from mail-oa1-f98.google.com (mail-oa1-f98.google.com [209.85.160.98]) by mails.dpdk.org (Postfix) with ESMTP id 75662402C5 for ; Fri, 19 Sep 2025 16:17:36 +0200 (CEST) Received: by mail-oa1-f98.google.com with SMTP id 586e51a60fabf-30ccea94438so1531564fac.2 for ; Fri, 19 Sep 2025 07:17:36 -0700 (PDT) DKIM-Signature: v=1; a=rsa-sha256; c=relaxed/relaxed; d=iol.unh.edu; s=unh-iol; t=1758291455; x=1758896255; darn=dpdk.org; h=references:in-reply-to:cc:to:from:subject:message-id:date:from:to :cc:subject:date:message-id:reply-to; bh=LUeGwVjINLCrd79Z1y8LJ1Dh7VyVDFaMZTLwuuKd0jw=; b=hOdu9WVyRuKCIPKdPtjl1wfm2qnxsiG4PiMsggGH8sX+79A4zVovrMMg4bzjOvg4Ad jJzU8uaJvMI3GdM8LZi9Z1aeZ9GMrqyzk4JasKsO8nTwP6g563wAK9dsn38fQEQYDkVW 5gU7jKo1OqyKP10Phh3nUrMv4CGjW9xnr9xPs= X-Google-DKIM-Signature: v=1; a=rsa-sha256; c=relaxed/relaxed; d=1e100.net; s=20230601; t=1758291455; x=1758896255; h=references:in-reply-to:cc:to:from:subject:message-id:date :x-gm-message-state:from:to:cc:subject:date:message-id:reply-to; bh=LUeGwVjINLCrd79Z1y8LJ1Dh7VyVDFaMZTLwuuKd0jw=; b=pOqqaem/cFm/M/PfhCAWhn8LF1S8Ug6a30FDY8fNiRijfHHiTmq7s1HAJ7nKh36qWj cRY5kkJb74qLegbBaRc060p++9odtxGvW2CTBWmnzKCEK6haOpxpT3rMu8IiZgjWdSGi dkuqSg7rkzT4GuMQD9zT7iCTHz8GgbqzCsSxJoVCosHWyYKpA9wiy2S9dqhJVmbKCODs wM2kH3p0WRh8emgiWEPiMLaw8HDJxkgkHb87DnWTLP/Buf7fSTcv0eqOby64788Tj9Cr ADHpHhMApReZ/Af056S/eYDI5UsGdOg7LlhPGC3FLjINyRu0EMkJJyi79bKu0xUDctQA k/Kw== X-Gm-Message-State: AOJu0Yw+234kvcz7FoS3RurnVL9Q7/t6moTeLTSWwTn5LA2uCdO5kaAL HWbjKmP0douRAeYL6V30LKWRZ9IVhwYQwEqyT/9iZcxhN6J67pB7H3OQunkrsri/VwOVOdDc2j7 FEQvHGiKB6MWu9rrPQvwSZuiB+LfMHd+9MRM2e8NT43yvkZCtwtJp5vh3m5vI X-Gm-Gg: ASbGnctxVwvNDE6AavWEszvauIngctXRh5/sQA+nyG49rSfH/U9hgHB+ctg5Dt9xsVR BQ9/SKcsoQiPfDnrVgKkMuJyufYwjI5/hbPSY+OIOUfuNf6CWcmEDtlCoYpk2PNwn21i93GN3Z5 D0y98NXNk+p/KOeS2ALlrw/si9A06stir0ERik27CWGyugFzSV2Nw8+Rw6VNcXf6Px7GF7gD/Zt Ngw6KcHRDLjBfid5NJlmn6W6Idh/EJZNVNMw4mjjcRuOzmMdYzc/2oKD/d2IvrqcQAUHKjWU71J byLCWvTGfbAVnvlrubNpyEl9rYtqNLYu98eAjal8zWH1L+hV+Q== X-Google-Smtp-Source: AGHT+IF1Gr3P95sEBsiqFJDT49uVwuZaJQ7qn3MZF6Myj65Jo4Em4ePEqiaaQde/MxQCRRRknQ0mu9QkRKRz X-Received: by 2002:a05:6871:a0c4:b0:315:b073:2270 with SMTP id 586e51a60fabf-33bb389ff0amr2337314fac.3.1758291455329; Fri, 19 Sep 2025 07:17:35 -0700 (PDT) Received: from postal.iol.unh.edu (postal.iol.unh.edu. [2606:4100:3880:1234::84]) by smtp-relay.gmail.com with ESMTPS id 586e51a60fabf-336e6487ce1sm513498fac.16.2025.09.19.07.17.35 (version=TLS1_2 cipher=ECDHE-ECDSA-AES128-GCM-SHA256 bits=128/128); Fri, 19 Sep 2025 07:17:35 -0700 (PDT) X-Relaying-Domain: iol.unh.edu Date: Fri, 19 Sep 2025 07:17:35 -0700 (PDT) Message-ID: <68cd65ff.050a0220.1bfded.da54SMTPIN_ADDED_MISSING@mx.google.com> Received: from [172.21.0.2] (unknown [172.18.0.240]) by postal.iol.unh.edu (Postfix) with ESMTP id CBE576050A61; Fri, 19 Sep 2025 10:17:34 -0400 (EDT) Subject: |SUCCESS| pw156742-156750 [PATCH] [v1,16/16] net/ntnic: rename table From: dpdklab@iol.unh.edu To: Test Report Cc: dpdk-test-reports@iol.unh.edu, Stephen Hemminger In-Reply-To: <20250919091504.1548351-17-sil-plv@napatech.com> References: <20250919091504.1548351-17-sil-plv@napatech.com> Content-Type: text/plain X-BeenThere: test-report@dpdk.org X-Mailman-Version: 2.1.29 Precedence: list List-Id: automatic DPDK test reports List-Unsubscribe: , List-Archive: List-Post: List-Help: List-Subscribe: , Errors-To: test-report-bounces@dpdk.org Test-Label: iol-compile-arm64-testing Test-Status: SUCCESS http://dpdk.org/patch/156750 _Testing PASS_ Submitter: Serhii Iliushyk Date: Friday, September 19 2025 09:15:01 DPDK git baseline: Repo:dpdk-next-net Branch: master CommitID:e0003d90a081d1c338dd13bd7f6be4433a621ca4 156742-156750 --> testing pass Upstream job id: Generic-DPDK-Compile-Meson#426880 Test environment and result as below: +------------------------------+--------------------+ | Environment | dpdk_meson_compile | +==============================+====================+ | Ubuntu 20.04 | PASS | +------------------------------+--------------------+ | Red Hat Enterprise Linux 9.5 | PASS | +------------------------------+--------------------+ | Debian GNU/Linux 12 | PASS | +------------------------------+--------------------+ | Fedora Linux 42 | PASS | +------------------------------+--------------------+ | Ubuntu 22.04 | PASS | +------------------------------+--------------------+ | Ubuntu 24.04 | PASS | +------------------------------+--------------------+ | CentOS Stream 9 | PASS | +------------------------------+--------------------+ | CentOS Stream 10 | PASS | +------------------------------+--------------------+ Ubuntu 20.04 Kernel: 5.4 Compiler: gcc gcc (Ubuntu 9.4.0-1ubuntu1~20.04.2) 9.4.0 Red Hat Enterprise Linux 9.5 Kernel: 5.4 Compiler: gcc gcc (GCC) 11.5.0 20240719 (Red Hat 11.5.0-2) Debian GNU/Linux 12 Kernel: 5.4 Compiler: gcc gcc (Debian 12.2.0-14+deb12u1) 12.2.0 Fedora Linux 42 Kernel: 5.4 Compiler: gcc gcc (GCC) 15.2.1 20250808 (Red Hat 15.2.1-1) Ubuntu 22.04 Kernel: 5.4 Compiler: gcc gcc (Ubuntu 11.4.0-1ubuntu1~22.04) 11.4.0 Ubuntu 24.04 Kernel: 5.4 Compiler: gcc gcc (Ubuntu 13.3.0-6ubuntu2~24.04) 13.3.0 CentOS Stream 9 Kernel: 5.4 Compiler: gcc gcc (GCC) 11.5.0 20240719 (Red Hat 11.5.0-11) CentOS Stream 10 Kernel: 5.4 Compiler: gcc gcc (GCC) 14.2.1 20250110 (Red Hat 14.2.1-8) To view detailed results, visit: https://lab.dpdk.org/results/dashboard/patchsets/34106/ UNH-IOL DPDK Community Lab To manage your email subscriptions, visit: https://lab.dpdk.org/results/dashboard/preferences/subscriptions/