From mboxrd@z Thu Jan 1 00:00:00 1970 Return-Path: Received: from mails.dpdk.org (mails.dpdk.org [217.70.189.124]) by inbox.dpdk.org (Postfix) with ESMTP id CCF9E46F3B for ; Fri, 19 Sep 2025 22:45:25 +0200 (CEST) Received: from mails.dpdk.org (localhost [127.0.0.1]) by mails.dpdk.org (Postfix) with ESMTP id B33C6402B7; Fri, 19 Sep 2025 22:45:25 +0200 (CEST) Received: from mail-qv1-f100.google.com (mail-qv1-f100.google.com [209.85.219.100]) by mails.dpdk.org (Postfix) with ESMTP id 93238402B7 for ; Fri, 19 Sep 2025 22:45:24 +0200 (CEST) Received: by mail-qv1-f100.google.com with SMTP id 6a1803df08f44-795773ac2a2so19623086d6.1 for ; Fri, 19 Sep 2025 13:45:24 -0700 (PDT) DKIM-Signature: v=1; a=rsa-sha256; c=relaxed/relaxed; d=iol.unh.edu; s=unh-iol; t=1758314724; x=1758919524; darn=dpdk.org; h=references:in-reply-to:cc:to:from:subject:message-id:date:from:to :cc:subject:date:message-id:reply-to; bh=K1hhvJTTsJkc4gwKQJpa3YE+RaD96m52207hHN2db+A=; b=aB4ANlqDXoYo/pBIryku5uhZcgGJzJ4dOICan6EcxI2QTWee2UjqCewipVQHmQ+s3J h4z6Dc7cub4KphKjaycQxrB4fVnemr0i6ZplEPPv/EAsTwSB25TLjZ44G7duJPI58rpr 92WOskRMhUT9BWBdlLBYJO19p+81FK5aC9qtA= X-Google-DKIM-Signature: v=1; a=rsa-sha256; c=relaxed/relaxed; d=1e100.net; s=20230601; t=1758314724; x=1758919524; h=references:in-reply-to:cc:to:from:subject:message-id:date :x-gm-message-state:from:to:cc:subject:date:message-id:reply-to; bh=K1hhvJTTsJkc4gwKQJpa3YE+RaD96m52207hHN2db+A=; b=k2vA2mXXnUQbQWZ73+QMvwvZp95zT+LfBkB69e+3CfXfGlQScJBXvsv+1hmjmc1Jbp KdwRq3zFG3BAfSZguWgBTbNrnf9dpS2ryE/Gwjr094Fhi0rhRP1ODCr0nXGwcER0KIB0 tDfHrT849JRBL35YOD5+e4GXiP3tSRfnA4aIb6gqIDgr/2jT/p3wa4L2bJDAzG0b42Ox GbmDocfIqG7J6rdo/Vsfluakp4/MEQToDS7ORzZTZReeXFlD5788ZYU4AqUsc6ljE4/Q I3I+i95XJwDvjy+Y2UR3lSD88H4XGFoiGcAbRFodIvXSGOSz6ILXC1TqsI86qv7Agm+t Bk0A== X-Gm-Message-State: AOJu0YzeNljHhcPVI1QRcjxX6ku42xueK/gXju2rPhD62g4vOGvE/gMi zqDMjFyTSdDyFMVWh1zYuIZ25cyAOq+sJmzQTBO5LgCLd3WEzp8wOjdFoOTF6jES05EjEwWnQTd ahvZzv0BQVMK7wEZExvdfkVmfUaXN55drg1TMeQJkJPv/ X-Gm-Gg: ASbGncv6+vS6exDI0zj5U6+DAUhKvwMw6zZAeO5svFKqxhBmqUmvO00xurac+exJ4VD IKbw20x0SNK55cdKOcs3qV6c/wG3Ol53KtaEfDNYg3HLXqm/7Gr3YDuP9Qtt6smdy8zsQhW9NlD cxMYfxjsjxuH9txlQDpFkEMQr04c4whARHbMp/ACoC09LsZGVs4E3F4+Bisp1TVD5VUu3EDJt+m 2pMJjsYIHrEtKCJfYkaP8CvVHJukr2McaxWbGJ28g5vV8gVnJa4Btuxghi6RbbjtIr7houh1ST2 qEIy60yM2SIPpj7wRG2p/CL7xyoxKHhuYafPaJYUFowX6yRzuVNw1xOKg0vzaqFGsSvB4rpw X-Google-Smtp-Source: AGHT+IGOLwtlgoDpqw9iw4ARBkYtxq6QYa5oy7e1MmRtUEQ/TUkn8PfQqcrBsCTv7tKcqjbjKU9Fy/xIT9cP X-Received: by 2002:ad4:5f08:0:b0:77a:29ba:1b67 with SMTP id 6a1803df08f44-7990f96c432mr42119236d6.13.1758314723742; Fri, 19 Sep 2025 13:45:23 -0700 (PDT) Received: from postal.iol.unh.edu (postal.iol.unh.edu. [132.177.123.84]) by smtp-relay.gmail.com with ESMTPS id 6a1803df08f44-7934ee8bacdsm3370956d6.29.2025.09.19.13.45.23 (version=TLS1_2 cipher=ECDHE-ECDSA-AES128-GCM-SHA256 bits=128/128); Fri, 19 Sep 2025 13:45:23 -0700 (PDT) X-Relaying-Domain: iol.unh.edu Date: Fri, 19 Sep 2025 13:45:23 -0700 (PDT) Message-ID: <68cdc0e3.d40a0220.dbc62.3dbdSMTPIN_ADDED_MISSING@mx.google.com> Received: from [172.21.0.3] (unknown [172.18.0.240]) by postal.iol.unh.edu (Postfix) with ESMTP id 7AEF9604D420; Fri, 19 Sep 2025 16:45:23 -0400 (EDT) Subject: |SUCCESS| pw156785-156786 [PATCH] [3/3] app/compress-perf: support f From: dpdklab@iol.unh.edu To: Test Report Cc: dpdk-test-reports@iol.unh.edu, Akhil Goyal In-Reply-To: <20250919184821.2567839-3-svaze@qti.qualcomm.com> References: <20250919184821.2567839-3-svaze@qti.qualcomm.com> Content-Type: text/plain X-BeenThere: test-report@dpdk.org X-Mailman-Version: 2.1.29 Precedence: list List-Id: automatic DPDK test reports List-Unsubscribe: , List-Archive: List-Post: List-Help: List-Subscribe: , Errors-To: test-report-bounces@dpdk.org Test-Label: iol-compile-amd64-testing Test-Status: SUCCESS http://dpdk.org/patch/156786 _Testing PASS_ Submitter: Sameer Vaze Date: Friday, September 19 2025 18:48:20 DPDK git baseline: Repo:dpdk-next-crypto Branch: master CommitID:4159ea62922ce41566c7bab44655ad78bee85458 156785-156786 --> testing pass Upstream job id: Windows-Compile-DPDK-Native#31089 Test environment and result as below: +-------------------------------+--------------------+-------------------+------------------+-------------------+-------------------------+ | Environment | dpdk_meson_compile | dpdk_compile_spdk | dpdk_compile_ovs | dpdk_msvc_compile | dpdk_llvm_clang_compile | +===============================+====================+===================+==================+===================+=========================+ | CentOS Stream 9 | PASS | PASS | SKIPPED | SKIPPED | SKIPPED | +-------------------------------+--------------------+-------------------+------------------+-------------------+-------------------------+ | CentOS Stream 10 | PASS | SKIPPED | SKIPPED | SKIPPED | SKIPPED | +-------------------------------+--------------------+-------------------+------------------+-------------------+-------------------------+ | Debian GNU/Linux 12 | PASS | PASS | SKIPPED | SKIPPED | SKIPPED | +-------------------------------+--------------------+-------------------+------------------+-------------------+-------------------------+ | Fedora Linux 42 | PASS | PASS | PASS | SKIPPED | SKIPPED | +-------------------------------+--------------------+-------------------+------------------+-------------------+-------------------------+ | Ubuntu 20.04 | PASS | SKIPPED | SKIPPED | SKIPPED | SKIPPED | +-------------------------------+--------------------+-------------------+------------------+-------------------+-------------------------+ | openSUSE Leap 15.6 | PASS | SKIPPED | SKIPPED | SKIPPED | SKIPPED | +-------------------------------+--------------------+-------------------+------------------+-------------------+-------------------------+ | Red Hat Enterprise Linux 9.5 | PASS | SKIPPED | SKIPPED | SKIPPED | SKIPPED | +-------------------------------+--------------------+-------------------+------------------+-------------------+-------------------------+ | Red Hat Enterprise Linux 8.10 | PASS | SKIPPED | SKIPPED | SKIPPED | SKIPPED | +-------------------------------+--------------------+-------------------+------------------+-------------------+-------------------------+ | Ubuntu 22.04 | PASS | PASS | SKIPPED | SKIPPED | SKIPPED | +-------------------------------+--------------------+-------------------+------------------+-------------------+-------------------------+ | FreeBSD 14.2 | PASS | SKIPPED | SKIPPED | SKIPPED | SKIPPED | +-------------------------------+--------------------+-------------------+------------------+-------------------+-------------------------+ | Ubuntu 24.04 | PASS | PASS | PASS | SKIPPED | SKIPPED | +-------------------------------+--------------------+-------------------+------------------+-------------------+-------------------------+ | Alpine Linux 3.22.0 | PASS | SKIPPED | SKIPPED | SKIPPED | SKIPPED | +-------------------------------+--------------------+-------------------+------------------+-------------------+-------------------------+ | Windows Server 2022 | SKIPPED | SKIPPED | SKIPPED | PASS | PASS | +-------------------------------+--------------------+-------------------+------------------+-------------------+-------------------------+ CentOS Stream 9 Kernel: 5.15 Compiler: gcc gcc (GCC) 11.5.0 20240719 (Red Hat 11.5.0-11) CentOS Stream 10 Kernel: 5.15 Compiler: gcc gcc (GCC) 14.2.1 20250110 (Red Hat 14.2.1-8) Debian GNU/Linux 12 Kernel: 5.15 Compiler: gcc gcc (Debian 12.2.0-14+deb12u1) 12.2.0 Fedora Linux 42 Kernel: 5.15 Compiler: clang gcc (GCC) 15.2.1 20250808 (Red Hat 15.2.1-1) Ubuntu 20.04 Kernel: 4.19 Compiler: gcc gcc (Ubuntu 9.4.0-1ubuntu1~20.04.2) 9.4.0 openSUSE Leap 15.6 Kernel: 5.15 Compiler: gcc gcc (SUSE Linux) 7.5.0 Red Hat Enterprise Linux 9.5 Kernel: 5.15 Compiler: gcc gcc (GCC) 11.5.0 20240719 (Red Hat 11.5.0-2) Red Hat Enterprise Linux 8.10 Kernel: 5.15 Compiler: gcc gcc (GCC) 8.5.0 20210514 (Red Hat 8.5.0-22) Ubuntu 22.04 Kernel: 5.15 Compiler: gcc gcc (Ubuntu 11.4.0-1ubuntu1~22.04) 11.4.0 FreeBSD 14.2 Kernel: 14.2-RELEASE Compiler: clang 18.1.6 Ubuntu 24.04 Kernel: 5.15 Compiler: gcc gcc (Ubuntu 13.3.0-6ubuntu2~24.04) 13.3.0 Alpine Linux 3.22.0 Kernel: 5.15 Compiler: gcc gcc (Alpine 14.2.0) 14.2.0 Windows Server 2022 Kernel: 10.0.20348.2031 Compiler: clang 15.0.7, gcc 14.1.0 (MinGW), and MSVC VS 19.39.33521 To view detailed results, visit: https://lab.dpdk.org/results/dashboard/patchsets/34112/ UNH-IOL DPDK Community Lab To manage your email subscriptions, visit: https://lab.dpdk.org/results/dashboard/preferences/subscriptions/