From mboxrd@z Thu Jan 1 00:00:00 1970 Return-Path: Received: from mails.dpdk.org (mails.dpdk.org [217.70.189.124]) by inbox.dpdk.org (Postfix) with ESMTP id CA579489ED for ; Wed, 5 Nov 2025 09:48:30 +0100 (CET) Received: from mails.dpdk.org (localhost [127.0.0.1]) by mails.dpdk.org (Postfix) with ESMTP id C0FC5400D7; Wed, 5 Nov 2025 09:48:30 +0100 (CET) Received: from mail-il1-f226.google.com (mail-il1-f226.google.com [209.85.166.226]) by mails.dpdk.org (Postfix) with ESMTP id A7A71400D7 for ; Wed, 5 Nov 2025 09:48:29 +0100 (CET) Received: by mail-il1-f226.google.com with SMTP id e9e14a558f8ab-4332674b921so11254535ab.0 for ; Wed, 05 Nov 2025 00:48:29 -0800 (PST) DKIM-Signature: v=1; a=rsa-sha256; c=relaxed/relaxed; d=iol.unh.edu; s=unh-iol; t=1762332509; x=1762937309; darn=dpdk.org; h=references:in-reply-to:cc:to:from:subject:message-id:date:from:to :cc:subject:date:message-id:reply-to; bh=KOkfKgnKGQCT9g3s8LpFm9flXZcVr5ypCVRELIBhHxM=; b=PTh6k48PUmfvjGT9PA9WWjIgLlAlS15r5RMqDswdVap9I+94dh1qRyANMgiozlWCeT FkChQMYANTqZAEqNMYam2xs9d8e59dt/pX+alA44Ff7QqoPzeDgL/KCd4jSfZb8hn9qZ BK+oWI88jnOZ+OU0knNOpSJ3ZKgGSZbchmjPg= X-Google-DKIM-Signature: v=1; a=rsa-sha256; c=relaxed/relaxed; d=1e100.net; s=20230601; t=1762332509; x=1762937309; h=references:in-reply-to:cc:to:from:subject:message-id:date :x-gm-message-state:from:to:cc:subject:date:message-id:reply-to; bh=KOkfKgnKGQCT9g3s8LpFm9flXZcVr5ypCVRELIBhHxM=; b=GuIicWG3730gT+iIz3HZmL9qpQVOQcuKjG4a948zGug5Pl8ztXCTrrdkE81wt3vDal r3YRBl280O1jDKEk8NpotC7yWpBMP4443c5XVkvx9KBxDXDTdtvbJDJjRx5fnGQHokSp icvvjhbOI5dfw2bBGimxu71/mmGegFQAlwkJQnbQbEQM9TuKHLF4SAzMUf0tGY1Jc3pY DenqC9xYjrwo3sUai05s7iguR11e+f+nzP4l35EuUOSv7vNCfOfsVfAQIJC0T5D8gfH7 dlRFX1+Z46okSw0t9eD99A7CGIMp6udS8tofEyBJRRzfPyWpta/tyDFeNyxo89KEj70J u72g== X-Gm-Message-State: AOJu0Yz4G5o88ryH75wAJlYZwAfRSJAnJgsBTKiRnDEHmB5q9s5x4tWk 3eXIgWW8aP7OO6pPCFHYqrQ7kL1cnrufKiWTpxHc5/Z49TIxiXDQfYliXCDSByuSQtcUACW/LxH yzwNlwMc3JgpTI1LzUob0eYArxKQltHeD+rqDtWAG4lrX X-Gm-Gg: ASbGncsVSwgH/8TecGrfNezsGIJtAXXuxnraNmWtSkHaaGKOfR+VSrP7V6C4H/UEDQ8 IyaaPuxusM5PAvs1xaAXHY2JdWBAlLTpDUX5S7kfgcaJUyyC5IhyJNthIvUFac6kopGJQvizbN4 qxbdlplxHrFW17czHp9WI2kFQrGlAW1IPvmgLx/xhuN9VBuABP8o/v9XN8MHMlV1Whm68RCJDEX HvYzBOTpfhf4YH0nFuGtWfbKopKC5ZjizsbG7nH+upCFtPRfnMfH3NQTpbAobnOwfXD+Uyksfsu zyppjjn3La5Yew984bEUfRBDtoSSLmKiLvn0TakGAGFP1FuZ39Hze4vrA2WWbLEkvOjhCD8hw71 kTwYrg+P7n1S5Xg2Yx/wiBTl0JIasOCo= X-Google-Smtp-Source: AGHT+IGOo5y6RtqQrxzfOLMmGjoQgTz0ZUtLVQh/X6+r9VyKkdUbEwcAIbQblcVC4vLqzBrfgfM087+xLA9U X-Received: by 2002:a05:6e02:190e:b0:433:246d:283f with SMTP id e9e14a558f8ab-433407e25fcmr33853495ab.17.1762332509045; Wed, 05 Nov 2025 00:48:29 -0800 (PST) Received: from postal.iol.unh.edu (postal.iol.unh.edu. [132.177.123.84]) by smtp-relay.gmail.com with ESMTPS id 8926c6da1cb9f-5b7226c7afasm621573173.21.2025.11.05.00.48.28 (version=TLS1_2 cipher=ECDHE-ECDSA-AES128-GCM-SHA256 bits=128/128); Wed, 05 Nov 2025 00:48:29 -0800 (PST) X-Relaying-Domain: iol.unh.edu Date: Wed, 05 Nov 2025 00:48:29 -0800 (PST) Message-ID: <690b0f5d.050a0220.1b7e24.1657SMTPIN_ADDED_MISSING@mx.google.com> Received: from [172.21.0.2] (unknown [172.18.0.240]) by postal.iol.unh.edu (Postfix) with ESMTP id AC39F60003E7; Wed, 5 Nov 2025 03:48:28 -0500 (EST) Subject: |SUCCESS| pw158444-158448 [PATCH] [v3,5/5] drivers: net/cnxk: enable From: dpdklab@iol.unh.edu To: Test Report Cc: dpdk-test-reports@iol.unh.edu In-Reply-To: <20251105070932.3569572-5-rkudurumalla@marvell.com> References: <20251105070932.3569572-5-rkudurumalla@marvell.com> Content-Type: text/plain X-BeenThere: test-report@dpdk.org X-Mailman-Version: 2.1.29 Precedence: list List-Id: automatic DPDK test reports List-Unsubscribe: , List-Archive: List-Post: List-Help: List-Subscribe: , Errors-To: test-report-bounces@dpdk.org Test-Label: iol-compile-amd64-testing Test-Status: SUCCESS http://dpdk.org/patch/158448 _Testing PASS_ Submitter: Rakesh Kudurumalla Date: Wednesday, November 05 2025 07:09:32 DPDK git baseline: Repo:dpdk-next-net-mrvl Branch: master CommitID:1bdf2b3c27880f1d90df46a89d5643f20587a973 158444-158448 --> testing pass Upstream job id: Windows-Compile-DPDK-Native#32126 Test environment and result as below: +-------------------------------+--------------------+------------------+-------------------------+-------------------+----------------------+ | Environment | dpdk_meson_compile | dpdk_compile_ovs | dpdk_llvm_clang_compile | dpdk_msvc_compile | dpdk_mingw64_compile | +===============================+====================+==================+=========================+===================+======================+ | FreeBSD 14.2 | PASS | SKIPPED | SKIPPED | SKIPPED | SKIPPED | +-------------------------------+--------------------+------------------+-------------------------+-------------------+----------------------+ | CentOS Stream 10 | PASS | SKIPPED | SKIPPED | SKIPPED | SKIPPED | +-------------------------------+--------------------+------------------+-------------------------+-------------------+----------------------+ | openSUSE Leap 15.6 | PASS | SKIPPED | SKIPPED | SKIPPED | SKIPPED | +-------------------------------+--------------------+------------------+-------------------------+-------------------+----------------------+ | CentOS Stream 9 | PASS | SKIPPED | SKIPPED | SKIPPED | SKIPPED | +-------------------------------+--------------------+------------------+-------------------------+-------------------+----------------------+ | Debian GNU/Linux 12 | PASS | SKIPPED | SKIPPED | SKIPPED | SKIPPED | +-------------------------------+--------------------+------------------+-------------------------+-------------------+----------------------+ | Fedora Linux 42 | PASS | PASS | SKIPPED | SKIPPED | SKIPPED | +-------------------------------+--------------------+------------------+-------------------------+-------------------+----------------------+ | Ubuntu 20.04 | PASS | SKIPPED | SKIPPED | SKIPPED | SKIPPED | +-------------------------------+--------------------+------------------+-------------------------+-------------------+----------------------+ | Ubuntu 22.04 | PASS | SKIPPED | SKIPPED | SKIPPED | SKIPPED | +-------------------------------+--------------------+------------------+-------------------------+-------------------+----------------------+ | Red Hat Enterprise Linux 8.10 | PASS | SKIPPED | SKIPPED | SKIPPED | SKIPPED | +-------------------------------+--------------------+------------------+-------------------------+-------------------+----------------------+ | Red Hat Enterprise Linux 9.5 | PASS | SKIPPED | SKIPPED | SKIPPED | SKIPPED | +-------------------------------+--------------------+------------------+-------------------------+-------------------+----------------------+ | Ubuntu 24.04 | PASS | PASS | SKIPPED | SKIPPED | SKIPPED | +-------------------------------+--------------------+------------------+-------------------------+-------------------+----------------------+ | Alpine Linux 3.22.0 | PASS | SKIPPED | SKIPPED | SKIPPED | SKIPPED | +-------------------------------+--------------------+------------------+-------------------------+-------------------+----------------------+ | Windows Server 2022 | SKIPPED | SKIPPED | PASS | PASS | PASS | +-------------------------------+--------------------+------------------+-------------------------+-------------------+----------------------+ FreeBSD 14.2 Kernel: 14.2-RELEASE Compiler: clang 18.1.6 CentOS Stream 10 Kernel: 5.15 Compiler: gcc gcc (GCC) 14.2.1 20250110 (Red Hat 14.2.1-8) openSUSE Leap 15.6 Kernel: 5.15 Compiler: gcc gcc (SUSE Linux) 7.5.0 CentOS Stream 9 Kernel: 5.15 Compiler: gcc gcc (GCC) 11.5.0 20240719 (Red Hat 11.5.0-11) Debian GNU/Linux 12 Kernel: 5.15 Compiler: gcc gcc (Debian 12.2.0-14+deb12u1) 12.2.0 Fedora Linux 42 Kernel: 5.15 Compiler: clang gcc (GCC) 15.2.1 20250808 (Red Hat 15.2.1-1) Ubuntu 20.04 Kernel: 5.15 Compiler: gcc gcc (Ubuntu 9.4.0-1ubuntu1~20.04.2) 9.4.0 Ubuntu 22.04 Kernel: 5.15 Compiler: gcc gcc (Ubuntu 11.4.0-1ubuntu1~22.04) 11.4.0 Red Hat Enterprise Linux 8.10 Kernel: 5.15 Compiler: gcc gcc (GCC) 8.5.0 20210514 (Red Hat 8.5.0-22) Red Hat Enterprise Linux 9.5 Kernel: 5.15 Compiler: gcc gcc (GCC) 11.5.0 20240719 (Red Hat 11.5.0-2) Ubuntu 24.04 Kernel: 5.15 Compiler: gcc gcc (Ubuntu 13.3.0-6ubuntu2~24.04) 13.3.0 Alpine Linux 3.22.0 Kernel: 5.15 Compiler: gcc gcc (Alpine 14.2.0) 14.2.0 Windows Server 2022 Kernel: 10.0.20348.2031 Compiler: clang 15.0.7, gcc 14.1.0 (MinGW), and MSVC VS 19.39.33521 To view detailed results, visit: https://lab.dpdk.org/results/dashboard/patchsets/34465/ UNH-IOL DPDK Community Lab To manage your email subscriptions, visit: https://lab.dpdk.org/results/dashboard/preferences/subscriptions/