From mboxrd@z Thu Jan 1 00:00:00 1970 Return-Path: Received: from mails.dpdk.org (mails.dpdk.org [217.70.189.124]) by inbox.dpdk.org (Postfix) with ESMTP id 9287D48A6F for ; Wed, 5 Nov 2025 10:15:47 +0100 (CET) Received: from mails.dpdk.org (localhost [127.0.0.1]) by mails.dpdk.org (Postfix) with ESMTP id 8C77240689; Wed, 5 Nov 2025 10:15:47 +0100 (CET) Received: from mail-qv1-f100.google.com (mail-qv1-f100.google.com [209.85.219.100]) by mails.dpdk.org (Postfix) with ESMTP id 22ACF40689 for ; Wed, 5 Nov 2025 10:15:46 +0100 (CET) Received: by mail-qv1-f100.google.com with SMTP id 6a1803df08f44-880570bdef8so31642166d6.3 for ; Wed, 05 Nov 2025 01:15:46 -0800 (PST) DKIM-Signature: v=1; a=rsa-sha256; c=relaxed/relaxed; d=iol.unh.edu; s=unh-iol; t=1762334145; x=1762938945; darn=dpdk.org; h=references:in-reply-to:cc:to:from:subject:message-id:date:from:to :cc:subject:date:message-id:reply-to; bh=CZuAb4ti8BSPG4GCHP9j9sLBTzJwJA31MzXCluJGxDY=; b=bFTN/BGvum8fGgtAc5Y79ZQmizRyAyS/Iyh0ZXP69TSDupm6VhZACtakfTs32G04yb dom/2HBwvhIy+wJ2jz4WbQmEek4looaQMoAdfIfqTBYMTj1qfsFF4QkuoXuFdXNRet6R B7IabL27hwWlacKLwgOHPidpbUwMR0M0FqtyE= X-Google-DKIM-Signature: v=1; a=rsa-sha256; c=relaxed/relaxed; d=1e100.net; s=20230601; t=1762334145; x=1762938945; h=references:in-reply-to:cc:to:from:subject:message-id:date :x-gm-message-state:from:to:cc:subject:date:message-id:reply-to; bh=CZuAb4ti8BSPG4GCHP9j9sLBTzJwJA31MzXCluJGxDY=; b=MxkZSqCKrX8aksfZ+hzgYexagBfoDnUdOOXJRhPBfVbDaN7pyUno05eilJspRmobyE He9B5PpADR6ZPafa1Ytm9iCfACZ5BD6breoSul7ykIMAlULUJyQ73XSbbScyiEKxLZAb haclRJ7tso3pLCQ6aIzf6mXqKZ74i97Vrl9Sxi2i6z3MkXilylo9biAF8pcWie977Y9S r/0ywnW+gFYjjHDLdjbww3mFPoKmpUB6opIeB52xDxjctAADPcG9V0VXEDCSoR8QNflI E5/B06Qjo+oUqT1M5JkoFn9W9396kaBrKGn44MWvOoWP/nDkTaLCw8Ga2t0f4BmOAQh2 TwMg== X-Gm-Message-State: AOJu0Yx4Z5vrApSRbSzSxcjRuqPW1Q8dtxJbXMjGjK/EofE+QYugFFK8 1pGNKN67h6TzOVgw2AER1Agq1woiYJReS7DMcvZR/HZ/6v0aAD3NuoYqDZlmcy5q2y9QcLkHzLl BH+wx2ljT2/Pan/5RlsXbqnXkyuTy0Outj9W811XnTSAa X-Gm-Gg: ASbGnctW1A395zUPVDV3/y3xg8OQ+nTuRzKoPJUu9ykKW4v+Feqs1azwCiq8utsglms /wUo/J4hFNjurTcGiW0OAD7PZQ7I1h0hrpuy9bKdKboXyl9G++pnhrhdB8qbwkgxPeqNTxl1TPk 5hJRyq8eLBYMBkhst/A1JpTanpEdqENVqypMtJjaNF8E7KlicX4OHFUQv0HRMobAQTky86jRgXr Gw3NDbN9AuhaYMfAKMKgfEa7TRlHhVqL0xNGTBH/MGGXl3HA6SME8yD3Jpx6Jfzy33cVaWlhls6 UlVSKGmmk+zS5WaydqQz4Y3jALgj8Tp8SgahzVwycCTeYcm+cMbdZ/bUDFTDUBl3YbVeJ7noF23 n+adtElVoKbKGaNSW0Ejaq2hLDZsRF5s= X-Google-Smtp-Source: AGHT+IE+MvJTOptsGiKpT1+fFWMt/9hgERUTdSSiShBM+HHBAC+7EJi8MKsVLkteK6qTjm7SP/5rhGOLHY/G X-Received: by 2002:a05:6214:20ad:b0:880:3ce2:65ad with SMTP id 6a1803df08f44-8807115ffa0mr29411236d6.41.1762334142384; Wed, 05 Nov 2025 01:15:42 -0800 (PST) Received: from postal.iol.unh.edu (postal.iol.unh.edu. [132.177.123.84]) by smtp-relay.gmail.com with ESMTPS id 6a1803df08f44-88060e47452sm4823326d6.21.2025.11.05.01.15.42 (version=TLS1_2 cipher=ECDHE-ECDSA-AES128-GCM-SHA256 bits=128/128); Wed, 05 Nov 2025 01:15:42 -0800 (PST) X-Relaying-Domain: iol.unh.edu Date: Wed, 05 Nov 2025 01:15:42 -0800 (PST) Message-ID: <690b15be.050a0220.28aabb.a857SMTPIN_ADDED_MISSING@mx.google.com> Received: from [172.21.0.2] (unknown [172.18.0.240]) by postal.iol.unh.edu (Postfix) with ESMTP id 9DF416051830; Wed, 5 Nov 2025 04:15:41 -0500 (EST) Subject: |SUCCESS| pw158450 [PATCH] Revert "net/null: add fast mbuf release T From: dpdklab@iol.unh.edu To: Test Report Cc: dpdk-test-reports@iol.unh.edu, Stephen Hemminger In-Reply-To: <20251105081953.20153-1-mb@smartsharesystems.com> References: <20251105081953.20153-1-mb@smartsharesystems.com> Content-Type: text/plain X-BeenThere: test-report@dpdk.org X-Mailman-Version: 2.1.29 Precedence: list List-Id: automatic DPDK test reports List-Unsubscribe: , List-Archive: List-Post: List-Help: List-Subscribe: , Errors-To: test-report-bounces@dpdk.org Test-Label: iol-unit-amd64-testing Test-Status: SUCCESS http://dpdk.org/patch/158450 _Testing PASS_ Submitter: Morten Brorup Date: Wednesday, November 05 2025 08:19:52 DPDK git baseline: Repo:dpdk-next-net Branch: master CommitID:538052bb364db22ba8cc08b5e23a9e6d25a864a9 158450 --> testing pass Upstream job id: Generic-Unit-Test-DPDK#388762 Test environment and result as below: +-------------------------------+----------------+ | Environment | dpdk_unit_test | +===============================+================+ | Ubuntu 20.04 | PASS | +-------------------------------+----------------+ | Red Hat Enterprise Linux 9.5 | PASS | +-------------------------------+----------------+ | Debian GNU/Linux 12 | PASS | +-------------------------------+----------------+ | Fedora Linux 42 | PASS | +-------------------------------+----------------+ | Red Hat Enterprise Linux 8.10 | PASS | +-------------------------------+----------------+ | Fedora Linux 40 | PASS | +-------------------------------+----------------+ | Ubuntu 22.04 | PASS | +-------------------------------+----------------+ | CentOS Stream 10 | PASS | +-------------------------------+----------------+ | Fedora Linux 41 | PASS | +-------------------------------+----------------+ | Ubuntu 24.04 | PASS | +-------------------------------+----------------+ | CentOS Stream 9 | PASS | +-------------------------------+----------------+ Ubuntu 20.04 Kernel: 5.15 Compiler: gcc gcc (Ubuntu 9.4.0-1ubuntu1~20.04.2) 9.4.0 Red Hat Enterprise Linux 9.5 Kernel: 5.15 Compiler: gcc gcc (GCC) 11.5.0 20240719 (Red Hat 11.5.0-2) Debian GNU/Linux 12 Kernel: 5.15 Compiler: gcc gcc (Debian 12.2.0-14+deb12u1) 12.2.0 Fedora Linux 42 Kernel: 5.15 Compiler: clang gcc (GCC) 15.2.1 20250808 (Red Hat 15.2.1-1) Red Hat Enterprise Linux 8.10 Kernel: 5.15 Compiler: gcc gcc (GCC) 8.5.0 20210514 (Red Hat 8.5.0-22) Fedora Linux 40 Kernel: 5.15 Compiler: clang gcc (GCC) 14.2.1 20240912 (Red Hat 14.2.1-3) Ubuntu 22.04 Kernel: 5.15 Compiler: gcc gcc (Ubuntu 11.4.0-1ubuntu1~22.04) 11.4.0 CentOS Stream 10 Kernel: 5.15 Compiler: gcc gcc (GCC) 14.2.1 20250110 (Red Hat 14.2.1-8) Fedora Linux 41 Kernel: 5.15 Compiler: clang gcc (GCC) 14.3.1 20250523 (Red Hat 14.3.1-1) Ubuntu 24.04 Kernel: 5.15 Compiler: gcc gcc (Ubuntu 13.3.0-6ubuntu2~24.04) 13.3.0 CentOS Stream 9 Kernel: 5.15 Compiler: gcc gcc (GCC) 11.5.0 20240719 (Red Hat 11.5.0-11) To view detailed results, visit: https://lab.dpdk.org/results/dashboard/patchsets/34467/ UNH-IOL DPDK Community Lab To manage your email subscriptions, visit: https://lab.dpdk.org/results/dashboard/preferences/subscriptions/