From mboxrd@z Thu Jan 1 00:00:00 1970 Return-Path: Received: from mails.dpdk.org (mails.dpdk.org [217.70.189.124]) by inbox.dpdk.org (Postfix) with ESMTP id CC98148A6F for ; Wed, 5 Nov 2025 10:17:36 +0100 (CET) Received: from mails.dpdk.org (localhost [127.0.0.1]) by mails.dpdk.org (Postfix) with ESMTP id C6F56400D7; Wed, 5 Nov 2025 10:17:36 +0100 (CET) Received: from mail-pl1-f225.google.com (mail-pl1-f225.google.com [209.85.214.225]) by mails.dpdk.org (Postfix) with ESMTP id AD169400D7 for ; Wed, 5 Nov 2025 10:17:35 +0100 (CET) Received: by mail-pl1-f225.google.com with SMTP id d9443c01a7336-29633fdb2bcso5019915ad.3 for ; Wed, 05 Nov 2025 01:17:35 -0800 (PST) DKIM-Signature: v=1; a=rsa-sha256; c=relaxed/relaxed; d=iol.unh.edu; s=unh-iol; t=1762334255; x=1762939055; darn=dpdk.org; h=references:in-reply-to:cc:to:from:subject:message-id:date:from:to :cc:subject:date:message-id:reply-to; bh=ePnUETubMROqha52ma06zUZ+aQJYwhkRVjHwTaDdHig=; b=TET5Dp0MFWBPEXCu+9OnPGPp/UVefab1aryb4uoKwWPKDoaD/le9XfefYlItoJVJV+ 61sX/j4KXd+rcfWlF4l+XdmH05bIDFWHQm2SkKjaahGTgEA0NEPHQ1U9QQRg0uUX6umk WuDcajNwEBr9iI889qipnSEyjM7FNgxF/9dqY= X-Google-DKIM-Signature: v=1; a=rsa-sha256; c=relaxed/relaxed; d=1e100.net; s=20230601; t=1762334255; x=1762939055; h=references:in-reply-to:cc:to:from:subject:message-id:date :x-gm-message-state:from:to:cc:subject:date:message-id:reply-to; bh=ePnUETubMROqha52ma06zUZ+aQJYwhkRVjHwTaDdHig=; b=dQaV6g1FAstNjkdId4lbb7hSds74JpXDsOxff0wzS1atQpTucA94kPOdoK7u/LLHQ0 76GbqqIj0Da9ljsyo3m5v3edtvUA0O4l9UjrkR26KhQVYHqWXxpXFqDQra2yMfN5MV0S 4efWY65KNDbgTFO4SqdFA4qXJkPp8xm4B7FAGrcTWGy8ayVXwpwhEJB2DAkcqZwjizOl yUzEITHvqRFi874bwquG2vvy+Qnsk5F2rvWQ2Oa2WeJL5zJYQU/raO24HQbecHxHuJFF 0KRiRRlRvm8Md5LNHKerwfs3wveVyDUyaabH2WKsyHaG7GCP4zA3QmIRTM89xlUArGQY 53fA== X-Gm-Message-State: AOJu0Yz/HLqUqHSk/ZMkCpegItfl5mLuL+xcsqvCUMMqa4RxHw02tCFW DshR9KoY0AGsC3Glv+LAA8U3FZBC6cCZlkgM1kKSm6DnUlzRFOvm+jWtPcWk6Hjiitpy5zX5jV6 mZueAyLabHGPitsFw1iwcD1pEMYPB2dF6PjxiMHirNPYdO15GH3RYBlN3mcKi X-Gm-Gg: ASbGncsZPjr4URoaAXYTRnLp7pnm6064NHSzZzCx48E5MHBkfzMOCSo9jFEMpoPF2/T VFkAi8usV41HtNVGE6AqzrUtRUJVI/n5QpS93rxawhXS1vlqdivfWSIJFtm/tSXeRlSTp5lZCEG +W7P4NYh21S2PfZj1Xt44aDkxoxDnl5LZz9pdK7T8kda0FKpEHWxRHXaXRNTU/IYIzFeEAhFm2f XNhAi0MmPin8u/3Fku6kl/TC4xmC6n4wGuaI7NPsN5fyqohCEvLv+iYgZSkx3+Ad+pej3S4ufys TGuLRZOTDd7QBUGZ4j9NjBlHwsICwud6TarZ5dMCHuIyCvvD/+ivxDwKrjstUrHbXNl9jL5knUh ZrsRrhpcU X-Google-Smtp-Source: AGHT+IF+/xL9tb8ht3UjgUVXVclxW01sOAxiDgAbor47DpQJw1t4Yu/C/Ehr//+5/VqrDQI1H1P1r9YKdjQL X-Received: by 2002:a17:902:cece:b0:295:73f:90d0 with SMTP id d9443c01a7336-2962adb837amr33906285ad.50.1762334254793; Wed, 05 Nov 2025 01:17:34 -0800 (PST) Received: from postal.iol.unh.edu (postal.iol.unh.edu. [2606:4100:3880:1234::84]) by smtp-relay.gmail.com with ESMTPS id d9443c01a7336-29601991b9csm4970875ad.25.2025.11.05.01.17.34 (version=TLS1_2 cipher=ECDHE-ECDSA-AES128-GCM-SHA256 bits=128/128); Wed, 05 Nov 2025 01:17:34 -0800 (PST) X-Relaying-Domain: iol.unh.edu Date: Wed, 05 Nov 2025 01:17:34 -0800 (PST) Message-ID: <690b162e.170a0220.2581e2.c8a0SMTPIN_ADDED_MISSING@mx.google.com> Received: from [172.21.0.4] (unknown [172.18.0.240]) by postal.iol.unh.edu (Postfix) with ESMTP id C07696051830; Wed, 5 Nov 2025 04:17:33 -0500 (EST) Subject: |SUCCESS| pw158450 [PATCH] Revert "net/null: add fast mbuf release T From: dpdklab@iol.unh.edu To: Test Report Cc: dpdk-test-reports@iol.unh.edu, Stephen Hemminger In-Reply-To: <20251105081953.20153-1-mb@smartsharesystems.com> References: <20251105081953.20153-1-mb@smartsharesystems.com> Content-Type: text/plain X-BeenThere: test-report@dpdk.org X-Mailman-Version: 2.1.29 Precedence: list List-Id: automatic DPDK test reports List-Unsubscribe: , List-Archive: List-Post: List-Help: List-Subscribe: , Errors-To: test-report-bounces@dpdk.org Test-Label: iol-compile-amd64-testing Test-Status: SUCCESS http://dpdk.org/patch/158450 _Testing PASS_ Submitter: Morten Brorup Date: Wednesday, November 05 2025 08:19:52 DPDK git baseline: Repo:dpdk-next-net Branch: master CommitID:538052bb364db22ba8cc08b5e23a9e6d25a864a9 158450 --> testing pass Upstream job id: Generic-DPDK-Compile-Meson#440936 Test environment and result as below: +-------------------------------+--------------------+------------------+ | Environment | dpdk_meson_compile | dpdk_compile_ovs | +===============================+====================+==================+ | Debian GNU/Linux 12 | PASS | SKIPPED | +-------------------------------+--------------------+------------------+ | CentOS Stream 9 | PASS | SKIPPED | +-------------------------------+--------------------+------------------+ | CentOS Stream 10 | PASS | SKIPPED | +-------------------------------+--------------------+------------------+ | Ubuntu 24.04 | PASS | PASS | +-------------------------------+--------------------+------------------+ | Fedora Linux 42 | PASS | PASS | +-------------------------------+--------------------+------------------+ | Red Hat Enterprise Linux 9.5 | PASS | SKIPPED | +-------------------------------+--------------------+------------------+ | Red Hat Enterprise Linux 8.10 | PASS | SKIPPED | +-------------------------------+--------------------+------------------+ | Ubuntu 20.04 | PASS | SKIPPED | +-------------------------------+--------------------+------------------+ | Ubuntu 22.04 | PASS | SKIPPED | +-------------------------------+--------------------+------------------+ | Alpine Linux 3.22.0 | PASS | SKIPPED | +-------------------------------+--------------------+------------------+ | openSUSE Leap 15.6 | PASS | SKIPPED | +-------------------------------+--------------------+------------------+ | FreeBSD 14.2 | PASS | SKIPPED | +-------------------------------+--------------------+------------------+ Debian GNU/Linux 12 Kernel: 5.15 Compiler: gcc gcc (Debian 12.2.0-14+deb12u1) 12.2.0 CentOS Stream 9 Kernel: 5.15 Compiler: gcc gcc (GCC) 11.5.0 20240719 (Red Hat 11.5.0-11) CentOS Stream 10 Kernel: 5.15 Compiler: gcc gcc (GCC) 14.2.1 20250110 (Red Hat 14.2.1-8) Ubuntu 24.04 Kernel: 5.15 Compiler: gcc gcc (Ubuntu 13.3.0-6ubuntu2~24.04) 13.3.0 Fedora Linux 42 Kernel: 5.15 Compiler: clang gcc (GCC) 15.2.1 20250808 (Red Hat 15.2.1-1) Red Hat Enterprise Linux 9.5 Kernel: 5.15 Compiler: gcc gcc (GCC) 11.5.0 20240719 (Red Hat 11.5.0-2) Red Hat Enterprise Linux 8.10 Kernel: 5.15 Compiler: gcc gcc (GCC) 8.5.0 20210514 (Red Hat 8.5.0-22) Ubuntu 20.04 Kernel: 5.15 Compiler: gcc gcc (Ubuntu 9.4.0-1ubuntu1~20.04.2) 9.4.0 Ubuntu 22.04 Kernel: 5.15 Compiler: gcc gcc (Ubuntu 11.4.0-1ubuntu1~22.04) 11.4.0 Alpine Linux 3.22.0 Kernel: 5.15 Compiler: gcc gcc (Alpine 14.2.0) 14.2.0 openSUSE Leap 15.6 Kernel: 5.15 Compiler: gcc gcc (SUSE Linux) 7.5.0 FreeBSD 14.2 Kernel: 14.2-RELEASE Compiler: clang 18.1.6 To view detailed results, visit: https://lab.dpdk.org/results/dashboard/patchsets/34467/ UNH-IOL DPDK Community Lab To manage your email subscriptions, visit: https://lab.dpdk.org/results/dashboard/preferences/subscriptions/