From mboxrd@z Thu Jan 1 00:00:00 1970 Return-Path: Received: from mails.dpdk.org (mails.dpdk.org [217.70.189.124]) by inbox.dpdk.org (Postfix) with ESMTP id 3E87248A6F for ; Wed, 5 Nov 2025 10:21:27 +0100 (CET) Received: from mails.dpdk.org (localhost [127.0.0.1]) by mails.dpdk.org (Postfix) with ESMTP id 36C48400D7; Wed, 5 Nov 2025 10:21:27 +0100 (CET) Received: from mail-oa1-f98.google.com (mail-oa1-f98.google.com [209.85.160.98]) by mails.dpdk.org (Postfix) with ESMTP id 23756400D7 for ; Wed, 5 Nov 2025 10:21:26 +0100 (CET) Received: by mail-oa1-f98.google.com with SMTP id 586e51a60fabf-3c9a42d6349so7634480fac.1 for ; Wed, 05 Nov 2025 01:21:26 -0800 (PST) DKIM-Signature: v=1; a=rsa-sha256; c=relaxed/relaxed; d=iol.unh.edu; s=unh-iol; t=1762334485; x=1762939285; darn=dpdk.org; h=references:in-reply-to:cc:to:from:subject:message-id:date:from:to :cc:subject:date:message-id:reply-to; bh=TPqR3jp8g81aPQRruweubGXkPAxGRgazclcr+MfUJ4g=; b=bEhmFoRSWGfX0TOl9ZwKo8g0j9+v3pb9opVZFa6Zsul0+tNIr614CKYk/OlMq/m7HN bdnrr/sngP8Hai1zWyAoxECJ5LkEEvsntnysYI8aB6iNAnxxYj7nZbz+Wzud9zcccK8s cGmQNiGMf+foaFJeoeBLHkxfftYbSGLK047ZY= X-Google-DKIM-Signature: v=1; a=rsa-sha256; c=relaxed/relaxed; d=1e100.net; s=20230601; t=1762334485; x=1762939285; h=references:in-reply-to:cc:to:from:subject:message-id:date :x-gm-message-state:from:to:cc:subject:date:message-id:reply-to; bh=TPqR3jp8g81aPQRruweubGXkPAxGRgazclcr+MfUJ4g=; b=dZ5S3gHujGPbBHTUW67q0jYKMcfyTMR3q0nxBvl7HNz1TTc+KBdQr7rg7LyOq/Gsn3 t8CE6/thDgMiA4myGWafSXGPsoDUiLdCJjFtBfbqUoXHDvfNBFLEFlAqzneF1snhD974 v2jcQVl1XG+uLI8q9e6UQRwozT8UTLFmwU+fGG2L3+Hyrto8Z/m+Wmf7IVC+qiROriLV NXnuTcpz00vc1Dw/NnvpOnKFz357tHZMajBIg7Bs6Nn9jfHiTJXLLfMFZSjtjpGDd+/y hFUsqV1ulXiZcZO69ikRIix6kSTx8Cw0i/cBc4f6F8QGFjiAGBnT1WtD31FRMiZsWZGl qz8w== X-Gm-Message-State: AOJu0YyYF8cXSD6qZFs/K7nsNPxCsQ/d3BUD/TywqDRZBR848xL7Lccx YNmIdQAIN7qrO4FJmTDAnjTCLms9eeqbcHx0VzNYLy+OtWSquO4Z8gyaiyoGzTZb31rUM8w6xo1 y4JRw6fWnDjQ+dxEh2r0D3kBrVxcqdwdw3CbIJ5vDabc3yhunNfuPOPeyjUHz X-Gm-Gg: ASbGncvnQ6WahipC0fPFoygiWoLbZFLDTzvQYdqdPchxBqEZ0QDYQn+i+FmYmXqQd6t Y6c4oock+Cy3yph4JlkpDHkSperCXLrxsd/j8EW2LQ/pLNc7Bfe5o9j1c3PhwBOmys3sucl+sB3 1ibk31ZjKJ3ZIVDiLrnSmT47ygXsruq9SqMpaAWwTVzHp8n5bik5OJFw9u1sjAdwFhH/QPs87wX xBDRQUb16zzp18pamNhcnxGt0Zn1yj7DoMbjJh6e3J0kOxJEXRL9Sfp9pwV6oGarCHhfZvw6zN5 cqd2pFnUpT9uFCqAXRbv+8G6Qj2LJe3vpjpV4IWiPIk7IoVo7QHLPBA9NXBF0p1ONNF95XoY13N eswa1I+ky X-Google-Smtp-Source: AGHT+IFLkkCiJHcCXtDwVZ9SRvBV86z+vOVsD94xylABhuRR4xbZRR/64ICg3CIFYCTpKFLB/EWZ23yQ21HG X-Received: by 2002:a05:6870:1813:b0:344:5201:15a4 with SMTP id 586e51a60fabf-3e1993683f5mr1115745fac.16.1762334485322; Wed, 05 Nov 2025 01:21:25 -0800 (PST) Received: from postal.iol.unh.edu (postal.iol.unh.edu. [2606:4100:3880:1234::84]) by smtp-relay.gmail.com with ESMTPS id 586e51a60fabf-3dff776234dsm436307fac.20.2025.11.05.01.21.25 (version=TLS1_2 cipher=ECDHE-ECDSA-AES128-GCM-SHA256 bits=128/128); Wed, 05 Nov 2025 01:21:25 -0800 (PST) X-Relaying-Domain: iol.unh.edu Date: Wed, 05 Nov 2025 01:21:25 -0800 (PST) Message-ID: <690b1715.050a0220.248fef.7a23SMTPIN_ADDED_MISSING@mx.google.com> Received: from [172.21.0.5] (unknown [172.18.0.240]) by postal.iol.unh.edu (Postfix) with ESMTP id ED2AC6051830; Wed, 5 Nov 2025 04:21:24 -0500 (EST) Subject: |SUCCESS| pw158444-158448 [PATCH] [v3,5/5] drivers: net/cnxk: enable From: dpdklab@iol.unh.edu To: Test Report Cc: dpdk-test-reports@iol.unh.edu In-Reply-To: <20251105070932.3569572-5-rkudurumalla@marvell.com> References: <20251105070932.3569572-5-rkudurumalla@marvell.com> Content-Type: text/plain X-BeenThere: test-report@dpdk.org X-Mailman-Version: 2.1.29 Precedence: list List-Id: automatic DPDK test reports List-Unsubscribe: , List-Archive: List-Post: List-Help: List-Subscribe: , Errors-To: test-report-bounces@dpdk.org Test-Label: iol-unit-amd64-testing Test-Status: SUCCESS http://dpdk.org/patch/158448 _Testing PASS_ Submitter: Rakesh Kudurumalla Date: Wednesday, November 05 2025 07:09:32 DPDK git baseline: Repo:dpdk-next-net-mrvl Branch: master CommitID:1bdf2b3c27880f1d90df46a89d5643f20587a973 158444-158448 --> testing pass Upstream job id: Generic-Unit-Test-DPDK#388709 Test environment and result as below: +-------------------------------+----------------+ | Environment | dpdk_unit_test | +===============================+================+ | Red Hat Enterprise Linux 8.10 | PASS | +-------------------------------+----------------+ | Fedora Linux 41 | PASS | +-------------------------------+----------------+ | Ubuntu 22.04 | PASS | +-------------------------------+----------------+ | CentOS Stream 10 | PASS | +-------------------------------+----------------+ | Fedora Linux 40 | PASS | +-------------------------------+----------------+ | Ubuntu 24.04 | PASS | +-------------------------------+----------------+ | Debian GNU/Linux 12 | PASS | +-------------------------------+----------------+ | Red Hat Enterprise Linux 9.5 | PASS | +-------------------------------+----------------+ | CentOS Stream 9 | PASS | +-------------------------------+----------------+ | Fedora Linux 42 | PASS | +-------------------------------+----------------+ | Ubuntu 20.04 | PASS | +-------------------------------+----------------+ | Windows Server 2022 | PASS | +-------------------------------+----------------+ Red Hat Enterprise Linux 8.10 Kernel: 5.15 Compiler: gcc gcc (GCC) 8.5.0 20210514 (Red Hat 8.5.0-22) Fedora Linux 41 Kernel: 5.15 Compiler: gcc gcc (GCC) 14.3.1 20250523 (Red Hat 14.3.1-1) Ubuntu 22.04 Kernel: 5.15 Compiler: gcc gcc (Ubuntu 11.4.0-1ubuntu1~22.04) 11.4.0 CentOS Stream 10 Kernel: 5.15 Compiler: gcc gcc (GCC) 14.2.1 20250110 (Red Hat 14.2.1-8) Fedora Linux 40 Kernel: 5.15 Compiler: clang gcc (GCC) 14.2.1 20240912 (Red Hat 14.2.1-3) Ubuntu 24.04 Kernel: 5.15 Compiler: gcc gcc (Ubuntu 13.3.0-6ubuntu2~24.04) 13.3.0 Debian GNU/Linux 12 Kernel: 5.15 Compiler: gcc gcc (Debian 12.2.0-14+deb12u1) 12.2.0 Red Hat Enterprise Linux 9.5 Kernel: 5.15 Compiler: gcc gcc (GCC) 11.5.0 20240719 (Red Hat 11.5.0-2) CentOS Stream 9 Kernel: 5.15 Compiler: gcc gcc (GCC) 11.5.0 20240719 (Red Hat 11.5.0-11) Fedora Linux 42 Kernel: 5.15 Compiler: gcc gcc (GCC) 15.2.1 20250808 (Red Hat 15.2.1-1) Ubuntu 20.04 Kernel: 5.15 Compiler: gcc gcc (Ubuntu 9.4.0-1ubuntu1~20.04.2) 9.4.0 Windows Server 2022 Kernel: 10.0.20348.2031 Compiler: clang 15.0.7, gcc 14.1.0 (MinGW), and MSVC VS 19.39.33521 To view detailed results, visit: https://lab.dpdk.org/results/dashboard/patchsets/34465/ UNH-IOL DPDK Community Lab To manage your email subscriptions, visit: https://lab.dpdk.org/results/dashboard/preferences/subscriptions/