automatic DPDK test reports
 help / color / mirror / Atom feed
From: dpdklab@iol.unh.edu
To: Test Report <test-report@dpdk.org>
Cc: dpdk-test-reports@iol.unh.edu
Subject: |SUCCESS| pw158451-158452 [PATCH] [2/2] ci: add dependency in GHA fo
Date: Wed, 05 Nov 2025 02:08:19 -0800 (PST)	[thread overview]
Message-ID: <690b2213.170a0220.2e8c0.adf2SMTPIN_ADDED_MISSING@mx.google.com> (raw)
In-Reply-To: <20251105084309.3851898-2-david.marchand@redhat.com>

Test-Label: iol-unit-amd64-testing
Test-Status: SUCCESS
http://dpdk.org/patch/158452

_Testing PASS_

Submitter: David Marchand <david.marchand@redhat.com>
Date: Wednesday, November 05 2025 08:43:09 
DPDK git baseline: Repo:dpdk
  Branch: master
  CommitID:91bac7546b34fbcbc96ec7b3afa4bb2daa8accb9

158451-158452 --> testing pass

Upstream job id: Generic-Unit-Test-DPDK#388788

Test environment and result as below:

+-------------------------------+----------------+
|          Environment          | dpdk_unit_test |
+===============================+================+
| Fedora Linux 42               | PASS           |
+-------------------------------+----------------+
| Fedora Linux 40               | PASS           |
+-------------------------------+----------------+
| Red Hat Enterprise Linux 9.5  | PASS           |
+-------------------------------+----------------+
| Red Hat Enterprise Linux 8.10 | PASS           |
+-------------------------------+----------------+
| Ubuntu 20.04                  | PASS           |
+-------------------------------+----------------+
| Debian GNU/Linux 12           | PASS           |
+-------------------------------+----------------+
| CentOS Stream 10              | PASS           |
+-------------------------------+----------------+
| Fedora Linux 41               | PASS           |
+-------------------------------+----------------+
| Ubuntu 22.04                  | PASS           |
+-------------------------------+----------------+
| CentOS Stream 9               | PASS           |
+-------------------------------+----------------+
| Ubuntu 24.04                  | PASS           |
+-------------------------------+----------------+


Fedora Linux 42
	Kernel: 5.15
	Compiler: gcc gcc (GCC) 15.2.1 20250808 (Red Hat 15.2.1-1)

Fedora Linux 40
	Kernel: 5.15
	Compiler: gcc gcc (GCC) 14.2.1 20240912 (Red Hat 14.2.1-3)

Red Hat Enterprise Linux 9.5
	Kernel: 5.15
	Compiler: gcc gcc (GCC) 11.5.0 20240719 (Red Hat 11.5.0-2)

Red Hat Enterprise Linux 8.10
	Kernel: 5.15
	Compiler: gcc gcc (GCC) 8.5.0 20210514 (Red Hat 8.5.0-22)

Ubuntu 20.04
	Kernel: 5.15
	Compiler: gcc gcc (Ubuntu 9.4.0-1ubuntu1~20.04.2) 9.4.0

Debian GNU/Linux 12
	Kernel: 5.15
	Compiler: gcc gcc (Debian 12.2.0-14+deb12u1) 12.2.0

CentOS Stream 10
	Kernel: 5.15
	Compiler: gcc gcc (GCC) 14.2.1 20250110 (Red Hat 14.2.1-8)

Fedora Linux 41
	Kernel: 5.15
	Compiler: clang gcc (GCC) 14.3.1 20250523 (Red Hat 14.3.1-1)

Ubuntu 22.04
	Kernel: 5.15
	Compiler: gcc gcc (Ubuntu 11.4.0-1ubuntu1~22.04) 11.4.0

CentOS Stream 9
	Kernel: 5.15
	Compiler: gcc gcc (GCC) 11.5.0 20240719 (Red Hat 11.5.0-11)

Ubuntu 24.04
	Kernel: 5.15
	Compiler: gcc gcc (Ubuntu 13.3.0-6ubuntu2~24.04) 13.3.0

To view detailed results, visit:
https://lab.dpdk.org/results/dashboard/patchsets/34468/

UNH-IOL DPDK Community Lab

To manage your email subscriptions, visit: 
https://lab.dpdk.org/results/dashboard/preferences/subscriptions/

  parent reply	other threads:[~2025-11-05 10:08 UTC|newest]

Thread overview: 26+ messages / expand[flat|nested]  mbox.gz  Atom feed  top
     [not found] <20251105084309.3851898-2-david.marchand@redhat.com>
2025-11-05  8:26 ` |SUCCESS| pw158451-158452 [PATCH 2/2] ci: add dependency in GHA for AMD uncore power driver qemudev
2025-11-05  8:30 ` qemudev
2025-11-05  8:43 ` |SUCCESS| pw158452 " checkpatch
2025-11-05  9:32 ` |PENDING| pw158451-158452 [PATCH] [2/2] ci: add dependency in GHA fo dpdklab
2025-11-05  9:32 ` |SUCCESS| " dpdklab
2025-11-05  9:33 ` |PENDING| " dpdklab
2025-11-05  9:41 ` |SUCCESS| " dpdklab
2025-11-05  9:41 ` dpdklab
2025-11-05  9:54 ` dpdklab
2025-11-05 10:08 ` |PENDING| " dpdklab
2025-11-05 10:08 ` dpdklab [this message]
2025-11-05 10:25 ` |SUCCESS| " dpdklab
2025-11-05 11:00 ` |SUCCESS| pw158452 [PATCH 2/2] ci: add dependency in GHA for AMD uncore power driver 0-day Robot
2025-11-05 11:00 ` 0-day Robot
2025-11-05 11:03 ` |SUCCESS| pw158451-158452 [PATCH] [2/2] ci: add dependency in GHA fo dpdklab
2025-11-05 11:19 ` dpdklab
2025-11-05 11:29 ` dpdklab
2025-11-05 11:39 ` dpdklab
2025-11-05 11:41 ` dpdklab
2025-11-05 11:47 ` dpdklab
2025-11-05 12:14 ` dpdklab
2025-11-05 13:04 ` dpdklab
2025-11-05 15:20 ` dpdklab
2025-11-05 15:28 ` dpdklab
2025-11-05 17:01 ` dpdklab
2025-11-05 17:17 ` dpdklab

Reply instructions:

You may reply publicly to this message via plain-text email
using any one of the following methods:

* Save the following mbox file, import it into your mail client,
  and reply-to-all from there: mbox

  Avoid top-posting and favor interleaved quoting:
  https://en.wikipedia.org/wiki/Posting_style#Interleaved_style

* Reply using the --to, --cc, and --in-reply-to
  switches of git-send-email(1):

  git send-email \
    --in-reply-to=690b2213.170a0220.2e8c0.adf2SMTPIN_ADDED_MISSING@mx.google.com \
    --to=dpdklab@iol.unh.edu \
    --cc=dpdk-test-reports@iol.unh.edu \
    --cc=test-report@dpdk.org \
    /path/to/YOUR_REPLY

  https://kernel.org/pub/software/scm/git/docs/git-send-email.html

* If your mail client supports setting the In-Reply-To header
  via mailto: links, try the mailto: link
Be sure your reply has a Subject: header at the top and a blank line before the message body.
This is a public inbox, see mirroring instructions
for how to clone and mirror all data and code used for this inbox;
as well as URLs for NNTP newsgroup(s).