From mboxrd@z Thu Jan 1 00:00:00 1970 Return-Path: Received: from mails.dpdk.org (mails.dpdk.org [217.70.189.124]) by inbox.dpdk.org (Postfix) with ESMTP id 9A44048A6F for ; Wed, 5 Nov 2025 11:08:21 +0100 (CET) Received: from mails.dpdk.org (localhost [127.0.0.1]) by mails.dpdk.org (Postfix) with ESMTP id 94F2E400D7; Wed, 5 Nov 2025 11:08:21 +0100 (CET) Received: from mail-pj1-f100.google.com (mail-pj1-f100.google.com [209.85.216.100]) by mails.dpdk.org (Postfix) with ESMTP id 1AC19400D7 for ; Wed, 5 Nov 2025 11:08:20 +0100 (CET) Received: by mail-pj1-f100.google.com with SMTP id 98e67ed59e1d1-3407f385dd0so4280048a91.1 for ; Wed, 05 Nov 2025 02:08:20 -0800 (PST) DKIM-Signature: v=1; a=rsa-sha256; c=relaxed/relaxed; d=iol.unh.edu; s=unh-iol; t=1762337299; x=1762942099; darn=dpdk.org; h=references:in-reply-to:cc:to:from:subject:message-id:date:from:to :cc:subject:date:message-id:reply-to; bh=tx2xPGu2PoO0TBGakR2BL5hJcIz9N+86tOt0gLUZ/Vs=; b=fm+k83beDQeUGmk4tyHazPuUOldsuMf6cKv9sHSNPxZsUFc4PWHBi0zds56Vr23lTz /NeFS81WicvkNWcSHFOzzrTY8jaGyc5nYyvOUVn6f8AGa7ZlI0OK8nfixEXL+sVbUEYN QCAR3YAPm3z3bRGrcxBIGnp+cXsanw2frDSbs= X-Google-DKIM-Signature: v=1; a=rsa-sha256; c=relaxed/relaxed; d=1e100.net; s=20230601; t=1762337299; x=1762942099; h=references:in-reply-to:cc:to:from:subject:message-id:date :x-gm-message-state:from:to:cc:subject:date:message-id:reply-to; bh=tx2xPGu2PoO0TBGakR2BL5hJcIz9N+86tOt0gLUZ/Vs=; b=XVrD+8YoBo31wDmwU/CYkZ8KKXmIFcVb8bXFfZuekEw1b7t4GHPeKTc8f8bdEj4VIL ZxCqiuPh81G64+obr3jvv5OghhI1CClv1C+U7UbKQNsghM7Vzs7aezUMzJNku3GOt9AQ ZmNYS1FuP85xerk36bkHhZkPmrYQeXxeHzuAmu/OutmyGVrcGUm1YAiClAtl41emXRjr BRWmG/mH0F7O2q/tZ8PhB4LF3LGTv3/j0MRsHaFg07C/1o6nwYqGdJuT1u1NEFm0gReI fh3uEwTVPYlz/jKOa+RAIQlRn7boa8r4FNDwjpfJ4K8jt1q2jwOyWgYxbSHmpM++RFjH V4zw== X-Gm-Message-State: AOJu0YwnuZctpKK3sI4ovAJmL65SSB8aqykQ9Tj6aznBRY1+DQ+P6p/T DcxIOLFI1F8WtvYsJ9S8PyPJGDHdfVAzFbUPwGgFWWmKUC/B9+R2cK1q8K9AeGzapKS1UqpQPzl KU0gKvSD3rvy+1oSy7zYcFPGt5HYM0ZcERXOUrrpg5kLF X-Gm-Gg: ASbGncsrV2PDp+ZS0v/ohbCZVnKg5tUCVXIP7av/7s+3IeV4ErBawC82UIBVyZpTBf2 d4KWTy7pUimpRmCSKwGcoIC0GjuTJi7XcK5EDzKA92UoNXraOE8ViILvDRiiRBj3bStRnTMMMu+ PXc0sBsjtm7Zj6L7tagS1gxwL6nICzSkfocC99vkFw8+pYEaoQ9IUY6eAkebUaCUelv6RShcWWK Nlkt2L38zOunCrmDeiNu9U8JWDHtWQRbPd+qAiGZSjC3RZIF83J17XDJYRGME9Y6yWRbc3wUtvw G71j4RhwSKNQ3XooiF0rNC+hZQqzWxSQA9P6LjFaEvpMHUlv0EQ5q7rRH85a810qNMyfRUABCk4 idSzCp/101wfyJs22to0YVJisnMO4OnI= X-Google-Smtp-Source: AGHT+IH1utQymDmf5eHGz7HvqzHGnMZfKOu0xyCCMYqdt5+H/7R0NNJjK//21RGmyfGJFGbRmlSb3WZ/UWei X-Received: by 2002:a17:90b:5848:b0:33b:bf8d:6172 with SMTP id 98e67ed59e1d1-341a7005cfbmr3184903a91.34.1762337299264; Wed, 05 Nov 2025 02:08:19 -0800 (PST) Received: from postal.iol.unh.edu (postal.iol.unh.edu. [132.177.123.84]) by smtp-relay.gmail.com with ESMTPS id 98e67ed59e1d1-3417a2fb499sm205445a91.0.2025.11.05.02.08.19 (version=TLS1_2 cipher=ECDHE-ECDSA-AES128-GCM-SHA256 bits=128/128); Wed, 05 Nov 2025 02:08:19 -0800 (PST) X-Relaying-Domain: iol.unh.edu Date: Wed, 05 Nov 2025 02:08:19 -0800 (PST) Message-ID: <690b2213.170a0220.2e8c0.adf2SMTPIN_ADDED_MISSING@mx.google.com> Received: from [172.21.0.19] (unknown [172.18.0.240]) by postal.iol.unh.edu (Postfix) with ESMTP id 288256051830; Wed, 5 Nov 2025 05:08:18 -0500 (EST) Subject: |SUCCESS| pw158451-158452 [PATCH] [2/2] ci: add dependency in GHA fo From: dpdklab@iol.unh.edu To: Test Report Cc: dpdk-test-reports@iol.unh.edu In-Reply-To: <20251105084309.3851898-2-david.marchand@redhat.com> References: <20251105084309.3851898-2-david.marchand@redhat.com> Content-Type: text/plain X-BeenThere: test-report@dpdk.org X-Mailman-Version: 2.1.29 Precedence: list List-Id: automatic DPDK test reports List-Unsubscribe: , List-Archive: List-Post: List-Help: List-Subscribe: , Errors-To: test-report-bounces@dpdk.org Test-Label: iol-unit-amd64-testing Test-Status: SUCCESS http://dpdk.org/patch/158452 _Testing PASS_ Submitter: David Marchand Date: Wednesday, November 05 2025 08:43:09 DPDK git baseline: Repo:dpdk Branch: master CommitID:91bac7546b34fbcbc96ec7b3afa4bb2daa8accb9 158451-158452 --> testing pass Upstream job id: Generic-Unit-Test-DPDK#388788 Test environment and result as below: +-------------------------------+----------------+ | Environment | dpdk_unit_test | +===============================+================+ | Fedora Linux 42 | PASS | +-------------------------------+----------------+ | Fedora Linux 40 | PASS | +-------------------------------+----------------+ | Red Hat Enterprise Linux 9.5 | PASS | +-------------------------------+----------------+ | Red Hat Enterprise Linux 8.10 | PASS | +-------------------------------+----------------+ | Ubuntu 20.04 | PASS | +-------------------------------+----------------+ | Debian GNU/Linux 12 | PASS | +-------------------------------+----------------+ | CentOS Stream 10 | PASS | +-------------------------------+----------------+ | Fedora Linux 41 | PASS | +-------------------------------+----------------+ | Ubuntu 22.04 | PASS | +-------------------------------+----------------+ | CentOS Stream 9 | PASS | +-------------------------------+----------------+ | Ubuntu 24.04 | PASS | +-------------------------------+----------------+ Fedora Linux 42 Kernel: 5.15 Compiler: gcc gcc (GCC) 15.2.1 20250808 (Red Hat 15.2.1-1) Fedora Linux 40 Kernel: 5.15 Compiler: gcc gcc (GCC) 14.2.1 20240912 (Red Hat 14.2.1-3) Red Hat Enterprise Linux 9.5 Kernel: 5.15 Compiler: gcc gcc (GCC) 11.5.0 20240719 (Red Hat 11.5.0-2) Red Hat Enterprise Linux 8.10 Kernel: 5.15 Compiler: gcc gcc (GCC) 8.5.0 20210514 (Red Hat 8.5.0-22) Ubuntu 20.04 Kernel: 5.15 Compiler: gcc gcc (Ubuntu 9.4.0-1ubuntu1~20.04.2) 9.4.0 Debian GNU/Linux 12 Kernel: 5.15 Compiler: gcc gcc (Debian 12.2.0-14+deb12u1) 12.2.0 CentOS Stream 10 Kernel: 5.15 Compiler: gcc gcc (GCC) 14.2.1 20250110 (Red Hat 14.2.1-8) Fedora Linux 41 Kernel: 5.15 Compiler: clang gcc (GCC) 14.3.1 20250523 (Red Hat 14.3.1-1) Ubuntu 22.04 Kernel: 5.15 Compiler: gcc gcc (Ubuntu 11.4.0-1ubuntu1~22.04) 11.4.0 CentOS Stream 9 Kernel: 5.15 Compiler: gcc gcc (GCC) 11.5.0 20240719 (Red Hat 11.5.0-11) Ubuntu 24.04 Kernel: 5.15 Compiler: gcc gcc (Ubuntu 13.3.0-6ubuntu2~24.04) 13.3.0 To view detailed results, visit: https://lab.dpdk.org/results/dashboard/patchsets/34468/ UNH-IOL DPDK Community Lab To manage your email subscriptions, visit: https://lab.dpdk.org/results/dashboard/preferences/subscriptions/