From mboxrd@z Thu Jan 1 00:00:00 1970 Return-Path: Received: from mails.dpdk.org (mails.dpdk.org [217.70.189.124]) by inbox.dpdk.org (Postfix) with ESMTP id 8BD1F48A6F for ; Wed, 5 Nov 2025 11:25:27 +0100 (CET) Received: from mails.dpdk.org (localhost [127.0.0.1]) by mails.dpdk.org (Postfix) with ESMTP id 8547C40695; Wed, 5 Nov 2025 11:25:27 +0100 (CET) Received: from mail-il1-f226.google.com (mail-il1-f226.google.com [209.85.166.226]) by mails.dpdk.org (Postfix) with ESMTP id 535A0400D7 for ; Wed, 5 Nov 2025 11:25:26 +0100 (CET) Received: by mail-il1-f226.google.com with SMTP id e9e14a558f8ab-433258101ceso30920905ab.1 for ; Wed, 05 Nov 2025 02:25:26 -0800 (PST) DKIM-Signature: v=1; a=rsa-sha256; c=relaxed/relaxed; d=iol.unh.edu; s=unh-iol; t=1762338325; x=1762943125; darn=dpdk.org; h=references:in-reply-to:cc:to:from:subject:message-id:date:from:to :cc:subject:date:message-id:reply-to; bh=RV53LzRg0g2ThNMJnxDYI3Y7ueMeVEYqE7OA2c4xVBo=; b=Fs1kPOu1+/mvqiztz80BeWjolQCxsn3BGYihufrMcpiy59QVacr0Myv+I8HCUdxvvK a4vTCGMbj3VtOflTNO+hWrl5/wW4fiE7QJU5TbALbYVHb0dVsVZx57Q5uUJeOTCFQIgs aYu38M6Qvul5zftjR3KNEuIL+SCyG1MIXw3rs= X-Google-DKIM-Signature: v=1; a=rsa-sha256; c=relaxed/relaxed; d=1e100.net; s=20230601; t=1762338325; x=1762943125; h=references:in-reply-to:cc:to:from:subject:message-id:date :x-gm-message-state:from:to:cc:subject:date:message-id:reply-to; bh=RV53LzRg0g2ThNMJnxDYI3Y7ueMeVEYqE7OA2c4xVBo=; b=IIbDnJV4kW2Ugl9IpAtaxe1S7apiZnCAJWpSJ+D3CokGWqYP/oX6LKpOQ0OoNsrL9w 0rq55ub/nFkEIchpes7sOCUdVzSSzvrQj+Z/VDRQZE3Enm7Q5XiD+aU0JNhIxAay7ubY gyRBVlqp7RU3aSM6Q9xArKbwnCEkbzZmOInY2HzDNTKKJrGWd4gizbxzT+STbgCbvLoZ FyzWklSnGMp1OmMNDntorG/Rq/90CM8pYl9B9JYx3JTL2GMwncvUcQiTBxw/5OQZQ+qf Pd/GwcbKNQ4QGiKM/e7tsOEL+Ag3qrYUaMQKQhSqw3tEnhhLYmFM2UIxM/bT3Qe8U++o TY9A== X-Gm-Message-State: AOJu0YxTUJ7wWhkD273uj8s5Sn63gRd/9gU9TYpRXxQvIW3B4qlLgQ59 le9pEIgPZAYN2yJ9VSvP86WigdByWb+dFlOrIbaEkFDOPVgsZWuZnkAXunHU6XvOh6ii+xb/uCL 3Nv6VbDNDYcwwH0b2kJuSf20zuYoWLIL3VsvDAEb/0y1vproLfdzNlgnI8T06 X-Gm-Gg: ASbGnctwbT/Bn4yGtkFQk2IpucE96LQAKtDGYEXgSpXTYSuUlb22rpeiXg8g/sEGQJe tv/KJ54eVI5Mx7CL0X/QI/QJuqHgxd4/m8JBBRYHFlgqP3cuFTSFDfjX8/HCIbBhBw/+3922dt3 70u2jLvjs/OhNKbeLEY53za06EhBaLlLYosmuYznoqIEAqd2ZyQOenDZuzVdhW5ICthLlY+wrai CtzIv3GMw+TrKornZf1QNpZtbRN2yz+IvLswrFYuAlyTlgeWg9KruSnjrulPcLl85Zq/inIJhqm 5uzYoa3U2B5iHgz7flMp24UYzUwuVS2wJWvqDlhprOw1AB5XTB5AWCUQ1rXtmPqy+uZ8JXDvmYp eYPyhIk9c X-Google-Smtp-Source: AGHT+IGJ6KYGFMjY48x75NVti3yAk+I6nwQm989L8E+vxMV9MuXyKXr4QrNTpI+d+U9bKsxhXP8NTCvZbVAx X-Received: by 2002:a05:6e02:18c5:b0:433:29a9:32e2 with SMTP id e9e14a558f8ab-433407d50e9mr36838065ab.32.1762338325680; Wed, 05 Nov 2025 02:25:25 -0800 (PST) Received: from postal.iol.unh.edu (postal.iol.unh.edu. [2606:4100:3880:1234::84]) by smtp-relay.gmail.com with ESMTPS id e9e14a558f8ab-43335b2be88sm4642635ab.19.2025.11.05.02.25.25 (version=TLS1_2 cipher=ECDHE-ECDSA-AES128-GCM-SHA256 bits=128/128); Wed, 05 Nov 2025 02:25:25 -0800 (PST) X-Relaying-Domain: iol.unh.edu Date: Wed, 05 Nov 2025 02:25:25 -0800 (PST) Message-ID: <690b2615.050a0220.3957cf.904eSMTPIN_ADDED_MISSING@mx.google.com> Received: from [172.21.0.5] (unknown [172.18.0.240]) by postal.iol.unh.edu (Postfix) with ESMTP id 306246051830; Wed, 5 Nov 2025 05:25:25 -0500 (EST) Subject: |SUCCESS| pw158453 [PATCH] net/mlx5: fix modify field action operati From: dpdklab@iol.unh.edu To: Test Report Cc: dpdk-test-reports@iol.unh.edu In-Reply-To: <20251105085049.110213-1-mkashani@nvidia.com> References: <20251105085049.110213-1-mkashani@nvidia.com> Content-Type: text/plain X-BeenThere: test-report@dpdk.org X-Mailman-Version: 2.1.29 Precedence: list List-Id: automatic DPDK test reports List-Unsubscribe: , List-Archive: List-Post: List-Help: List-Subscribe: , Errors-To: test-report-bounces@dpdk.org Test-Label: iol-unit-amd64-testing Test-Status: SUCCESS http://dpdk.org/patch/158453 _Testing PASS_ Submitter: Maayan Kashani Date: Wednesday, November 05 2025 08:50:49 DPDK git baseline: Repo:dpdk-next-net-mlx Branch: master CommitID:f1c1f82f2421be9ac2f46b4ec2a616ca28da4ca7 158453 --> testing pass Upstream job id: Generic-Unit-Test-DPDK#388826 Test environment and result as below: +-------------------------------+----------------+ | Environment | dpdk_unit_test | +===============================+================+ | CentOS Stream 10 | PASS | +-------------------------------+----------------+ | Debian GNU/Linux 12 | PASS | +-------------------------------+----------------+ | Fedora Linux 41 | PASS | +-------------------------------+----------------+ | Fedora Linux 40 | PASS | +-------------------------------+----------------+ | Red Hat Enterprise Linux 8.10 | PASS | +-------------------------------+----------------+ | CentOS Stream 9 | PASS | +-------------------------------+----------------+ | Ubuntu 22.04 | PASS | +-------------------------------+----------------+ | Red Hat Enterprise Linux 9.5 | PASS | +-------------------------------+----------------+ | Fedora Linux 42 | PASS | +-------------------------------+----------------+ | Ubuntu 24.04 | PASS | +-------------------------------+----------------+ | Ubuntu 20.04 | PASS | +-------------------------------+----------------+ CentOS Stream 10 Kernel: 5.15 Compiler: gcc gcc (GCC) 14.2.1 20250110 (Red Hat 14.2.1-8) Debian GNU/Linux 12 Kernel: 5.15 Compiler: gcc gcc (Debian 12.2.0-14+deb12u1) 12.2.0 Fedora Linux 41 Kernel: 5.15 Compiler: clang gcc (GCC) 14.3.1 20250523 (Red Hat 14.3.1-1) Fedora Linux 40 Kernel: 5.15 Compiler: clang gcc (GCC) 14.2.1 20240912 (Red Hat 14.2.1-3) Red Hat Enterprise Linux 8.10 Kernel: 5.15 Compiler: gcc gcc (GCC) 8.5.0 20210514 (Red Hat 8.5.0-22) CentOS Stream 9 Kernel: 5.15 Compiler: gcc gcc (GCC) 11.5.0 20240719 (Red Hat 11.5.0-11) Ubuntu 22.04 Kernel: 5.15 Compiler: gcc gcc (Ubuntu 11.4.0-1ubuntu1~22.04) 11.4.0 Red Hat Enterprise Linux 9.5 Kernel: 5.15 Compiler: gcc gcc (GCC) 11.5.0 20240719 (Red Hat 11.5.0-2) Fedora Linux 42 Kernel: 5.15 Compiler: clang gcc (GCC) 15.2.1 20250808 (Red Hat 15.2.1-1) Ubuntu 24.04 Kernel: 5.15 Compiler: gcc gcc (Ubuntu 13.3.0-6ubuntu2~24.04) 13.3.0 Ubuntu 20.04 Kernel: 5.15 Compiler: gcc gcc (Ubuntu 9.4.0-1ubuntu1~20.04.2) 9.4.0 To view detailed results, visit: https://lab.dpdk.org/results/dashboard/patchsets/34470/ UNH-IOL DPDK Community Lab To manage your email subscriptions, visit: https://lab.dpdk.org/results/dashboard/preferences/subscriptions/