From mboxrd@z Thu Jan 1 00:00:00 1970 Return-Path: Received: from mails.dpdk.org (mails.dpdk.org [217.70.189.124]) by inbox.dpdk.org (Postfix) with ESMTP id 0787448A6F for ; Wed, 5 Nov 2025 11:28:32 +0100 (CET) Received: from mails.dpdk.org (localhost [127.0.0.1]) by mails.dpdk.org (Postfix) with ESMTP id F2390400D7; Wed, 5 Nov 2025 11:28:31 +0100 (CET) Received: from mail-pl1-f228.google.com (mail-pl1-f228.google.com [209.85.214.228]) by mails.dpdk.org (Postfix) with ESMTP id 5D01F400D7 for ; Wed, 5 Nov 2025 11:28:30 +0100 (CET) Received: by mail-pl1-f228.google.com with SMTP id d9443c01a7336-2952048eb88so71628985ad.0 for ; Wed, 05 Nov 2025 02:28:30 -0800 (PST) DKIM-Signature: v=1; a=rsa-sha256; c=relaxed/relaxed; d=iol.unh.edu; s=unh-iol; t=1762338509; x=1762943309; darn=dpdk.org; h=references:in-reply-to:cc:to:from:subject:message-id:date:from:to :cc:subject:date:message-id:reply-to; bh=VTUWvRUGYq9xCZg8urgi6AKk8XgZtSosiI1ZJARL8ls=; b=Csmuw9xR4d73Z416CX2YnoTrV57fdVzo+pJ9bmlTg5daFVg8SrjCOmueu2k/YMEDQA Ux8XCQ9t4XaEljMYVSffyfYPMQwPho9B8J4LyVonMVidfzYk70fZ2PArBgYuChVymANf mBirMaFg+DZPjQGspfoeywLzDNCE7fsSpB1wE= X-Google-DKIM-Signature: v=1; a=rsa-sha256; c=relaxed/relaxed; d=1e100.net; s=20230601; t=1762338509; x=1762943309; h=references:in-reply-to:cc:to:from:subject:message-id:date :x-gm-message-state:from:to:cc:subject:date:message-id:reply-to; bh=VTUWvRUGYq9xCZg8urgi6AKk8XgZtSosiI1ZJARL8ls=; b=aHwdsI5O+xJY3d9LriWug9CluFBDkI9txd7A0SSK67L5PMaWrOQFarhiZtvg04YjYy D053pByhLaDVZcsC4WpOBPFXR5xyXmqp654cuhUCb3rPndf+QifwgYxP0kAr1CAB5QkX bpM5YZey1V4Br11qnNU0HCRajFrA4uDS6SvcAf7NPLR+N2XQRsiGfPfe4DJNEa2BFq1j RECFkF9M2lLa/TaTipZDasNewEE2412z0JUi6YS4T5L8CKzuXpuw6qQ6r3chLaj4a8CV dsjkWpL/vWBIUU/SGkA7vm0jKaaJczJf65JopkbCd/3HFSsjX/6TgHNijjwGHf1BUglc FJwg== X-Gm-Message-State: AOJu0Yy7HbwP9qb+MQGNkIvDFo6ktzuCUZpBAHgQWth2X+pxUrbGMes1 sGEonKmQG6Q8L9q6DkA9/q1bnSHqK9ZpwvNW6IM7krZTVRrPzl29Ig89zQGaVgj4VkJpG+AVEaP 3gGx5AjqUSzKPFLaIH1+TN4W05gejo9C3PQuM8o4YppiSrm7Yh7f79Ah1F30M X-Gm-Gg: ASbGncsmpbKGGejxzrG2a9qUdvUHHEtZhHVKDM2DUUuNRDs61HyFKF611OjsrBCOKE/ 6SKiyeZsr1TOm5yFXxf/HZx+2V0+cR0kE3yc00VMwSM1GRNauGy/T9cr2sNBK3dlPgXNxd8sK5q w/laHx9imSQdriFgScc3UJw5Y0M+lMvJvUjhPyNphdBlpMIdTMLSLgN1EcrFfRpdlq9WSGRlEyM KrGtBOa3NXhGiYFc9l6EcYbhbXSXDuWqHc00vnNNkWXWbj9o6nBCKtEe9Tr2KGJRUYelydB4I3D HDQfY7wElr6BSiNCw8B8M3aGcNVfQ5jcd0GU3BzjKu6XLuXLHzi3IAh4JjU9UfS2BcDa9/ItCuU DtDNG65aP X-Google-Smtp-Source: AGHT+IE3N43gxtCAUZ1xQaTJO2E4VVT3euFYlc9AWkgDfgadL4v0VL4EgvQsOkhTiiezz4PyKGNx/exx8p0Q X-Received: by 2002:a17:903:41ca:b0:293:e5f:85b7 with SMTP id d9443c01a7336-2962ad0c942mr43411075ad.11.1762338509552; Wed, 05 Nov 2025 02:28:29 -0800 (PST) Received: from postal.iol.unh.edu (postal.iol.unh.edu. [2606:4100:3880:1234::84]) by smtp-relay.gmail.com with ESMTPS id d9443c01a7336-29601976af5sm4658525ad.14.2025.11.05.02.28.29 (version=TLS1_2 cipher=ECDHE-ECDSA-AES128-GCM-SHA256 bits=128/128); Wed, 05 Nov 2025 02:28:29 -0800 (PST) X-Relaying-Domain: iol.unh.edu Date: Wed, 05 Nov 2025 02:28:29 -0800 (PST) Message-ID: <690b26cd.170a0220.945dc.935fSMTPIN_ADDED_MISSING@mx.google.com> Received: from [172.21.0.2] (unknown [172.18.0.240]) by postal.iol.unh.edu (Postfix) with ESMTP id 056B86051830; Wed, 5 Nov 2025 05:28:29 -0500 (EST) Subject: |SUCCESS| pw158453 [PATCH] net/mlx5: fix modify field action operati From: dpdklab@iol.unh.edu To: Test Report Cc: dpdk-test-reports@iol.unh.edu In-Reply-To: <20251105085049.110213-1-mkashani@nvidia.com> References: <20251105085049.110213-1-mkashani@nvidia.com> Content-Type: text/plain X-BeenThere: test-report@dpdk.org X-Mailman-Version: 2.1.29 Precedence: list List-Id: automatic DPDK test reports List-Unsubscribe: , List-Archive: List-Post: List-Help: List-Subscribe: , Errors-To: test-report-bounces@dpdk.org Test-Label: iol-compile-amd64-testing Test-Status: SUCCESS http://dpdk.org/patch/158453 _Testing PASS_ Submitter: Maayan Kashani Date: Wednesday, November 05 2025 08:50:49 DPDK git baseline: Repo:dpdk-next-net-mlx Branch: master CommitID:f1c1f82f2421be9ac2f46b4ec2a616ca28da4ca7 158453 --> testing pass Upstream job id: Generic-DPDK-Compile-Meson#440976 Test environment and result as below: +-------------------------------+--------------------+------------------+ | Environment | dpdk_meson_compile | dpdk_compile_ovs | +===============================+====================+==================+ | FreeBSD 14.2 | PASS | SKIPPED | +-------------------------------+--------------------+------------------+ | Ubuntu 20.04 | PASS | SKIPPED | +-------------------------------+--------------------+------------------+ | CentOS Stream 9 | PASS | SKIPPED | +-------------------------------+--------------------+------------------+ | CentOS Stream 10 | PASS | SKIPPED | +-------------------------------+--------------------+------------------+ | Fedora Linux 42 | PASS | PASS | +-------------------------------+--------------------+------------------+ | openSUSE Leap 15.6 | PASS | SKIPPED | +-------------------------------+--------------------+------------------+ | Debian GNU/Linux 12 | PASS | SKIPPED | +-------------------------------+--------------------+------------------+ | Ubuntu 24.04 | PASS | PASS | +-------------------------------+--------------------+------------------+ | Red Hat Enterprise Linux 8.10 | PASS | SKIPPED | +-------------------------------+--------------------+------------------+ | Ubuntu 22.04 | PASS | SKIPPED | +-------------------------------+--------------------+------------------+ | Alpine Linux 3.22.0 | PASS | SKIPPED | +-------------------------------+--------------------+------------------+ | Red Hat Enterprise Linux 9.5 | PASS | SKIPPED | +-------------------------------+--------------------+------------------+ FreeBSD 14.2 Kernel: 14.2-RELEASE Compiler: clang 18.1.6 Ubuntu 20.04 Kernel: 4.19 Compiler: gcc gcc (Ubuntu 9.4.0-1ubuntu1~20.04.2) 9.4.0 CentOS Stream 9 Kernel: 5.15 Compiler: gcc gcc (GCC) 11.5.0 20240719 (Red Hat 11.5.0-11) CentOS Stream 10 Kernel: 5.15 Compiler: gcc gcc (GCC) 14.2.1 20250110 (Red Hat 14.2.1-8) Fedora Linux 42 Kernel: 5.15 Compiler: clang gcc (GCC) 15.2.1 20250808 (Red Hat 15.2.1-1) openSUSE Leap 15.6 Kernel: 5.15 Compiler: gcc gcc (SUSE Linux) 7.5.0 Debian GNU/Linux 12 Kernel: 5.15 Compiler: gcc gcc (Debian 12.2.0-14+deb12u1) 12.2.0 Ubuntu 24.04 Kernel: 5.15 Compiler: gcc gcc (Ubuntu 13.3.0-6ubuntu2~24.04) 13.3.0 Red Hat Enterprise Linux 8.10 Kernel: 5.15 Compiler: gcc gcc (GCC) 8.5.0 20210514 (Red Hat 8.5.0-22) Ubuntu 22.04 Kernel: 5.15 Compiler: gcc gcc (Ubuntu 11.4.0-1ubuntu1~22.04) 11.4.0 Alpine Linux 3.22.0 Kernel: 5.15 Compiler: gcc gcc (Alpine 14.2.0) 14.2.0 Red Hat Enterprise Linux 9.5 Kernel: 5.15 Compiler: gcc gcc (GCC) 11.5.0 20240719 (Red Hat 11.5.0-2) To view detailed results, visit: https://lab.dpdk.org/results/dashboard/patchsets/34470/ UNH-IOL DPDK Community Lab To manage your email subscriptions, visit: https://lab.dpdk.org/results/dashboard/preferences/subscriptions/