From mboxrd@z Thu Jan 1 00:00:00 1970 Return-Path: Received: from mails.dpdk.org (mails.dpdk.org [217.70.189.124]) by inbox.dpdk.org (Postfix) with ESMTP id EB91F48A6F for ; Wed, 5 Nov 2025 11:43:42 +0100 (CET) Received: from mails.dpdk.org (localhost [127.0.0.1]) by mails.dpdk.org (Postfix) with ESMTP id C2916400D7; Wed, 5 Nov 2025 11:43:42 +0100 (CET) Received: from mail-qv1-f99.google.com (mail-qv1-f99.google.com [209.85.219.99]) by mails.dpdk.org (Postfix) with ESMTP id D9B2B400D7 for ; Wed, 5 Nov 2025 11:43:41 +0100 (CET) Received: by mail-qv1-f99.google.com with SMTP id 6a1803df08f44-8801f4e308dso58948146d6.0 for ; Wed, 05 Nov 2025 02:43:41 -0800 (PST) DKIM-Signature: v=1; a=rsa-sha256; c=relaxed/relaxed; d=iol.unh.edu; s=unh-iol; t=1762339421; x=1762944221; darn=dpdk.org; h=references:in-reply-to:cc:to:from:subject:message-id:date:from:to :cc:subject:date:message-id:reply-to; bh=tQo2siWDnbGKVhS5wJpPSKbJER16MptDWVzNzFyZrlY=; b=YAUIZk7vzovu7HPQc4kIn4ZlAqCBGVAOiF0m6eBZRLROORjfCUja+VTr4dRt3/esEV WVFOMFgvB5d3+JtZhbLcwOcZBAB62rgsao+99DPuHhPjc39wO3JYd0aWGTQov6xB5kvg bDe2nvh9H646mezRjaSpwq278Gv7qxRs4oRhQ= X-Google-DKIM-Signature: v=1; a=rsa-sha256; c=relaxed/relaxed; d=1e100.net; s=20230601; t=1762339421; x=1762944221; h=references:in-reply-to:cc:to:from:subject:message-id:date :x-gm-message-state:from:to:cc:subject:date:message-id:reply-to; bh=tQo2siWDnbGKVhS5wJpPSKbJER16MptDWVzNzFyZrlY=; b=hKzvEn7NVvB8t/q/+6HZL06UX2+aV9OrvcvqsjI81Xk2Yh9g2yYZeAmveIebVXQAk7 mpyiRwG4XvxIcbuvXXKxuAPwuZEu0RETr9cDPrdvWotpdRsBgXmloTlm0mzlZ82fnGgK QJq37MlcPfR5ckcgysnDx+KmqI0dU1ygoBYS1CMa+S++LCnLtmVnmmKvGqUj6Nv2IOPO lFd4TfAJ1IHpPf/3wte7quHyE78j65cNsNz040iCVWEj/onbhfdp7ogHV1i5cH99DuqD zOCRINjK203ocy5zO+Oo1MTI3PtjIWr5kR3sUfsso99+z1tz6mfFOzVhhSC+nQhSX9X1 OFxA== X-Gm-Message-State: AOJu0YyXABPO26efyBrgGgO3EGWDJ0Nrfch0SkLcCC3UvpBsRSfRRZKl 2zvTBr7no1dWSBERzxT5M52UaOE6gLyBVfR+XCjZfKHll3Htgu5iRBIhrJHeTOEvBm/6yS7kW+L j1FFIPlEY/3tlGvJv0jKaYGwwYnGC7gyw7sV0V4/wzUG/urpSj7veHJPC8ZG0 X-Gm-Gg: ASbGncuUa2ab0LechkCX3IiPd1w+oh/m30MbJ170Hi7CyiWCxQb5O+MHnL66jM7D9AX h5tRkXxmmWAv5THcu+OSQiwxgTzP4SwQGJBDOIOr9IeJy5hVC8IufwdXaahm4CSznptneXqFVZ4 gGHKJDNmJNVO2YomqFFrqXrr1zCtfr81BTYljzzfIi1pOmZaHpT5lHDN+1BT4MTnhPVrFyOaifF z9QxK26v9jzgqiadlvewGtDoO0shhBlRoahA6etCTN44s3MGQNjSi/fd1oTIMGXxvL8guDFXJfY 3LAPnoEcLyQyrSBkJvDQyQ0GQ1/J+zZODn6HgGUR62A7KcOhAREn/S/Nptrmf3Ppwf5lxnriVcs hIEjgFTJ8 X-Google-Smtp-Source: AGHT+IFHx8y5MQIAbOR13CGk1yMuZERh4qzkm3W/X3DNMHpaRm6z64kLFb8dEM+03je214myzWMrosKdi49e X-Received: by 2002:ad4:5f4e:0:b0:880:6647:1031 with SMTP id 6a1803df08f44-88071093dbbmr32169676d6.1.1762339421228; Wed, 05 Nov 2025 02:43:41 -0800 (PST) Received: from postal.iol.unh.edu (postal.iol.unh.edu. [2606:4100:3880:1234::84]) by smtp-relay.gmail.com with ESMTPS id 6a1803df08f44-88060e588c7sm4915506d6.23.2025.11.05.02.43.41 (version=TLS1_2 cipher=ECDHE-ECDSA-AES128-GCM-SHA256 bits=128/128); Wed, 05 Nov 2025 02:43:41 -0800 (PST) X-Relaying-Domain: iol.unh.edu Date: Wed, 05 Nov 2025 02:43:41 -0800 (PST) Message-ID: <690b2a5d.050a0220.358a28.ac22SMTPIN_ADDED_MISSING@mx.google.com> Received: from [172.21.0.2] (unknown [172.18.0.240]) by postal.iol.unh.edu (Postfix) with ESMTP id E77596051830; Wed, 5 Nov 2025 05:43:40 -0500 (EST) Subject: |SUCCESS| pw158450 [PATCH] Revert "net/null: add fast mbuf release T From: dpdklab@iol.unh.edu To: Test Report Cc: dpdk-test-reports@iol.unh.edu, Stephen Hemminger In-Reply-To: <20251105081953.20153-1-mb@smartsharesystems.com> References: <20251105081953.20153-1-mb@smartsharesystems.com> Content-Type: text/plain X-BeenThere: test-report@dpdk.org X-Mailman-Version: 2.1.29 Precedence: list List-Id: automatic DPDK test reports List-Unsubscribe: , List-Archive: List-Post: List-Help: List-Subscribe: , Errors-To: test-report-bounces@dpdk.org Test-Label: iol-compile-amd64-testing Test-Status: SUCCESS http://dpdk.org/patch/158450 _Testing PASS_ Submitter: Morten Brorup Date: Wednesday, November 05 2025 08:19:52 DPDK git baseline: Repo:dpdk-next-net Branch: master CommitID:538052bb364db22ba8cc08b5e23a9e6d25a864a9 158450 --> testing pass Upstream job id: Windows-Compile-DPDK-Native#32129 Test environment and result as below: +-------------------------------+--------------------+------------------+-------------------+-------------------------+ | Environment | dpdk_meson_compile | dpdk_compile_ovs | dpdk_msvc_compile | dpdk_llvm_clang_compile | +===============================+====================+==================+===================+=========================+ | Debian GNU/Linux 12 | PASS | SKIPPED | SKIPPED | SKIPPED | +-------------------------------+--------------------+------------------+-------------------+-------------------------+ | CentOS Stream 9 | PASS | SKIPPED | SKIPPED | SKIPPED | +-------------------------------+--------------------+------------------+-------------------+-------------------------+ | CentOS Stream 10 | PASS | SKIPPED | SKIPPED | SKIPPED | +-------------------------------+--------------------+------------------+-------------------+-------------------------+ | Ubuntu 24.04 | PASS | PASS | SKIPPED | SKIPPED | +-------------------------------+--------------------+------------------+-------------------+-------------------------+ | Fedora Linux 42 | PASS | PASS | SKIPPED | SKIPPED | +-------------------------------+--------------------+------------------+-------------------+-------------------------+ | Red Hat Enterprise Linux 9.5 | PASS | SKIPPED | SKIPPED | SKIPPED | +-------------------------------+--------------------+------------------+-------------------+-------------------------+ | Red Hat Enterprise Linux 8.10 | PASS | SKIPPED | SKIPPED | SKIPPED | +-------------------------------+--------------------+------------------+-------------------+-------------------------+ | Ubuntu 20.04 | PASS | SKIPPED | SKIPPED | SKIPPED | +-------------------------------+--------------------+------------------+-------------------+-------------------------+ | Ubuntu 22.04 | PASS | SKIPPED | SKIPPED | SKIPPED | +-------------------------------+--------------------+------------------+-------------------+-------------------------+ | Alpine Linux 3.22.0 | PASS | SKIPPED | SKIPPED | SKIPPED | +-------------------------------+--------------------+------------------+-------------------+-------------------------+ | openSUSE Leap 15.6 | PASS | SKIPPED | SKIPPED | SKIPPED | +-------------------------------+--------------------+------------------+-------------------+-------------------------+ | FreeBSD 14.2 | PASS | SKIPPED | SKIPPED | SKIPPED | +-------------------------------+--------------------+------------------+-------------------+-------------------------+ | Windows Server 2022 | SKIPPED | SKIPPED | PASS | PASS | +-------------------------------+--------------------+------------------+-------------------+-------------------------+ Debian GNU/Linux 12 Kernel: 5.15 Compiler: gcc gcc (Debian 12.2.0-14+deb12u1) 12.2.0 CentOS Stream 9 Kernel: 5.15 Compiler: gcc gcc (GCC) 11.5.0 20240719 (Red Hat 11.5.0-11) CentOS Stream 10 Kernel: 5.15 Compiler: gcc gcc (GCC) 14.2.1 20250110 (Red Hat 14.2.1-8) Ubuntu 24.04 Kernel: 5.15 Compiler: gcc gcc (Ubuntu 13.3.0-6ubuntu2~24.04) 13.3.0 Fedora Linux 42 Kernel: 5.15 Compiler: clang gcc (GCC) 15.2.1 20250808 (Red Hat 15.2.1-1) Red Hat Enterprise Linux 9.5 Kernel: 5.15 Compiler: gcc gcc (GCC) 11.5.0 20240719 (Red Hat 11.5.0-2) Red Hat Enterprise Linux 8.10 Kernel: 5.15 Compiler: gcc gcc (GCC) 8.5.0 20210514 (Red Hat 8.5.0-22) Ubuntu 20.04 Kernel: 5.15 Compiler: gcc gcc (Ubuntu 9.4.0-1ubuntu1~20.04.2) 9.4.0 Ubuntu 22.04 Kernel: 5.15 Compiler: gcc gcc (Ubuntu 11.4.0-1ubuntu1~22.04) 11.4.0 Alpine Linux 3.22.0 Kernel: 5.15 Compiler: gcc gcc (Alpine 14.2.0) 14.2.0 openSUSE Leap 15.6 Kernel: 5.15 Compiler: gcc gcc (SUSE Linux) 7.5.0 FreeBSD 14.2 Kernel: 14.2-RELEASE Compiler: clang 18.1.6 Windows Server 2022 Kernel: 10.0.20348.2031 Compiler: clang 15.0.7, gcc 14.1.0 (MinGW), and MSVC VS 19.39.33521 To view detailed results, visit: https://lab.dpdk.org/results/dashboard/patchsets/34467/ UNH-IOL DPDK Community Lab To manage your email subscriptions, visit: https://lab.dpdk.org/results/dashboard/preferences/subscriptions/