From mboxrd@z Thu Jan 1 00:00:00 1970 Return-Path: Received: from mails.dpdk.org (mails.dpdk.org [217.70.189.124]) by inbox.dpdk.org (Postfix) with ESMTP id 23DD348A6F for ; Wed, 5 Nov 2025 11:54:22 +0100 (CET) Received: from mails.dpdk.org (localhost [127.0.0.1]) by mails.dpdk.org (Postfix) with ESMTP id 1CCB640656; Wed, 5 Nov 2025 11:54:22 +0100 (CET) Received: from mail-io1-f99.google.com (mail-io1-f99.google.com [209.85.166.99]) by mails.dpdk.org (Postfix) with ESMTP id C2EAB40656 for ; Wed, 5 Nov 2025 11:54:20 +0100 (CET) Received: by mail-io1-f99.google.com with SMTP id ca18e2360f4ac-93e7d3648a8so272397739f.2 for ; Wed, 05 Nov 2025 02:54:20 -0800 (PST) DKIM-Signature: v=1; a=rsa-sha256; c=relaxed/relaxed; d=iol.unh.edu; s=unh-iol; t=1762340060; x=1762944860; darn=dpdk.org; h=references:in-reply-to:cc:to:from:subject:message-id:date:from:to :cc:subject:date:message-id:reply-to; bh=w67qi4LxFBWBVLZ31hgtWWFQ6/ABfc6h9WZaXnmCBVg=; b=iva16n8Y8+hssFSE6U6/S9xDlM2eSjYCk8hm/jSHXY2YtOVYavT9WA+jljCh4TA3ti DyA59XuNHSjvbCTrXwOE1eH/83xa6QW7MfMJ5Ty3GJkFp2gZUQSE/0a+l+DsNvsPoOrs 2By93gOo2Sc+epWhAnnmE8puc1ZBDPnyb8BJM= X-Google-DKIM-Signature: v=1; a=rsa-sha256; c=relaxed/relaxed; d=1e100.net; s=20230601; t=1762340060; x=1762944860; h=references:in-reply-to:cc:to:from:subject:message-id:date :x-gm-message-state:from:to:cc:subject:date:message-id:reply-to; bh=w67qi4LxFBWBVLZ31hgtWWFQ6/ABfc6h9WZaXnmCBVg=; b=Set4HgiW2p17ODAekPat4obodHvxkt1ujeVCvJZG3Kyp9Aho+aJzI8C4SU36e+IwxQ DFbDc8tZDLxTPmrdrnx+/j5t05khbq+L9bcUaw+4StZGrWVaJpEK710U1NlAEXjNBCu9 fg81txFFP+CFaUltvfKtbIVhlXXBMc65h6BiX3SHLQqNnaj+S4yoXCppbs26ltIyTfjT FRjXmfvqa8hwewbapbA+UIz8491WyAFBUh0tSyjxogyc4gxS2Gk0vhrA0HdkdGgpgAXW QXy1H+iCsYgQLM+1TWhTEM13NEX+XxaQAyXAj5tFh87JXOjTFWB0kNBcs7PZIkSLeIF0 AK9A== X-Gm-Message-State: AOJu0YyPAyrfAlf5uDrYBAAjOZDgKU/X2Aquo46fTndHDTYzJcpIjsvX z6i7UazQwl0my2gv4iOuvNVEHxczirZu9pmwGQebkjuDm/htZ+XRbTVV0VgnG50/jqsJCTAhE/a NuVhcjh8UTB4NChPAZjjKipdudpYElsmtwU9XlRSc/tBhOZtxOXgCpY+Q2t/A X-Gm-Gg: ASbGncs6lS9nka8l7fPNw6TwBjqe7xmBrmn9PkKbSdgACtZhCGD5BLBd11eCxwDrqcx NSiJmO0h5Upigj6PeE4a218nISX8LI77ccwP1Cm4AeSBMNBHTS1TFoE3oU9OiwLBeOqTnQtBPMx JdLAD73O26twO42A1lyLXudWJAN3v2NrU2YHsCUqJilCxhNUtpLLjt9TV5kXgCMGTOUN+UDFLL8 GglhTi4sjRXhLRIFDe6oiU79dDxR2WyKsK/c2JojezURWronILzUeBe8Nv4gor86XdgXb9Ng/qG YltHAW4htiFFSM3AHmLE5jHDrp2DFk4f44Q6FeP/f0Bm1Y+pvr1dz1dlrcRwwYrla7PmwKZmCl7 ehm3v/sQz X-Google-Smtp-Source: AGHT+IHvQdijMqfr+EiXAlFs346vWDPKsc9ZxPivtV31ztMXfIVWMMlj+kG2R8YyhBYJwLxiIavO+VN/TP1Q X-Received: by 2002:a05:6e02:2782:b0:433:209d:fede with SMTP id e9e14a558f8ab-433407a25bamr38267385ab.1.1762340060106; Wed, 05 Nov 2025 02:54:20 -0800 (PST) Received: from postal.iol.unh.edu (postal.iol.unh.edu. [2606:4100:3880:1234::84]) by smtp-relay.gmail.com with ESMTPS id 8926c6da1cb9f-5b72258baccsm633160173.7.2025.11.05.02.54.20 (version=TLS1_2 cipher=ECDHE-ECDSA-AES128-GCM-SHA256 bits=128/128); Wed, 05 Nov 2025 02:54:20 -0800 (PST) X-Relaying-Domain: iol.unh.edu Date: Wed, 05 Nov 2025 02:54:20 -0800 (PST) Message-ID: <690b2cdc.050a0220.45cea.37bdSMTPIN_ADDED_MISSING@mx.google.com> Received: from [172.21.0.3] (unknown [172.18.0.240]) by postal.iol.unh.edu (Postfix) with ESMTP id 986C060003E7; Wed, 5 Nov 2025 05:54:19 -0500 (EST) Subject: |SUCCESS| pw158450 [PATCH] Revert "net/null: add fast mbuf release T From: dpdklab@iol.unh.edu To: Test Report Cc: dpdk-test-reports@iol.unh.edu, Stephen Hemminger In-Reply-To: <20251105081953.20153-1-mb@smartsharesystems.com> References: <20251105081953.20153-1-mb@smartsharesystems.com> Content-Type: text/plain X-BeenThere: test-report@dpdk.org X-Mailman-Version: 2.1.29 Precedence: list List-Id: automatic DPDK test reports List-Unsubscribe: , List-Archive: List-Post: List-Help: List-Subscribe: , Errors-To: test-report-bounces@dpdk.org Test-Label: iol-unit-amd64-testing Test-Status: SUCCESS http://dpdk.org/patch/158450 _Testing PASS_ Submitter: Morten Brorup Date: Wednesday, November 05 2025 08:19:52 DPDK git baseline: Repo:dpdk-next-net Branch: master CommitID:538052bb364db22ba8cc08b5e23a9e6d25a864a9 158450 --> testing pass Upstream job id: Generic-VM-Unit-Test-DPDK#32303 Test environment and result as below: +-------------------------------+----------------+ | Environment | dpdk_unit_test | +===============================+================+ | Ubuntu 20.04 | PASS | +-------------------------------+----------------+ | Red Hat Enterprise Linux 9.5 | PASS | +-------------------------------+----------------+ | Debian GNU/Linux 12 | PASS | +-------------------------------+----------------+ | Fedora Linux 42 | PASS | +-------------------------------+----------------+ | Red Hat Enterprise Linux 8.10 | PASS | +-------------------------------+----------------+ | Fedora Linux 40 | PASS | +-------------------------------+----------------+ | Ubuntu 22.04 | PASS | +-------------------------------+----------------+ | CentOS Stream 10 | PASS | +-------------------------------+----------------+ | Fedora Linux 41 | PASS | +-------------------------------+----------------+ | Ubuntu 24.04 | PASS | +-------------------------------+----------------+ | CentOS Stream 9 | PASS | +-------------------------------+----------------+ | Windows Server 2022 | PASS | +-------------------------------+----------------+ Ubuntu 20.04 Kernel: 5.15 Compiler: gcc gcc (Ubuntu 9.4.0-1ubuntu1~20.04.2) 9.4.0 Red Hat Enterprise Linux 9.5 Kernel: 5.15 Compiler: gcc gcc (GCC) 11.5.0 20240719 (Red Hat 11.5.0-2) Debian GNU/Linux 12 Kernel: 5.15 Compiler: gcc gcc (Debian 12.2.0-14+deb12u1) 12.2.0 Fedora Linux 42 Kernel: 5.15 Compiler: clang gcc (GCC) 15.2.1 20250808 (Red Hat 15.2.1-1) Red Hat Enterprise Linux 8.10 Kernel: 5.15 Compiler: gcc gcc (GCC) 8.5.0 20210514 (Red Hat 8.5.0-22) Fedora Linux 40 Kernel: 5.15 Compiler: clang gcc (GCC) 14.2.1 20240912 (Red Hat 14.2.1-3) Ubuntu 22.04 Kernel: 5.15 Compiler: gcc gcc (Ubuntu 11.4.0-1ubuntu1~22.04) 11.4.0 CentOS Stream 10 Kernel: 5.15 Compiler: gcc gcc (GCC) 14.2.1 20250110 (Red Hat 14.2.1-8) Fedora Linux 41 Kernel: 5.15 Compiler: clang gcc (GCC) 14.3.1 20250523 (Red Hat 14.3.1-1) Ubuntu 24.04 Kernel: 5.15 Compiler: gcc gcc (Ubuntu 13.3.0-6ubuntu2~24.04) 13.3.0 CentOS Stream 9 Kernel: 5.15 Compiler: gcc gcc (GCC) 11.5.0 20240719 (Red Hat 11.5.0-11) Windows Server 2022 Kernel: 10.0.20348.2031 Compiler: clang 15.0.7, gcc 14.1.0 (MinGW), and MSVC VS 19.39.33521 To view detailed results, visit: https://lab.dpdk.org/results/dashboard/patchsets/34467/ UNH-IOL DPDK Community Lab To manage your email subscriptions, visit: https://lab.dpdk.org/results/dashboard/preferences/subscriptions/