From mboxrd@z Thu Jan 1 00:00:00 1970 Return-Path: Received: from mails.dpdk.org (mails.dpdk.org [217.70.189.124]) by inbox.dpdk.org (Postfix) with ESMTP id BF7AF48A71 for ; Wed, 5 Nov 2025 12:03:00 +0100 (CET) Received: from mails.dpdk.org (localhost [127.0.0.1]) by mails.dpdk.org (Postfix) with ESMTP id A0B90400D7; Wed, 5 Nov 2025 12:03:00 +0100 (CET) Received: from mail-pl1-f225.google.com (mail-pl1-f225.google.com [209.85.214.225]) by mails.dpdk.org (Postfix) with ESMTP id 68A2E400D7 for ; Wed, 5 Nov 2025 12:02:59 +0100 (CET) Received: by mail-pl1-f225.google.com with SMTP id d9443c01a7336-295ceaf8dacso31940875ad.0 for ; Wed, 05 Nov 2025 03:02:59 -0800 (PST) DKIM-Signature: v=1; a=rsa-sha256; c=relaxed/relaxed; d=iol.unh.edu; s=unh-iol; t=1762340578; x=1762945378; darn=dpdk.org; h=references:in-reply-to:cc:to:from:subject:message-id:date:from:to :cc:subject:date:message-id:reply-to; bh=uo6akq1Janz1Smqa/pwvOJzQP5/vRzF3xYcjpZwULd8=; b=iGFwzGa3y0RUOVM5VKsY5peypT5IkFu4sSOG+lMow2KSUaPH0Q6bOKwbKfO4trFok4 LsSlbG3gePN9HSFD69h1kyIqvqQxgazJkBcnAt6KovDEBidazTe+cF5j2BJodI5+KQLR wWPNOoTR790k8YPDwrdzoCmi9Uaqj9H/oHrZ4= X-Google-DKIM-Signature: v=1; a=rsa-sha256; c=relaxed/relaxed; d=1e100.net; s=20230601; t=1762340578; x=1762945378; h=references:in-reply-to:cc:to:from:subject:message-id:date :x-gm-message-state:from:to:cc:subject:date:message-id:reply-to; bh=uo6akq1Janz1Smqa/pwvOJzQP5/vRzF3xYcjpZwULd8=; b=xBxloRtVhcWkyZu2fydfXFaKd7GgARHH2AyLx5aKcS5AYlSK/uSppKgNv/7XUdlZkL BToeKRfr2q9tz63w6YlSFOkLV7CcIvIvYzd5mnJokNTps0gSeQgeKPiySMMhqvFCwoqk a5n2JCSRqTuWjg6SMrCQesQKtP5cBuRJIGg0BYKEB5rMFuE6+x4lqioFt8t4TRB4AbfJ 2WUkswgVzjhS8WyoHD2yeAsMeNFvWU5ZKNOGQ/xTX1t2uWxzEMZVucVmqKHosu8/9oVD tB6VjAC1NnDI1K1xVXa6Bw76jqGwZ64tcmAGvbsjY8ocM/I7QW0/73vFRyV+MCl3bX7Q 6fQw== X-Gm-Message-State: AOJu0YzEVr1tVFMVfmGcAshizejoiHN4FwF0u+EApkJqGF5fAWNvQd1C ZdbIoqaiUdQda1SCdBCnfURswOwLsu+GAyazYRlthHgrEnLJaEXkEGIO2BxalXXhYuF8GK2mrkE mdmHLWhwix7Dk5MVsnS8XCdpQQRnPZlpN8O1KCOlWcX2k X-Gm-Gg: ASbGnctH5MKjg2aNT52XNfMpH9FVNXGZx0P+p/ETD5TXcnBbLBFpsTH9twWhzMcNg6I CmmjSXN+woeKn90uxZEt8uCJoxSzC1OmMHKI5ZkZxLfCnYURa1AKzTEnDnA/yqnB4dijVIjqYTc kVNYKawYmJe8RNdxAkxeciel8tXjNRGUVdDZr2sYo2nwv92BVvHK4eChONMIL/QkcKEX+ZqWi2F HNZIshfX+8cf4/rhiwSMPfF4x4JvLw5D/+4oukxMaI6bAMtsnsTLdQmJuO+w1JCEXVOEkg/8Mcs GerOU+2rwybabSW5zsiQswiq6ma0QyzxBgCrQbdfnpQ8Vd3ANtRNbGJIHVagD9k8wdRDTqbJwnn UVd0fZDd79uyihzslOhl48mbs/LCnTi0= X-Google-Smtp-Source: AGHT+IFlEn3UQHH0h4FWYsdqQnm6Zg9dwajDpA1t9/1lPMeDLl7MK0AYIzQFtIrkYnbS1zgeRudI5YylesnF X-Received: by 2002:a17:902:db05:b0:295:6850:a389 with SMTP id d9443c01a7336-2962ad2b2c3mr42945985ad.20.1762340578462; Wed, 05 Nov 2025 03:02:58 -0800 (PST) Received: from postal.iol.unh.edu (postal.iol.unh.edu. [132.177.123.84]) by smtp-relay.gmail.com with ESMTPS id d9443c01a7336-29601a3c0acsm5268715ad.46.2025.11.05.03.02.58 (version=TLS1_2 cipher=ECDHE-ECDSA-AES128-GCM-SHA256 bits=128/128); Wed, 05 Nov 2025 03:02:58 -0800 (PST) X-Relaying-Domain: iol.unh.edu Date: Wed, 05 Nov 2025 03:02:58 -0800 (PST) Message-ID: <690b2ee2.170a0220.176b2b.c8d6SMTPIN_ADDED_MISSING@mx.google.com> Received: from [172.21.0.2] (unknown [172.18.0.240]) by postal.iol.unh.edu (Postfix) with ESMTP id 8D6FF6051830; Wed, 5 Nov 2025 06:02:57 -0500 (EST) Subject: |SUCCESS| pw158455-158457 [PATCH] [v2,3/3] app/testpmd: support paus From: dpdklab@iol.unh.edu To: Test Report Cc: dpdk-test-reports@iol.unh.edu, Stephen Hemminger In-Reply-To: <20251105094748.3269-4-fengchengwen@huawei.com> References: <20251105094748.3269-4-fengchengwen@huawei.com> Content-Type: text/plain X-BeenThere: test-report@dpdk.org X-Mailman-Version: 2.1.29 Precedence: list List-Id: automatic DPDK test reports List-Unsubscribe: , List-Archive: List-Post: List-Help: List-Subscribe: , Errors-To: test-report-bounces@dpdk.org Test-Label: iol-unit-amd64-testing Test-Status: SUCCESS http://dpdk.org/patch/158457 _Testing PASS_ Submitter: Chengwen Feng Date: Wednesday, November 05 2025 09:47:48 DPDK git baseline: Repo:dpdk-next-net Branch: master CommitID:538052bb364db22ba8cc08b5e23a9e6d25a864a9 158455-158457 --> testing pass Upstream job id: Generic-Unit-Test-DPDK#388855 Test environment and result as below: +-------------------------------+----------------+ | Environment | dpdk_unit_test | +===============================+================+ | CentOS Stream 9 | PASS | +-------------------------------+----------------+ | Red Hat Enterprise Linux 8.10 | PASS | +-------------------------------+----------------+ | Fedora Linux 41 | PASS | +-------------------------------+----------------+ | Ubuntu 22.04 | PASS | +-------------------------------+----------------+ | Fedora Linux 42 | PASS | +-------------------------------+----------------+ | Debian GNU/Linux 12 | PASS | +-------------------------------+----------------+ | CentOS Stream 10 | PASS | +-------------------------------+----------------+ | Fedora Linux 40 | PASS | +-------------------------------+----------------+ | Red Hat Enterprise Linux 9.5 | PASS | +-------------------------------+----------------+ | Ubuntu 24.04 | PASS | +-------------------------------+----------------+ | Ubuntu 20.04 | PASS | +-------------------------------+----------------+ CentOS Stream 9 Kernel: 5.15 Compiler: gcc gcc (GCC) 11.5.0 20240719 (Red Hat 11.5.0-11) Red Hat Enterprise Linux 8.10 Kernel: 5.15 Compiler: gcc gcc (GCC) 8.5.0 20210514 (Red Hat 8.5.0-22) Fedora Linux 41 Kernel: 5.15 Compiler: clang gcc (GCC) 14.3.1 20250523 (Red Hat 14.3.1-1) Ubuntu 22.04 Kernel: 5.15 Compiler: gcc gcc (Ubuntu 11.4.0-1ubuntu1~22.04) 11.4.0 Fedora Linux 42 Kernel: 5.15 Compiler: gcc gcc (GCC) 15.2.1 20250808 (Red Hat 15.2.1-1) Debian GNU/Linux 12 Kernel: 5.15 Compiler: gcc gcc (Debian 12.2.0-14+deb12u1) 12.2.0 CentOS Stream 10 Kernel: 5.15 Compiler: gcc gcc (GCC) 14.2.1 20250110 (Red Hat 14.2.1-8) Fedora Linux 40 Kernel: 5.15 Compiler: gcc gcc (GCC) 14.2.1 20240912 (Red Hat 14.2.1-3) Red Hat Enterprise Linux 9.5 Kernel: 5.15 Compiler: gcc gcc (GCC) 11.5.0 20240719 (Red Hat 11.5.0-2) Ubuntu 24.04 Kernel: 5.15 Compiler: gcc gcc (Ubuntu 13.3.0-6ubuntu2~24.04) 13.3.0 Ubuntu 20.04 Kernel: 5.15 Compiler: gcc gcc (Ubuntu 9.4.0-1ubuntu1~20.04.2) 9.4.0 To view detailed results, visit: https://lab.dpdk.org/results/dashboard/patchsets/34471/ UNH-IOL DPDK Community Lab To manage your email subscriptions, visit: https://lab.dpdk.org/results/dashboard/preferences/subscriptions/