From mboxrd@z Thu Jan 1 00:00:00 1970 Return-Path: Received: from mails.dpdk.org (mails.dpdk.org [217.70.189.124]) by inbox.dpdk.org (Postfix) with ESMTP id 8714B48A71 for ; Wed, 5 Nov 2025 12:06:04 +0100 (CET) Received: from mails.dpdk.org (localhost [127.0.0.1]) by mails.dpdk.org (Postfix) with ESMTP id EEF0D400D7; Wed, 5 Nov 2025 12:06:03 +0100 (CET) Received: from mail-qk1-f228.google.com (mail-qk1-f228.google.com [209.85.222.228]) by mails.dpdk.org (Postfix) with ESMTP id 2FDAE400D7 for ; Wed, 5 Nov 2025 12:06:03 +0100 (CET) Received: by mail-qk1-f228.google.com with SMTP id af79cd13be357-88f2aebce7fso720757385a.3 for ; Wed, 05 Nov 2025 03:06:03 -0800 (PST) DKIM-Signature: v=1; a=rsa-sha256; c=relaxed/relaxed; d=iol.unh.edu; s=unh-iol; t=1762340762; x=1762945562; darn=dpdk.org; h=references:in-reply-to:cc:to:from:subject:message-id:date:from:to :cc:subject:date:message-id:reply-to; bh=TYGilFsO7kEbltedYUqEnv9KugYTYyUMss4HWifVSBc=; b=jwYChHqdABeQy+7FH087j8jJh2NdUUum1c+kZWl6uwm45NfNlUdgeNCzKcn330xE/A etYF2N7CwhmwL0t7g6jZLVJdDBmDdtuMEM3KIlKbVmn1kvK6J8XGcGA/ZP3scjrSuJC1 k/5NfpIo2GZojFcTg5w0P/aKWDiWo8Fczkgo4= X-Google-DKIM-Signature: v=1; a=rsa-sha256; c=relaxed/relaxed; d=1e100.net; s=20230601; t=1762340762; x=1762945562; h=references:in-reply-to:cc:to:from:subject:message-id:date :x-gm-message-state:from:to:cc:subject:date:message-id:reply-to; bh=TYGilFsO7kEbltedYUqEnv9KugYTYyUMss4HWifVSBc=; b=hDxWQBX6rF4/d5B5mFKQ0+lDwVRmgubFoC7EsrfPt/tVpcuTap5fTtGWuU8qnKYZD6 LMYlNmDuOHY+okJRUpR20zpN+Z5aNllFHI+xJApJYshjUr1rGb/jnW54qjHbf0l8czi9 XD/PaCD34hR3t/5lucEM0r0h+F7XkPI8jbwi5YvMWNapI2/AmOGBebxg1XuNF1bVcPio U4TfFKgkWymXlfWbAN7MPg4cNLj6ckiuym9jtB/uXerhLkXixQpmUYKwXJ9HagugHB7T 0ncB/vYLnN2hcDIAUnU20Jjs8bLpT3c1LiNjTYs6CYwGdZsnFQiIUC/Nmgk9blJrc1Ez FWeQ== X-Gm-Message-State: AOJu0YwuOeXFXH+wtJSB61dKGycWYDc61ebRXYrYFmj0M3+iDN4tyP7g Z3u+Akh97LLlw5RPxBcsg7rawZJycdb7CbMXA6S/2vqVC59R7Ahzt8SrmMPLMCNEN01CNhHZweX 3oNnmcyIWjbKljUdBEISHc1CvcpwPBm9YiWH/9IA0udHDRi5SWZRpSwtw9eGD X-Gm-Gg: ASbGncsN3Ld1a5mSTlVbpoR7XlyrcnnHEFdRWdRyDwQh01l04kiyZsb23FRItmWe5XQ zJRZnTOsGXShdLFj8pNSISXHLPm07SjsZzpqD/lYaszpwfMedyGV46tmNLxiReqZaDvuAMa6Epu 6bJk2Prfv7/RSK5LYgpnpL6IpoKiBRBUqpTOOQyDEDhKZlv6L822pJmPBQ7BlhEMGOJ5BxbPks3 Fhs/lyaVS7YRuJ7w+I4ZynrkV8nBjgEkiFdcBsgcG1n1cKfjlVPGIgrgQC3vhGZjv2oBFv/LPEx NtQEwU6jUQLvGQxyfxfpZ22lZ4vNDO8DVj0zkE38oOo1lItMEhhzRpFMu4Ok3XF2Dwb8XJ906Vn f9p5Cz2TJ X-Google-Smtp-Source: AGHT+IGrcYh4bNFnIXR9D16ys6EF+3USwchIEQb9pHEJy9FK6u4YOqWoWMP68yz+7QDpEeevXZt923Ytuh7K X-Received: by 2002:a05:622a:410d:b0:4eb:77f5:394c with SMTP id d75a77b69052e-4ed725de184mr36531141cf.48.1762340762580; Wed, 05 Nov 2025 03:06:02 -0800 (PST) Received: from postal.iol.unh.edu (postal.iol.unh.edu. [2606:4100:3880:1234::84]) by smtp-relay.gmail.com with ESMTPS id 6a1803df08f44-88060e58bf5sm5104436d6.26.2025.11.05.03.06.02 (version=TLS1_2 cipher=ECDHE-ECDSA-AES128-GCM-SHA256 bits=128/128); Wed, 05 Nov 2025 03:06:02 -0800 (PST) X-Relaying-Domain: iol.unh.edu Date: Wed, 05 Nov 2025 03:06:02 -0800 (PST) Message-ID: <690b2f9a.050a0220.24f083.b157SMTPIN_ADDED_MISSING@mx.google.com> Received: from [172.21.0.2] (unknown [172.18.0.240]) by postal.iol.unh.edu (Postfix) with ESMTP id 486D06051830; Wed, 5 Nov 2025 06:06:02 -0500 (EST) Subject: |SUCCESS| pw158455-158457 [PATCH] [v2,3/3] app/testpmd: support paus From: dpdklab@iol.unh.edu To: Test Report Cc: dpdk-test-reports@iol.unh.edu, Stephen Hemminger In-Reply-To: <20251105094748.3269-4-fengchengwen@huawei.com> References: <20251105094748.3269-4-fengchengwen@huawei.com> Content-Type: text/plain X-BeenThere: test-report@dpdk.org X-Mailman-Version: 2.1.29 Precedence: list List-Id: automatic DPDK test reports List-Unsubscribe: , List-Archive: List-Post: List-Help: List-Subscribe: , Errors-To: test-report-bounces@dpdk.org Test-Label: iol-compile-amd64-testing Test-Status: SUCCESS http://dpdk.org/patch/158457 _Testing PASS_ Submitter: Chengwen Feng Date: Wednesday, November 05 2025 09:47:48 DPDK git baseline: Repo:dpdk-next-net Branch: master CommitID:538052bb364db22ba8cc08b5e23a9e6d25a864a9 158455-158457 --> testing pass Upstream job id: Generic-DPDK-Compile-Meson#441017 Test environment and result as below: +-------------------------------+--------------------+------------------+ | Environment | dpdk_meson_compile | dpdk_compile_ovs | +===============================+====================+==================+ | Ubuntu 20.04 | PASS | SKIPPED | +-------------------------------+--------------------+------------------+ | Red Hat Enterprise Linux 8.10 | PASS | SKIPPED | +-------------------------------+--------------------+------------------+ | openSUSE Leap 15.6 | PASS | SKIPPED | +-------------------------------+--------------------+------------------+ | Fedora Linux 42 | PASS | PASS | +-------------------------------+--------------------+------------------+ | Red Hat Enterprise Linux 9.5 | PASS | SKIPPED | +-------------------------------+--------------------+------------------+ | CentOS Stream 9 | PASS | SKIPPED | +-------------------------------+--------------------+------------------+ | Debian GNU/Linux 12 | PASS | SKIPPED | +-------------------------------+--------------------+------------------+ | CentOS Stream 10 | PASS | SKIPPED | +-------------------------------+--------------------+------------------+ | Ubuntu 22.04 | PASS | SKIPPED | +-------------------------------+--------------------+------------------+ | Ubuntu 24.04 | PASS | PASS | +-------------------------------+--------------------+------------------+ | FreeBSD 14.2 | PASS | SKIPPED | +-------------------------------+--------------------+------------------+ | Alpine Linux 3.22.0 | PASS | SKIPPED | +-------------------------------+--------------------+------------------+ Ubuntu 20.04 Kernel: 5.15 Compiler: gcc gcc (Ubuntu 9.4.0-1ubuntu1~20.04.2) 9.4.0 Red Hat Enterprise Linux 8.10 Kernel: 5.15 Compiler: gcc gcc (GCC) 8.5.0 20210514 (Red Hat 8.5.0-22) openSUSE Leap 15.6 Kernel: 5.15 Compiler: gcc gcc (SUSE Linux) 7.5.0 Fedora Linux 42 Kernel: 5.15 Compiler: clang gcc (GCC) 15.2.1 20250808 (Red Hat 15.2.1-1) Red Hat Enterprise Linux 9.5 Kernel: 5.15 Compiler: gcc gcc (GCC) 11.5.0 20240719 (Red Hat 11.5.0-2) CentOS Stream 9 Kernel: 5.15 Compiler: gcc gcc (GCC) 11.5.0 20240719 (Red Hat 11.5.0-11) Debian GNU/Linux 12 Kernel: 5.15 Compiler: gcc gcc (Debian 12.2.0-14+deb12u1) 12.2.0 CentOS Stream 10 Kernel: 5.15 Compiler: gcc gcc (GCC) 14.2.1 20250110 (Red Hat 14.2.1-8) Ubuntu 22.04 Kernel: 5.15 Compiler: gcc gcc (Ubuntu 11.4.0-1ubuntu1~22.04) 11.4.0 Ubuntu 24.04 Kernel: 5.15 Compiler: gcc gcc (Ubuntu 13.3.0-6ubuntu2~24.04) 13.3.0 FreeBSD 14.2 Kernel: 14.2-RELEASE Compiler: clang 18.1.6 Alpine Linux 3.22.0 Kernel: 5.15 Compiler: gcc gcc (Alpine 14.2.0) 14.2.0 To view detailed results, visit: https://lab.dpdk.org/results/dashboard/patchsets/34471/ UNH-IOL DPDK Community Lab To manage your email subscriptions, visit: https://lab.dpdk.org/results/dashboard/preferences/subscriptions/