From mboxrd@z Thu Jan 1 00:00:00 1970 Return-Path: Received: from mails.dpdk.org (mails.dpdk.org [217.70.189.124]) by inbox.dpdk.org (Postfix) with ESMTP id 1129D48A71 for ; Wed, 5 Nov 2025 12:06:28 +0100 (CET) Received: from mails.dpdk.org (localhost [127.0.0.1]) by mails.dpdk.org (Postfix) with ESMTP id 0CAF6400D7; Wed, 5 Nov 2025 12:06:28 +0100 (CET) Received: from mail-pf1-f226.google.com (mail-pf1-f226.google.com [209.85.210.226]) by mails.dpdk.org (Postfix) with ESMTP id AD38C400D7 for ; Wed, 5 Nov 2025 12:06:26 +0100 (CET) Received: by mail-pf1-f226.google.com with SMTP id d2e1a72fcca58-7aa9be9f03aso2892094b3a.2 for ; Wed, 05 Nov 2025 03:06:26 -0800 (PST) DKIM-Signature: v=1; a=rsa-sha256; c=relaxed/relaxed; d=iol.unh.edu; s=unh-iol; t=1762340786; x=1762945586; darn=dpdk.org; h=references:in-reply-to:cc:to:from:subject:message-id:date:from:to :cc:subject:date:message-id:reply-to; bh=EG7/PcCE1nHI/+QvCOvEBsq17BJx/Ls5bC+3xnCil2Q=; b=L2ypax+AaJgUjcwABbsfz2xAHAprUYHNv+4Y019kdaW+V0Mg+hjpi0qKSIerqCIt60 bchCXV/LtapGvOD/Q2TNKL3FY5TULOqO+ZhLDtpm6yK3ZzWRe6sXgGb0Z42gOjEq+ekh qgSJw/UOGH0W7d2N+WttzmainmQMMzdhM9nLU= X-Google-DKIM-Signature: v=1; a=rsa-sha256; c=relaxed/relaxed; d=1e100.net; s=20230601; t=1762340786; x=1762945586; h=references:in-reply-to:cc:to:from:subject:message-id:date :x-gm-message-state:from:to:cc:subject:date:message-id:reply-to; bh=EG7/PcCE1nHI/+QvCOvEBsq17BJx/Ls5bC+3xnCil2Q=; b=HsF+qqQ2IDv6bEyW5pHv2kk8UvcbWe4dCiMyjtWZ8yb2ktlYKpglcVXmw7XcIf68Qw qvZAWtZMHpPrp3iYJfon901IuY7N6/SQ5gwcLW1SR5Pamf+vrtywI5MCerchio/g43MZ pHSyDwPT1+9Af09Y25kpK8ArzcyhUeorXkmzbcpn4M4Zi6wHeLc0P1I77Vk2ybpDGnFd cGCBbSzZOIffPaOY7u9fhXSIfTXDif399lEjBMpqlotN5JdMcN4AZg5ayTZqntVi20eG 2xbcnSIYxAOdv3XSozKD/2TYt4Wz4lsnHQNNFj6/uGXw/tYf0FMhDkOSl6BTZDLTpOpS N+mg== X-Gm-Message-State: AOJu0YyEscDC0grQAlni5EcrrSAalyZ6N7BY8utVeupHmhvaSHaxR/74 giHUccVVG/Axl6PQGZO+0SHiYkoWNBB5mcuDFTaMJ65zBGf1ne66qi7YE0BJNw6yHXrRFDsy29T bxxVnEWHurATlhkcr7sKO5TAZIofSrdgI04ZWFJdhRwZDUl5zj4VKq8dIwwUi X-Gm-Gg: ASbGnctu05mo7U08VxSwQ8FKhhCF86hS1ScZ5C8vQOQaCej0PaOX0UjYyo12/aYrL0R JDmuqlBWalR6E74qZ0cUtu0jWUVsJqmg0/c2Knxscc4j3xgtWKkjU2/kZZ8RvKmQw6K49dAYiaI gwSzMqgWs7c2xngu19Mn6YgvMuwstMXAp81vnFlM3n+XfKIHdcSwPQTGE++i4pRCKfnC/Z31A9C 4KSHMKRNsMOWvfjC1ikawqx8SJfRW064Wapd5n5uC6wq9900qyslBD9MkUBBhwCTnvPBnSV+B23 4VuZYIuLMTnLjsGvqH78ZKYUtRi06TZ3dfiDnBcPEtUP2k1qzg4UJtWOxXBjnbjLPq3MQgMige2 Vr/nkoNOt X-Google-Smtp-Source: AGHT+IGwvs9Rxf2I4Uz6fWxSZRrp70QSdaLf4qAc4Z/tBp5pB+ySkOAuY95Yo/HQhau+yUohYVKqBtytaKUw X-Received: by 2002:a05:6a20:2450:b0:342:a7cd:9214 with SMTP id adf61e73a8af0-34f8430f53fmr3903193637.23.1762340785717; Wed, 05 Nov 2025 03:06:25 -0800 (PST) Received: from postal.iol.unh.edu (postal.iol.unh.edu. [2606:4100:3880:1234::84]) by smtp-relay.gmail.com with ESMTPS id d2e1a72fcca58-7acd5775362sm376336b3a.8.2025.11.05.03.06.25 (version=TLS1_2 cipher=ECDHE-ECDSA-AES128-GCM-SHA256 bits=128/128); Wed, 05 Nov 2025 03:06:25 -0800 (PST) X-Relaying-Domain: iol.unh.edu Date: Wed, 05 Nov 2025 03:06:25 -0800 (PST) Message-ID: <690b2fb1.050a0220.291a79.4ce1SMTPIN_ADDED_MISSING@mx.google.com> Received: from [172.21.0.2] (unknown [172.18.0.240]) by postal.iol.unh.edu (Postfix) with ESMTP id F14976051830; Wed, 5 Nov 2025 06:06:24 -0500 (EST) Subject: |SUCCESS| pw158450 [PATCH] Revert "net/null: add fast mbuf release T From: dpdklab@iol.unh.edu To: Test Report Cc: dpdk-test-reports@iol.unh.edu, Stephen Hemminger In-Reply-To: <20251105081953.20153-1-mb@smartsharesystems.com> References: <20251105081953.20153-1-mb@smartsharesystems.com> Content-Type: text/plain X-BeenThere: test-report@dpdk.org X-Mailman-Version: 2.1.29 Precedence: list List-Id: automatic DPDK test reports List-Unsubscribe: , List-Archive: List-Post: List-Help: List-Subscribe: , Errors-To: test-report-bounces@dpdk.org Test-Label: iol-unit-amd64-testing Test-Status: SUCCESS http://dpdk.org/patch/158450 _Testing PASS_ Submitter: Morten Brorup Date: Wednesday, November 05 2025 08:19:52 DPDK git baseline: Repo:dpdk-next-net Branch: master CommitID:538052bb364db22ba8cc08b5e23a9e6d25a864a9 158450 --> testing pass Upstream job id: Generic-VM-Unit-Test-DPDK#32304 Test environment and result as below: +-------------------------------+----------------+ | Environment | dpdk_unit_test | +===============================+================+ | Ubuntu 20.04 | PASS | +-------------------------------+----------------+ | Red Hat Enterprise Linux 9.5 | PASS | +-------------------------------+----------------+ | Debian GNU/Linux 12 | PASS | +-------------------------------+----------------+ | Fedora Linux 42 | PASS | +-------------------------------+----------------+ | Red Hat Enterprise Linux 8.10 | PASS | +-------------------------------+----------------+ | Fedora Linux 40 | PASS | +-------------------------------+----------------+ | Ubuntu 22.04 | PASS | +-------------------------------+----------------+ | CentOS Stream 10 | PASS | +-------------------------------+----------------+ | Fedora Linux 41 | PASS | +-------------------------------+----------------+ | Ubuntu 24.04 | PASS | +-------------------------------+----------------+ | CentOS Stream 9 | PASS | +-------------------------------+----------------+ | Windows Server 2022 | PASS | +-------------------------------+----------------+ Ubuntu 20.04 Kernel: 5.15 Compiler: gcc gcc (Ubuntu 9.4.0-1ubuntu1~20.04.2) 9.4.0 Red Hat Enterprise Linux 9.5 Kernel: 5.15 Compiler: gcc gcc (GCC) 11.5.0 20240719 (Red Hat 11.5.0-2) Debian GNU/Linux 12 Kernel: 5.15 Compiler: gcc gcc (Debian 12.2.0-14+deb12u1) 12.2.0 Fedora Linux 42 Kernel: 5.15 Compiler: clang gcc (GCC) 15.2.1 20250808 (Red Hat 15.2.1-1) Red Hat Enterprise Linux 8.10 Kernel: 5.15 Compiler: gcc gcc (GCC) 8.5.0 20210514 (Red Hat 8.5.0-22) Fedora Linux 40 Kernel: 5.15 Compiler: clang gcc (GCC) 14.2.1 20240912 (Red Hat 14.2.1-3) Ubuntu 22.04 Kernel: 5.15 Compiler: gcc gcc (Ubuntu 11.4.0-1ubuntu1~22.04) 11.4.0 CentOS Stream 10 Kernel: 5.15 Compiler: gcc gcc (GCC) 14.2.1 20250110 (Red Hat 14.2.1-8) Fedora Linux 41 Kernel: 5.15 Compiler: clang gcc (GCC) 14.3.1 20250523 (Red Hat 14.3.1-1) Ubuntu 24.04 Kernel: 5.15 Compiler: gcc gcc (Ubuntu 13.3.0-6ubuntu2~24.04) 13.3.0 CentOS Stream 9 Kernel: 5.15 Compiler: gcc gcc (GCC) 11.5.0 20240719 (Red Hat 11.5.0-11) Windows Server 2022 Kernel: 10.0.20348.2031 Compiler: clang 15.0.7, gcc 14.1.0 (MinGW), and MSVC VS 19.39.33521 To view detailed results, visit: https://lab.dpdk.org/results/dashboard/patchsets/34467/ UNH-IOL DPDK Community Lab To manage your email subscriptions, visit: https://lab.dpdk.org/results/dashboard/preferences/subscriptions/