From mboxrd@z Thu Jan 1 00:00:00 1970 Return-Path: Received: from mails.dpdk.org (mails.dpdk.org [217.70.189.124]) by inbox.dpdk.org (Postfix) with ESMTP id 4E02248A71 for ; Wed, 5 Nov 2025 12:29:31 +0100 (CET) Received: from mails.dpdk.org (localhost [127.0.0.1]) by mails.dpdk.org (Postfix) with ESMTP id 44207400D7; Wed, 5 Nov 2025 12:29:31 +0100 (CET) Received: from mail-pg1-f226.google.com (mail-pg1-f226.google.com [209.85.215.226]) by mails.dpdk.org (Postfix) with ESMTP id 570D4400D7 for ; Wed, 5 Nov 2025 12:29:30 +0100 (CET) Received: by mail-pg1-f226.google.com with SMTP id 41be03b00d2f7-b9ab6cdf64bso356679a12.0 for ; Wed, 05 Nov 2025 03:29:30 -0800 (PST) DKIM-Signature: v=1; a=rsa-sha256; c=relaxed/relaxed; d=iol.unh.edu; s=unh-iol; t=1762342169; x=1762946969; darn=dpdk.org; h=references:in-reply-to:cc:to:from:subject:message-id:date:from:to :cc:subject:date:message-id:reply-to; bh=HxRsjfAspnN7zkaoCORIhbSfc4VXx8VkL3nF+b33Is8=; b=KfR2VZumHRnd21O1461wjWd+JlqDaSgS8oi3K2flL5b9gNqdZYIapZWAiK+Vv5PcEh Skt8IEf90RJXzACJG/WG8pNCXjVya2Ul5BJRvX9HKBXgnMEtRZUYvRTk+IFytkiLSIW8 doXnzEFke3Fhjm/w9kXhfj+eFteMogNUDOSAQ= X-Google-DKIM-Signature: v=1; a=rsa-sha256; c=relaxed/relaxed; d=1e100.net; s=20230601; t=1762342169; x=1762946969; h=references:in-reply-to:cc:to:from:subject:message-id:date :x-gm-message-state:from:to:cc:subject:date:message-id:reply-to; bh=HxRsjfAspnN7zkaoCORIhbSfc4VXx8VkL3nF+b33Is8=; b=I+LOy2z1l9aDlE8ARYpWayS6aXmJzfUZ423lcUHMaL+3F1w66sb0ebMhWDGB9zRu0d RpRZVPA7b0ijnz3JRrrAyGOJi35vbVFcctScyca9pM3waytbsiyhxspye1LWw0yXfcCx 3h+O6qZ9h/F4SizyS+oopjY/9oy665sUYRk2VmwlLqMYJpXQLQTqPhVnc/coxZJX6PT7 Yc58WTeyLcBhnuqwJWnDunXTzrxpi0LgHED81jfmR/+jmhoytW9Ga/jeCDRUPVeVlb8R gxjKFw25Tf7dAy44E3tJBhLwRu5FprUvMUFQOvMNxDFSVSMLEIpbHNFzV7ev9J/vD3Ve wOuA== X-Gm-Message-State: AOJu0YwSV7Ekx8gU04ylGCoP1kYxsRvI0IstEg5fDz04+WiGzDn6xb+4 Q6iRCnmRYNWyArEud8+Iskm3HKQ4kUSagdT3WcZV1770i21VjRmyD+rcBph7+ijNzcPywbc0qlC nI8kHvjyuq/IUT0fk4xcMFX+77ZxnTp4EdArPVYK5buCWJ+wUhKk0mS5NTiL4 X-Gm-Gg: ASbGncvvgcjxAxklEcx10+oUVKyd1SHsAaIFRMJVQPlZC0XOCqpRsX8m9/WRiSdenEX daga4FpESDOgCAp6E6co1Nt5gvXFkoUfmGFKncpb8J9srESF2H1QwY/JvPTIj0azOimRj58OXTF PtieyMhryDxMOk4xF4Z9Ji7GEbOgDKIhiw2q4B9EgxRvg1GhXl2Ekfz6jgf/m83sPKQJBVVSYKS 0CWXePPpfb8zme2b7QAtIXAFL5n5zVg/KHzJb9eFqfPJ1wnbg12Jgb+8iLQyviXuAUrO8+k2ugL Bd+ycJWbeUFNSetnq0pbz1fqmBBJggIpBquKP3EbXN4gC2vBK5NDCTw9A389h3WAJROSLIKDNK/ +FUsCfv0D X-Google-Smtp-Source: AGHT+IHy3m5Bm1zX8f6qbJ+WRyoRQbWu/UPsIiBskKR1UawvHMblAJf6JyZTmDCZkkaMtq5ZV+E41M38U+jQ X-Received: by 2002:a05:6a20:158a:b0:2ab:a456:9b09 with SMTP id adf61e73a8af0-34f71aadc58mr4483152637.15.1762342169414; Wed, 05 Nov 2025 03:29:29 -0800 (PST) Received: from postal.iol.unh.edu (postal.iol.unh.edu. [2606:4100:3880:1234::84]) by smtp-relay.gmail.com with ESMTPS id 41be03b00d2f7-ba1e6933e00sm365969a12.0.2025.11.05.03.29.29 (version=TLS1_2 cipher=ECDHE-ECDSA-AES128-GCM-SHA256 bits=128/128); Wed, 05 Nov 2025 03:29:29 -0800 (PST) X-Relaying-Domain: iol.unh.edu Date: Wed, 05 Nov 2025 03:29:29 -0800 (PST) Message-ID: <690b3519.650a0220.1ea5db.4d45SMTPIN_ADDED_MISSING@mx.google.com> Received: from [172.21.0.2] (unknown [172.18.0.240]) by postal.iol.unh.edu (Postfix) with ESMTP id 303726051830; Wed, 5 Nov 2025 06:29:28 -0500 (EST) Subject: |SUCCESS| pw158451-158452 [PATCH] [2/2] ci: add dependency in GHA fo From: dpdklab@iol.unh.edu To: Test Report Cc: dpdk-test-reports@iol.unh.edu In-Reply-To: <20251105084309.3851898-2-david.marchand@redhat.com> References: <20251105084309.3851898-2-david.marchand@redhat.com> Content-Type: text/plain X-BeenThere: test-report@dpdk.org X-Mailman-Version: 2.1.29 Precedence: list List-Id: automatic DPDK test reports List-Unsubscribe: , List-Archive: List-Post: List-Help: List-Subscribe: , Errors-To: test-report-bounces@dpdk.org Test-Label: iol-compile-amd64-testing Test-Status: SUCCESS http://dpdk.org/patch/158452 _Testing PASS_ Submitter: David Marchand Date: Wednesday, November 05 2025 08:43:09 DPDK git baseline: Repo:dpdk Branch: master CommitID:91bac7546b34fbcbc96ec7b3afa4bb2daa8accb9 158451-158452 --> testing pass Upstream job id: Windows-Compile-DPDK-VS#7428 Test environment and result as below: +-------------------------------+--------------------+------------------+-------------------+ | Environment | dpdk_meson_compile | dpdk_compile_ovs | dpdk_msvc_compile | +===============================+====================+==================+===================+ | CentOS Stream 10 | PASS | SKIPPED | SKIPPED | +-------------------------------+--------------------+------------------+-------------------+ | FreeBSD 14.2 | PASS | SKIPPED | SKIPPED | +-------------------------------+--------------------+------------------+-------------------+ | Ubuntu 20.04 | PASS | SKIPPED | SKIPPED | +-------------------------------+--------------------+------------------+-------------------+ | Fedora Linux 42 | PASS | PASS | SKIPPED | +-------------------------------+--------------------+------------------+-------------------+ | Debian GNU/Linux 12 | PASS | SKIPPED | SKIPPED | +-------------------------------+--------------------+------------------+-------------------+ | Ubuntu 24.04 | PASS | PASS | SKIPPED | +-------------------------------+--------------------+------------------+-------------------+ | openSUSE Leap 15.6 | PASS | SKIPPED | SKIPPED | +-------------------------------+--------------------+------------------+-------------------+ | Red Hat Enterprise Linux 8.10 | PASS | SKIPPED | SKIPPED | +-------------------------------+--------------------+------------------+-------------------+ | CentOS Stream 9 | PASS | SKIPPED | SKIPPED | +-------------------------------+--------------------+------------------+-------------------+ | Red Hat Enterprise Linux 9.5 | PASS | SKIPPED | SKIPPED | +-------------------------------+--------------------+------------------+-------------------+ | Ubuntu 22.04 | PASS | SKIPPED | SKIPPED | +-------------------------------+--------------------+------------------+-------------------+ | Alpine Linux 3.22.0 | PASS | SKIPPED | SKIPPED | +-------------------------------+--------------------+------------------+-------------------+ | Windows Server 2022 | SKIPPED | SKIPPED | PASS | +-------------------------------+--------------------+------------------+-------------------+ CentOS Stream 10 Kernel: 5.15 Compiler: gcc gcc (GCC) 14.2.1 20250110 (Red Hat 14.2.1-8) FreeBSD 14.2 Kernel: 14.2-RELEASE Compiler: clang 18.1.6 Ubuntu 20.04 Kernel: 4.19 Compiler: gcc gcc (Ubuntu 9.4.0-1ubuntu1~20.04.2) 9.4.0 Fedora Linux 42 Kernel: 5.15 Compiler: clang gcc (GCC) 15.2.1 20250808 (Red Hat 15.2.1-1) Debian GNU/Linux 12 Kernel: 5.15 Compiler: gcc gcc (Debian 12.2.0-14+deb12u1) 12.2.0 Ubuntu 24.04 Kernel: 5.15 Compiler: gcc gcc (Ubuntu 13.3.0-6ubuntu2~24.04) 13.3.0 openSUSE Leap 15.6 Kernel: 5.15 Compiler: gcc gcc (SUSE Linux) 7.5.0 Red Hat Enterprise Linux 8.10 Kernel: 5.15 Compiler: gcc gcc (GCC) 8.5.0 20210514 (Red Hat 8.5.0-22) CentOS Stream 9 Kernel: 5.15 Compiler: gcc gcc (GCC) 11.5.0 20240719 (Red Hat 11.5.0-11) Red Hat Enterprise Linux 9.5 Kernel: 5.15 Compiler: gcc gcc (GCC) 11.5.0 20240719 (Red Hat 11.5.0-2) Ubuntu 22.04 Kernel: 5.15 Compiler: gcc gcc (Ubuntu 11.4.0-1ubuntu1~22.04) 11.4.0 Alpine Linux 3.22.0 Kernel: 5.15 Compiler: gcc gcc (Alpine 14.2.0) 14.2.0 Windows Server 2022 Kernel: 10.0.20348.2031 Compiler: clang 15.0.7, gcc 14.1.0 (MinGW), and MSVC VS 19.39.33521 To view detailed results, visit: https://lab.dpdk.org/results/dashboard/patchsets/34468/ UNH-IOL DPDK Community Lab To manage your email subscriptions, visit: https://lab.dpdk.org/results/dashboard/preferences/subscriptions/