From mboxrd@z Thu Jan 1 00:00:00 1970 Return-Path: Received: from mails.dpdk.org (mails.dpdk.org [217.70.189.124]) by inbox.dpdk.org (Postfix) with ESMTP id 84CA248A71 for ; Wed, 5 Nov 2025 12:30:56 +0100 (CET) Received: from mails.dpdk.org (localhost [127.0.0.1]) by mails.dpdk.org (Postfix) with ESMTP id 7CF57400D7; Wed, 5 Nov 2025 12:30:56 +0100 (CET) Received: from mail-vs1-f99.google.com (mail-vs1-f99.google.com [209.85.217.99]) by mails.dpdk.org (Postfix) with ESMTP id A7028400D7 for ; Wed, 5 Nov 2025 12:30:54 +0100 (CET) Received: by mail-vs1-f99.google.com with SMTP id ada2fe7eead31-5db2a0661e0so3103552137.0 for ; Wed, 05 Nov 2025 03:30:54 -0800 (PST) DKIM-Signature: v=1; a=rsa-sha256; c=relaxed/relaxed; d=iol.unh.edu; s=unh-iol; t=1762342254; x=1762947054; darn=dpdk.org; h=references:in-reply-to:cc:to:from:subject:message-id:date:from:to :cc:subject:date:message-id:reply-to; bh=BAzYLy6e7v6QjHzQKNppUDmTD8dKRCwrocZJAwyNXpA=; b=WoVovgpgkFRqcEUceVHGhnOutKqdzNTdet6pSWwUV8il8tMAYWGeKSj8XAzhpKUTV1 Bz6ft4ndfku43ESzisWaJ0XPk0mJyZlyXGTEBhJjbQg5/l6RctWVE1Q3LyeZrjbn9SE3 hR3MLBcwZexjFHY5P0b9daBr2Cg4l4fCpK9do= X-Google-DKIM-Signature: v=1; a=rsa-sha256; c=relaxed/relaxed; d=1e100.net; s=20230601; t=1762342254; x=1762947054; h=references:in-reply-to:cc:to:from:subject:message-id:date :x-gm-message-state:from:to:cc:subject:date:message-id:reply-to; bh=BAzYLy6e7v6QjHzQKNppUDmTD8dKRCwrocZJAwyNXpA=; b=HHrY+Lm2Z0vcd563NNrDAaM9zeBu64dYBf6ZqpUbEoricK8v/L/XolYWGTHI66bVU0 HtejtjKytDQC3XoBpe6LSry/x2/iBKyiU7iT5PK27I8ZwsL36zHVhpUWF6Bl2dVUJfnv EY4jsj1eGRT++Cee3RwjjmzI2bkejr4HLC9zW/Mje59VsEqMoWQakmPvDXEDRa9WSyzP nuW61iFkFijWuLKauaNhl88/uuE+y9d3bqVUmEGZFci0ivU2JsFgQ/Sxtq1d3Pjq+UAY KpBBX0cnCCldqPX4VIhNevn/srUihvZtEIanVJJXCb+9l8kjzzKZvbRP12JZxtu2fq5B yweA== X-Gm-Message-State: AOJu0YxibvNx4AC5wziPvE2GzQTRIieAtia/g+/2ht6g+ASvMbc4FPsf lEr5w8OpMjDVdKXBx5h+o1317YRcKi3vpWYU1eTuBHmkV0sjWC7+OJ4Cz9WL7okMtw9YSbWes0b okF+NvoCuVeAXzcwpY1MmQW3CS9hZ61f6J6/iUxYFPnu+zSQhH9CvTgckjCS8 X-Gm-Gg: ASbGncvP/Tg1+q0ds1v7bHYFsyorowrkhazkIL07KqEybxHlecjBuiA6zdF7CO/9Ap/ FQQqlFBeniJhq3sicZTfbSbLN44ZAA6md8h1s8UPW4uZR+88MT+UrJhkzQkNOqrEmdi/Dni1Wwj 8udGNAxf+k/EBYqMp2bxn3m8pgZ9ioy3g0mXqkcFwFf8I0QiS/EDDDkXivPsfgAvn3CekQnpYWF rA1dPV8R1VH8qmdaxBe1FC0GRA4jLRfFrbTMvGSe42bkaZSyyVljqbEjZBh7Mhfnfh2zevh44Bk riSNPsGLyCwoXZCxnkMsJ+KTcQz7hfULbqzWtRWR3m/gOx0uTsFkxHXBp11dlxCI6itN/v+Ql8j 895NEriiA X-Google-Smtp-Source: AGHT+IE5r0UKA2wt022xPLr54RShOHzSfD9mP/O6eIZcQgRQQ6mlK8oR/XAw2eVUUqlPaELjbDmAqKuFKwDy X-Received: by 2002:a05:6102:5091:b0:5d6:2bf0:32ed with SMTP id ada2fe7eead31-5dd89238e28mr1046923137.34.1762342253983; Wed, 05 Nov 2025 03:30:53 -0800 (PST) Received: from postal.iol.unh.edu (postal.iol.unh.edu. [2606:4100:3880:1234::84]) by smtp-relay.gmail.com with ESMTPS id ada2fe7eead31-5dbf313d64csm486422137.2.2025.11.05.03.30.53 (version=TLS1_2 cipher=ECDHE-ECDSA-AES128-GCM-SHA256 bits=128/128); Wed, 05 Nov 2025 03:30:53 -0800 (PST) X-Relaying-Domain: iol.unh.edu Date: Wed, 05 Nov 2025 03:30:53 -0800 (PST) Message-ID: <690b356d.050a0220.2454c.a3b2SMTPIN_ADDED_MISSING@mx.google.com> Received: from [172.21.0.2] (unknown [172.18.0.240]) by postal.iol.unh.edu (Postfix) with ESMTP id 9C5436051830; Wed, 5 Nov 2025 06:30:53 -0500 (EST) Subject: |SUCCESS| pw158450 [PATCH] Revert "net/null: add fast mbuf release T From: dpdklab@iol.unh.edu To: Test Report Cc: dpdk-test-reports@iol.unh.edu, Stephen Hemminger In-Reply-To: <20251105081953.20153-1-mb@smartsharesystems.com> References: <20251105081953.20153-1-mb@smartsharesystems.com> Content-Type: text/plain X-BeenThere: test-report@dpdk.org X-Mailman-Version: 2.1.29 Precedence: list List-Id: automatic DPDK test reports List-Unsubscribe: , List-Archive: List-Post: List-Help: List-Subscribe: , Errors-To: test-report-bounces@dpdk.org Test-Label: iol-compile-amd64-testing Test-Status: SUCCESS http://dpdk.org/patch/158450 _Testing PASS_ Submitter: Morten Brorup Date: Wednesday, November 05 2025 08:19:52 DPDK git baseline: Repo:dpdk-next-net Branch: master CommitID:538052bb364db22ba8cc08b5e23a9e6d25a864a9 158450 --> testing pass Upstream job id: Windows-Compile-DPDK-Native#32130 Test environment and result as below: +-------------------------------+--------------------+------------------+-------------------+-------------------------+----------------------+ | Environment | dpdk_meson_compile | dpdk_compile_ovs | dpdk_msvc_compile | dpdk_llvm_clang_compile | dpdk_mingw64_compile | +===============================+====================+==================+===================+=========================+======================+ | Debian GNU/Linux 12 | PASS | SKIPPED | SKIPPED | SKIPPED | SKIPPED | +-------------------------------+--------------------+------------------+-------------------+-------------------------+----------------------+ | CentOS Stream 9 | PASS | SKIPPED | SKIPPED | SKIPPED | SKIPPED | +-------------------------------+--------------------+------------------+-------------------+-------------------------+----------------------+ | CentOS Stream 10 | PASS | SKIPPED | SKIPPED | SKIPPED | SKIPPED | +-------------------------------+--------------------+------------------+-------------------+-------------------------+----------------------+ | Ubuntu 24.04 | PASS | PASS | SKIPPED | SKIPPED | SKIPPED | +-------------------------------+--------------------+------------------+-------------------+-------------------------+----------------------+ | Fedora Linux 42 | PASS | PASS | SKIPPED | SKIPPED | SKIPPED | +-------------------------------+--------------------+------------------+-------------------+-------------------------+----------------------+ | Red Hat Enterprise Linux 9.5 | PASS | SKIPPED | SKIPPED | SKIPPED | SKIPPED | +-------------------------------+--------------------+------------------+-------------------+-------------------------+----------------------+ | Red Hat Enterprise Linux 8.10 | PASS | SKIPPED | SKIPPED | SKIPPED | SKIPPED | +-------------------------------+--------------------+------------------+-------------------+-------------------------+----------------------+ | Ubuntu 20.04 | PASS | SKIPPED | SKIPPED | SKIPPED | SKIPPED | +-------------------------------+--------------------+------------------+-------------------+-------------------------+----------------------+ | Ubuntu 22.04 | PASS | SKIPPED | SKIPPED | SKIPPED | SKIPPED | +-------------------------------+--------------------+------------------+-------------------+-------------------------+----------------------+ | Alpine Linux 3.22.0 | PASS | SKIPPED | SKIPPED | SKIPPED | SKIPPED | +-------------------------------+--------------------+------------------+-------------------+-------------------------+----------------------+ | openSUSE Leap 15.6 | PASS | SKIPPED | SKIPPED | SKIPPED | SKIPPED | +-------------------------------+--------------------+------------------+-------------------+-------------------------+----------------------+ | FreeBSD 14.2 | PASS | SKIPPED | SKIPPED | SKIPPED | SKIPPED | +-------------------------------+--------------------+------------------+-------------------+-------------------------+----------------------+ | Windows Server 2022 | SKIPPED | SKIPPED | PASS | PASS | PASS | +-------------------------------+--------------------+------------------+-------------------+-------------------------+----------------------+ Debian GNU/Linux 12 Kernel: 5.15 Compiler: gcc gcc (Debian 12.2.0-14+deb12u1) 12.2.0 CentOS Stream 9 Kernel: 5.15 Compiler: gcc gcc (GCC) 11.5.0 20240719 (Red Hat 11.5.0-11) CentOS Stream 10 Kernel: 5.15 Compiler: gcc gcc (GCC) 14.2.1 20250110 (Red Hat 14.2.1-8) Ubuntu 24.04 Kernel: 5.15 Compiler: gcc gcc (Ubuntu 13.3.0-6ubuntu2~24.04) 13.3.0 Fedora Linux 42 Kernel: 5.15 Compiler: clang gcc (GCC) 15.2.1 20250808 (Red Hat 15.2.1-1) Red Hat Enterprise Linux 9.5 Kernel: 5.15 Compiler: gcc gcc (GCC) 11.5.0 20240719 (Red Hat 11.5.0-2) Red Hat Enterprise Linux 8.10 Kernel: 5.15 Compiler: gcc gcc (GCC) 8.5.0 20210514 (Red Hat 8.5.0-22) Ubuntu 20.04 Kernel: 5.15 Compiler: gcc gcc (Ubuntu 9.4.0-1ubuntu1~20.04.2) 9.4.0 Ubuntu 22.04 Kernel: 5.15 Compiler: gcc gcc (Ubuntu 11.4.0-1ubuntu1~22.04) 11.4.0 Alpine Linux 3.22.0 Kernel: 5.15 Compiler: gcc gcc (Alpine 14.2.0) 14.2.0 openSUSE Leap 15.6 Kernel: 5.15 Compiler: gcc gcc (SUSE Linux) 7.5.0 FreeBSD 14.2 Kernel: 14.2-RELEASE Compiler: clang 18.1.6 Windows Server 2022 Kernel: 10.0.20348.2031 Compiler: clang 15.0.7, gcc 14.1.0 (MinGW), and MSVC VS 19.39.33521 To view detailed results, visit: https://lab.dpdk.org/results/dashboard/patchsets/34467/ UNH-IOL DPDK Community Lab To manage your email subscriptions, visit: https://lab.dpdk.org/results/dashboard/preferences/subscriptions/