From mboxrd@z Thu Jan 1 00:00:00 1970 Return-Path: Received: from mails.dpdk.org (mails.dpdk.org [217.70.189.124]) by inbox.dpdk.org (Postfix) with ESMTP id 5E3BD48A71 for ; Wed, 5 Nov 2025 12:39:18 +0100 (CET) Received: from mails.dpdk.org (localhost [127.0.0.1]) by mails.dpdk.org (Postfix) with ESMTP id 41039400D7; Wed, 5 Nov 2025 12:39:18 +0100 (CET) Received: from mail-io1-f97.google.com (mail-io1-f97.google.com [209.85.166.97]) by mails.dpdk.org (Postfix) with ESMTP id 97510400D7 for ; Wed, 5 Nov 2025 12:39:16 +0100 (CET) Received: by mail-io1-f97.google.com with SMTP id ca18e2360f4ac-93e9b5bafa5so242019539f.3 for ; Wed, 05 Nov 2025 03:39:16 -0800 (PST) DKIM-Signature: v=1; a=rsa-sha256; c=relaxed/relaxed; d=iol.unh.edu; s=unh-iol; t=1762342756; x=1762947556; darn=dpdk.org; h=references:in-reply-to:cc:to:from:subject:message-id:date:from:to :cc:subject:date:message-id:reply-to; bh=U6Kc+01+0vdxteDezWkonkVjNWDyXPt1smFr+wGkhag=; b=DHWpflNv58PkbJ/vpGfBxA0rjDcroF+6S9PBIJ4hlX8HK22X7szLAQYDCo9Xk51uzk 9NKaDcE6EP69pcNuZ33JqHMl61QL8fVFTMhLdbbcZTKpit7AXnyDs8SPCRqyYcmYSm+H AUNQePLPtgZRsUSZY6t+aeBNy1r1jw+ddr5m0= X-Google-DKIM-Signature: v=1; a=rsa-sha256; c=relaxed/relaxed; d=1e100.net; s=20230601; t=1762342756; x=1762947556; h=references:in-reply-to:cc:to:from:subject:message-id:date :x-gm-message-state:from:to:cc:subject:date:message-id:reply-to; bh=U6Kc+01+0vdxteDezWkonkVjNWDyXPt1smFr+wGkhag=; b=OOIrxm8Ca9QJ8lZT3qVAqtkjo/ttqyGguFBt7jSKmCAbvTffaidD/R4IEr4xZwnG2m OWrFEWkhGJr+FK3uKDBaUCc0jTeiPJPZ39pgUVAUh5X3Mxzin8mC9XIWd7iosXN6gXxu mwGjrX9qDH6EtYjE6GgwzIqt/DLT2Crl1Ut5qCpe0SG492cN3fW27PYINTpjix9heah1 pyDgNhsNpUju4ukKUxuHZ0atacwIbuiIeMgiojGSgvv91+tUfLi8d4veINY9/lYTKg96 FFRTJGqf6B4cTTw5CIcqlQnMeJ5Whge3nDQtAT/xYmgYccEjXiBnRkpOpckGf/mBvHqS 6Asw== X-Gm-Message-State: AOJu0Yyk+AgihnlBsm/7KvAPbJOPYYZEU5ZZxusSDroXb+lQzzxAWIFB mJhWdbgW3kzj/Dpn30Bu0J7On0X3aE/4dl2NTVk7az1LYhJ7+xEkGtoOhRwlFa6DQ1G/n0QPE3Y 2CXY4ULFNF/d7MEuhNVPi9gQ9NoJinzZuVkwiRPqJsj/U X-Gm-Gg: ASbGnctAsnTQptU3TqxzOOvYVhwkGM4WHoF8z3LPFoYlsgTFjSZGFzWF/j/eDVCjPu1 xvTXQh0CvOUk6N2uvnFxAGuKvDAKXELvhpspnnSjD1K7S8/8cWbQSK3LvxHcLynSw3OtzVkOy7q Wsv1rZiBAsdNCgg3+GO7o0H7lPJE9/wkADa+iCjBFL5z7bGBXfoHCMRPSjgLyzJitMYYQxl3jFy mWp0nSlfiD9FPz5Zc/kUJhonPQ9zBhYaBU/0NoZftIsoleHzoolsKSf14NVgOHc8KEVb28nelFe bc40rAkyNepikrHv4uz4e3QHm7+D7lstZFNmE6MZpquil6GBtB3HDfk5vIryKW+wPRCpAT0eJAR fGJTzBS1R963k+10290fFNlqTL1W5Vh8= X-Google-Smtp-Source: AGHT+IGgM9npDDr0qY1ylZFYUbxTFMsF4c9oilsl8xvSwUvHQmv9iUzQORxomBuQizSbmPnB6iis2k/LgpX9 X-Received: by 2002:a05:6602:3429:b0:92e:772:9323 with SMTP id ca18e2360f4ac-94869ea1cd2mr449840739f.16.1762342755860; Wed, 05 Nov 2025 03:39:15 -0800 (PST) Received: from postal.iol.unh.edu (postal.iol.unh.edu. [132.177.123.84]) by smtp-relay.gmail.com with ESMTPS id ca18e2360f4ac-94854fb9e43sm37339239f.3.2025.11.05.03.39.15 (version=TLS1_2 cipher=ECDHE-ECDSA-AES128-GCM-SHA256 bits=128/128); Wed, 05 Nov 2025 03:39:15 -0800 (PST) X-Relaying-Domain: iol.unh.edu Date: Wed, 05 Nov 2025 03:39:15 -0800 (PST) Message-ID: <690b3763.050a0220.b43ad.3cf6SMTPIN_ADDED_MISSING@mx.google.com> Received: from [172.21.0.3] (unknown [172.18.0.240]) by postal.iol.unh.edu (Postfix) with ESMTP id 223986051830; Wed, 5 Nov 2025 06:39:15 -0500 (EST) Subject: |SUCCESS| pw158451-158452 [PATCH] [2/2] ci: add dependency in GHA fo From: dpdklab@iol.unh.edu To: Test Report Cc: dpdk-test-reports@iol.unh.edu In-Reply-To: <20251105084309.3851898-2-david.marchand@redhat.com> References: <20251105084309.3851898-2-david.marchand@redhat.com> Content-Type: text/plain X-BeenThere: test-report@dpdk.org X-Mailman-Version: 2.1.29 Precedence: list List-Id: automatic DPDK test reports List-Unsubscribe: , List-Archive: List-Post: List-Help: List-Subscribe: , Errors-To: test-report-bounces@dpdk.org Test-Label: iol-unit-amd64-testing Test-Status: SUCCESS http://dpdk.org/patch/158452 _Testing PASS_ Submitter: David Marchand Date: Wednesday, November 05 2025 08:43:09 DPDK git baseline: Repo:dpdk Branch: master CommitID:91bac7546b34fbcbc96ec7b3afa4bb2daa8accb9 158451-158452 --> testing pass Upstream job id: Generic-VM-Unit-Test-DPDK#32305 Test environment and result as below: +-------------------------------+----------------+ | Environment | dpdk_unit_test | +===============================+================+ | Fedora Linux 42 | PASS | +-------------------------------+----------------+ | Fedora Linux 40 | PASS | +-------------------------------+----------------+ | Red Hat Enterprise Linux 9.5 | PASS | +-------------------------------+----------------+ | Red Hat Enterprise Linux 8.10 | PASS | +-------------------------------+----------------+ | Ubuntu 20.04 | PASS | +-------------------------------+----------------+ | Debian GNU/Linux 12 | PASS | +-------------------------------+----------------+ | CentOS Stream 10 | PASS | +-------------------------------+----------------+ | Fedora Linux 41 | PASS | +-------------------------------+----------------+ | Ubuntu 22.04 | PASS | +-------------------------------+----------------+ | CentOS Stream 9 | PASS | +-------------------------------+----------------+ | Ubuntu 24.04 | PASS | +-------------------------------+----------------+ | Windows Server 2022 | PASS | +-------------------------------+----------------+ Fedora Linux 42 Kernel: 5.15 Compiler: gcc gcc (GCC) 15.2.1 20250808 (Red Hat 15.2.1-1) Fedora Linux 40 Kernel: 5.15 Compiler: gcc gcc (GCC) 14.2.1 20240912 (Red Hat 14.2.1-3) Red Hat Enterprise Linux 9.5 Kernel: 5.15 Compiler: gcc gcc (GCC) 11.5.0 20240719 (Red Hat 11.5.0-2) Red Hat Enterprise Linux 8.10 Kernel: 5.15 Compiler: gcc gcc (GCC) 8.5.0 20210514 (Red Hat 8.5.0-22) Ubuntu 20.04 Kernel: 5.15 Compiler: gcc gcc (Ubuntu 9.4.0-1ubuntu1~20.04.2) 9.4.0 Debian GNU/Linux 12 Kernel: 5.15 Compiler: gcc gcc (Debian 12.2.0-14+deb12u1) 12.2.0 CentOS Stream 10 Kernel: 5.15 Compiler: gcc gcc (GCC) 14.2.1 20250110 (Red Hat 14.2.1-8) Fedora Linux 41 Kernel: 5.15 Compiler: clang gcc (GCC) 14.3.1 20250523 (Red Hat 14.3.1-1) Ubuntu 22.04 Kernel: 5.15 Compiler: gcc gcc (Ubuntu 11.4.0-1ubuntu1~22.04) 11.4.0 CentOS Stream 9 Kernel: 5.15 Compiler: gcc gcc (GCC) 11.5.0 20240719 (Red Hat 11.5.0-11) Ubuntu 24.04 Kernel: 5.15 Compiler: gcc gcc (Ubuntu 13.3.0-6ubuntu2~24.04) 13.3.0 Windows Server 2022 Kernel: 10.0.20348.2031 Compiler: clang 15.0.7, gcc 14.1.0 (MinGW), and MSVC VS 19.39.33521 To view detailed results, visit: https://lab.dpdk.org/results/dashboard/patchsets/34468/ UNH-IOL DPDK Community Lab To manage your email subscriptions, visit: https://lab.dpdk.org/results/dashboard/preferences/subscriptions/