From mboxrd@z Thu Jan 1 00:00:00 1970 Return-Path: Received: from mails.dpdk.org (mails.dpdk.org [217.70.189.124]) by inbox.dpdk.org (Postfix) with ESMTP id 1D5D848A71 for ; Wed, 5 Nov 2025 12:47:40 +0100 (CET) Received: from mails.dpdk.org (localhost [127.0.0.1]) by mails.dpdk.org (Postfix) with ESMTP id 184BA400D7; Wed, 5 Nov 2025 12:47:40 +0100 (CET) Received: from mail-yx1-f100.google.com (mail-yx1-f100.google.com [74.125.224.100]) by mails.dpdk.org (Postfix) with ESMTP id A8EDF400D7 for ; Wed, 5 Nov 2025 12:47:38 +0100 (CET) Received: by mail-yx1-f100.google.com with SMTP id 956f58d0204a3-63f95dc176fso4565084d50.1 for ; Wed, 05 Nov 2025 03:47:38 -0800 (PST) DKIM-Signature: v=1; a=rsa-sha256; c=relaxed/relaxed; d=iol.unh.edu; s=unh-iol; t=1762343258; x=1762948058; darn=dpdk.org; h=references:in-reply-to:cc:to:from:subject:message-id:date:from:to :cc:subject:date:message-id:reply-to; bh=fVmmHJdYR/XPahKc6b3uXY0+xtelv4pCIlc/NxZYff8=; b=Zvd/VgBf9VRIpXH67MQAn7QYx0vjTWVJ3iiDIcsoqHV9dFS3zBhGFL6fhL7AlKyVyo 60tW2KsX7Gd01aEjD0+PnR7m243BTRPpI3hJw6LFHsxauAaUVAAog0Bx4HbBwe4zU063 ndqFmlM21o27skpa9cXCOVIA3cI7dDbaphTHE= X-Google-DKIM-Signature: v=1; a=rsa-sha256; c=relaxed/relaxed; d=1e100.net; s=20230601; t=1762343258; x=1762948058; h=references:in-reply-to:cc:to:from:subject:message-id:date :x-gm-message-state:from:to:cc:subject:date:message-id:reply-to; bh=fVmmHJdYR/XPahKc6b3uXY0+xtelv4pCIlc/NxZYff8=; b=wmOFUGKXk+owxbt0uRIfS63MXkDT16d/pIVesHX/Y9sCUhTrB8Am/evEAWr6RW75fJ YovXqcrRNwUyTTrUa4CDNYmXw0VM8onJNqwfTqMWshQHt58OmsR55CfQtLGqt7jhHISc Em+A7/CgAXiEAR42UJANY+LvcfovOPozjpWJktzWnxUjbEJCwmJ19borNci+8+MfxyDE j7luu2B0wWxqaWuarVl+YFBJt3zkwQptBUnPZL73bJ/zHRMe2MzM8tmBL0A4QfdOcfhF 3nunvT2VsFMT4MEKHjyR4bYy9OVELzXuVoowf4x4ECt6M3w9lx5Tn7oL+SoHhHSyXGcZ bOkQ== X-Gm-Message-State: AOJu0Yxi3BUEXdMjpkMbSsQ5CfR5vjnGmtWF1SYmWMHNX3N96tkC64PN h06VMu+clFeGOIynX5kVviz3jyUp/ZhriM+4i9qEV5wsJDiutfUr5xruK9zjy7Ea1Xxv0VBOkLZ XBpJCgC+iKhqzgOhWyNLABf5tYP6+VokkegOI3hOgDLwTXQa5ynlkuz0Gun4u X-Gm-Gg: ASbGnct5Wj44itbaoM96Ys8jsRstNgHEC9vRozJJrvm4VspFAtBO63kdZjWqslgWc+n Bff+xH7yY8ySUf+ESFhDRbt38YcJ2J/5OJs+WVlHz3z25hLBppLwJLksFbOCgrXuaGQPqS2imz5 Rs8y1xIEhQ60pqu+AkaIBe+VqR7aLxDzbZcL87eKvtFsgCPnnb1IlLmciSxpJQiPB8lP7HusqBL 6evdEtX1+qDl50RKfrSLArYBS4243IesGWlKud2yXKGNavf+Jrrk7U0++35AiRHA1MZ97BzjcBe YqUAUu3iZrK3KjtiKi0TZr8F4WZyVjbrm08G8QQ1DLwvpK95XK0HF6Ukyfa1qKM7qC9WuQiC3z2 YZCTit7Oy X-Google-Smtp-Source: AGHT+IGGo+J8QaqMxZ5bUWflgg7MoTafZMZcO/o/5X7WWG9czTii40z/RNvnmgS4GNE5ofB1AQCXEfyEHdfc X-Received: by 2002:a05:690e:4346:b0:63f:9fda:e7f7 with SMTP id 956f58d0204a3-63fd35a31ccmr1745920d50.53.1762343257994; Wed, 05 Nov 2025 03:47:37 -0800 (PST) Received: from postal.iol.unh.edu (postal.iol.unh.edu. [2606:4100:3880:1234::84]) by smtp-relay.gmail.com with ESMTPS id 956f58d0204a3-63fc945e472sm343956d50.5.2025.11.05.03.47.37 (version=TLS1_2 cipher=ECDHE-ECDSA-AES128-GCM-SHA256 bits=128/128); Wed, 05 Nov 2025 03:47:37 -0800 (PST) X-Relaying-Domain: iol.unh.edu Date: Wed, 05 Nov 2025 03:47:37 -0800 (PST) Message-ID: <690b3959.530a0220.e89dc.2e82SMTPIN_ADDED_MISSING@mx.google.com> Received: from [172.21.0.2] (unknown [172.18.0.240]) by postal.iol.unh.edu (Postfix) with ESMTP id 9D5886051830; Wed, 5 Nov 2025 06:47:37 -0500 (EST) Subject: |SUCCESS| pw158451-158452 [PATCH] [2/2] ci: add dependency in GHA fo From: dpdklab@iol.unh.edu To: Test Report Cc: dpdk-test-reports@iol.unh.edu In-Reply-To: <20251105084309.3851898-2-david.marchand@redhat.com> References: <20251105084309.3851898-2-david.marchand@redhat.com> Content-Type: text/plain X-BeenThere: test-report@dpdk.org X-Mailman-Version: 2.1.29 Precedence: list List-Id: automatic DPDK test reports List-Unsubscribe: , List-Archive: List-Post: List-Help: List-Subscribe: , Errors-To: test-report-bounces@dpdk.org Test-Label: iol-unit-amd64-testing Test-Status: SUCCESS http://dpdk.org/patch/158452 _Testing PASS_ Submitter: David Marchand Date: Wednesday, November 05 2025 08:43:09 DPDK git baseline: Repo:dpdk Branch: master CommitID:91bac7546b34fbcbc96ec7b3afa4bb2daa8accb9 158451-158452 --> testing pass Upstream job id: Generic-VM-Unit-Test-DPDK#32306 Test environment and result as below: +-------------------------------+----------------+ | Environment | dpdk_unit_test | +===============================+================+ | Fedora Linux 42 | PASS | +-------------------------------+----------------+ | Fedora Linux 40 | PASS | +-------------------------------+----------------+ | Red Hat Enterprise Linux 9.5 | PASS | +-------------------------------+----------------+ | Red Hat Enterprise Linux 8.10 | PASS | +-------------------------------+----------------+ | Ubuntu 20.04 | PASS | +-------------------------------+----------------+ | Debian GNU/Linux 12 | PASS | +-------------------------------+----------------+ | CentOS Stream 10 | PASS | +-------------------------------+----------------+ | Fedora Linux 41 | PASS | +-------------------------------+----------------+ | Ubuntu 22.04 | PASS | +-------------------------------+----------------+ | CentOS Stream 9 | PASS | +-------------------------------+----------------+ | Ubuntu 24.04 | PASS | +-------------------------------+----------------+ | Windows Server 2022 | PASS | +-------------------------------+----------------+ Fedora Linux 42 Kernel: 5.15 Compiler: gcc gcc (GCC) 15.2.1 20250808 (Red Hat 15.2.1-1) Fedora Linux 40 Kernel: 5.15 Compiler: gcc gcc (GCC) 14.2.1 20240912 (Red Hat 14.2.1-3) Red Hat Enterprise Linux 9.5 Kernel: 5.15 Compiler: gcc gcc (GCC) 11.5.0 20240719 (Red Hat 11.5.0-2) Red Hat Enterprise Linux 8.10 Kernel: 5.15 Compiler: gcc gcc (GCC) 8.5.0 20210514 (Red Hat 8.5.0-22) Ubuntu 20.04 Kernel: 5.15 Compiler: gcc gcc (Ubuntu 9.4.0-1ubuntu1~20.04.2) 9.4.0 Debian GNU/Linux 12 Kernel: 5.15 Compiler: gcc gcc (Debian 12.2.0-14+deb12u1) 12.2.0 CentOS Stream 10 Kernel: 5.15 Compiler: gcc gcc (GCC) 14.2.1 20250110 (Red Hat 14.2.1-8) Fedora Linux 41 Kernel: 5.15 Compiler: clang gcc (GCC) 14.3.1 20250523 (Red Hat 14.3.1-1) Ubuntu 22.04 Kernel: 5.15 Compiler: gcc gcc (Ubuntu 11.4.0-1ubuntu1~22.04) 11.4.0 CentOS Stream 9 Kernel: 5.15 Compiler: gcc gcc (GCC) 11.5.0 20240719 (Red Hat 11.5.0-11) Ubuntu 24.04 Kernel: 5.15 Compiler: gcc gcc (Ubuntu 13.3.0-6ubuntu2~24.04) 13.3.0 Windows Server 2022 Kernel: 10.0.20348.2031 Compiler: clang 15.0.7, gcc 14.1.0 (MinGW), and MSVC VS 19.39.33521 To view detailed results, visit: https://lab.dpdk.org/results/dashboard/patchsets/34468/ UNH-IOL DPDK Community Lab To manage your email subscriptions, visit: https://lab.dpdk.org/results/dashboard/preferences/subscriptions/