From mboxrd@z Thu Jan 1 00:00:00 1970 Return-Path: Received: from mails.dpdk.org (mails.dpdk.org [217.70.189.124]) by inbox.dpdk.org (Postfix) with ESMTP id 2311F48A71 for ; Wed, 5 Nov 2025 12:58:14 +0100 (CET) Received: from mails.dpdk.org (localhost [127.0.0.1]) by mails.dpdk.org (Postfix) with ESMTP id 1E770400D7; Wed, 5 Nov 2025 12:58:14 +0100 (CET) Received: from mail-io1-f100.google.com (mail-io1-f100.google.com [209.85.166.100]) by mails.dpdk.org (Postfix) with ESMTP id 812F9400D7 for ; Wed, 5 Nov 2025 12:58:12 +0100 (CET) Received: by mail-io1-f100.google.com with SMTP id ca18e2360f4ac-940dbb1e343so31995739f.0 for ; Wed, 05 Nov 2025 03:58:12 -0800 (PST) DKIM-Signature: v=1; a=rsa-sha256; c=relaxed/relaxed; d=iol.unh.edu; s=unh-iol; t=1762343892; x=1762948692; darn=dpdk.org; h=references:in-reply-to:cc:to:from:subject:message-id:date:from:to :cc:subject:date:message-id:reply-to; bh=umXe/xFPlEdfqsiWN5jw5VOg1lApG2rfoSmjfTGffIk=; b=N1ouocMXLlaWKiYX7+87/amVWW1lpfmIUoiVZ+ydmynxA9ba8xXMTy2dXuybuSA0mQ SwSVKm6klhpGfvjsVkL8qkmZhmBkgc8oko/ODGuF/2vxZnts4RQ4pXGz65aJlCMx6anp fxfzRgXu72QYr8IyJF7IbzfcBKnqEx1XTZh6A= X-Google-DKIM-Signature: v=1; a=rsa-sha256; c=relaxed/relaxed; d=1e100.net; s=20230601; t=1762343892; x=1762948692; h=references:in-reply-to:cc:to:from:subject:message-id:date :x-gm-message-state:from:to:cc:subject:date:message-id:reply-to; bh=umXe/xFPlEdfqsiWN5jw5VOg1lApG2rfoSmjfTGffIk=; b=nlRipKzFeU6DRRSeooZd0h2U7F/q7oSDH0NMRt6LaOX2ExlyxfodncRoMMYE82xB2B MTvL3hrN5MpnaAzU1M6ExgFtsrAPlQFu1Oi1/ua09Z9Ncc7GDsZZnAPphl2mXnPZipCn zaJDmL2ROZsab74OBD8D/hmOiAmDHYr60w4OC02ZtyixSEFRVpa9+lauOF6+T1DX29d/ 5d2YMsVISvK2cp2YeXlKWbh8ct7fk0a7vg6fJAu2exw1rLa4evB4WHqWvuIDOcMOXETt 9scaozQYSx91phj8qD61xyVGiVr4VeqQvBqYQgV9Z6w2Utp3mOtStMpLH+ovbWDcIHVv QUMA== X-Gm-Message-State: AOJu0YwduCF0pEPf66XOWGAQ6ZFwwLlQ+JDX55/8eCDpR+uXXHL09XPA 5bjcODA+C1IbZbhg3L8pG1WXj+tqwlN2m3Y5Lqu4mNRUfeU7YD2MXA8rI8JIE498srET4BHiCpm eRSWH698B9uDwYK3THn6J5+Uhzq9IztMhR63h3U/Swor/ X-Gm-Gg: ASbGncuGedhT8vmqtqfJ+b1SLI2qi/J174h12S3n3bxTGRJCRHeeYpn93niuj6dEiMO 1uSyjziSpNaPJrW6buN7d4+g4hWtd4uaIR6Xrh6pPbgHWuroC3zH6nYndt69Bf1fZ3vi3deYIf0 sgR1/JNGCJsAQiS4N15Px8/ITKxi+wDrpfli+7KguY3I3BSCqNjcDSo9xnZp0+sOA77WdRmegSP p5/04GZzVr+GyFF79o2/CqkEKyV5N7YZGsKQlEKZxCSiU4PbFwt2uAzqJdzvJ3hA3gbSgVzB9C/ 1tSMzZfcI8R+MYfzjH9Z4M/+3lj6Y5qx9uiWvFZielHpsbdMKa4/n//lsukqWUmwUpfTMwUsMS0 EmjAR7kYpOY9/nkRb2kWxhP4Isl05ajg= X-Google-Smtp-Source: AGHT+IEnFjw3errtGIBlUpnIvG0tWeJhMCjR5ydomlJ0oXxwgBALzFvMYVk856RRL8dSHJESfc9QeCQ2uYsa X-Received: by 2002:a05:6e02:4603:b0:433:229c:351c with SMTP id e9e14a558f8ab-433377fbe1emr79216795ab.1.1762343891849; Wed, 05 Nov 2025 03:58:11 -0800 (PST) Received: from postal.iol.unh.edu (postal.iol.unh.edu. [132.177.123.84]) by smtp-relay.gmail.com with ESMTPS id 8926c6da1cb9f-5b72258bd42sm711527173.2.2025.11.05.03.58.11 (version=TLS1_2 cipher=ECDHE-ECDSA-AES128-GCM-SHA256 bits=128/128); Wed, 05 Nov 2025 03:58:11 -0800 (PST) X-Relaying-Domain: iol.unh.edu Date: Wed, 05 Nov 2025 03:58:11 -0800 (PST) Message-ID: <690b3bd3.050a0220.beca2.66b5SMTPIN_ADDED_MISSING@mx.google.com> Received: from [172.21.0.2] (unknown [172.18.0.240]) by postal.iol.unh.edu (Postfix) with ESMTP id 54D1F6051830; Wed, 5 Nov 2025 06:58:11 -0500 (EST) Subject: |SUCCESS| pw158444-158448 [PATCH] [v3,5/5] drivers: net/cnxk: enable From: dpdklab@iol.unh.edu To: Test Report Cc: dpdk-test-reports@iol.unh.edu In-Reply-To: <20251105070932.3569572-5-rkudurumalla@marvell.com> References: <20251105070932.3569572-5-rkudurumalla@marvell.com> Content-Type: text/plain X-BeenThere: test-report@dpdk.org X-Mailman-Version: 2.1.29 Precedence: list List-Id: automatic DPDK test reports List-Unsubscribe: , List-Archive: List-Post: List-Help: List-Subscribe: , Errors-To: test-report-bounces@dpdk.org Test-Label: iol-unit-arm64-testing Test-Status: SUCCESS http://dpdk.org/patch/158448 _Testing PASS_ Submitter: Rakesh Kudurumalla Date: Wednesday, November 05 2025 07:09:32 DPDK git baseline: Repo:dpdk-next-net-mrvl Branch: master CommitID:1bdf2b3c27880f1d90df46a89d5643f20587a973 158444-158448 --> testing pass Upstream job id: Generic-Unit-Test-DPDK#388708 Test environment and result as below: +------------------------------+---------------------------+------------------------------+--------------+----------------+ | Environment | cryptodev_sw_zuc_autotest | cryptodev_sw_snow3g_autotest | lpm_autotest | dpdk_unit_test | +==============================+===========================+==============================+==============+================+ | Debian 12 (arm) | PASS | PASS | SKIPPED | SKIPPED | +------------------------------+---------------------------+------------------------------+--------------+----------------+ | Ubuntu 20.04 | SKIPPED | SKIPPED | PASS | PASS | +------------------------------+---------------------------+------------------------------+--------------+----------------+ | Fedora Linux 41 | SKIPPED | SKIPPED | SKIPPED | PASS | +------------------------------+---------------------------+------------------------------+--------------+----------------+ | Fedora Linux 42 | SKIPPED | SKIPPED | SKIPPED | PASS | +------------------------------+---------------------------+------------------------------+--------------+----------------+ | CentOS Stream 9 | SKIPPED | SKIPPED | SKIPPED | PASS | +------------------------------+---------------------------+------------------------------+--------------+----------------+ | Red Hat Enterprise Linux 9.5 | SKIPPED | SKIPPED | SKIPPED | PASS | +------------------------------+---------------------------+------------------------------+--------------+----------------+ | Ubuntu 22.04 | SKIPPED | SKIPPED | SKIPPED | PASS | +------------------------------+---------------------------+------------------------------+--------------+----------------+ | CentOS Stream 10 | SKIPPED | SKIPPED | SKIPPED | PASS | +------------------------------+---------------------------+------------------------------+--------------+----------------+ | Ubuntu 24.04 | SKIPPED | SKIPPED | SKIPPED | PASS | +------------------------------+---------------------------+------------------------------+--------------+----------------+ | Fedora Linux 40 | SKIPPED | SKIPPED | SKIPPED | PASS | +------------------------------+---------------------------+------------------------------+--------------+----------------+ | Debian GNU/Linux 12 | SKIPPED | SKIPPED | SKIPPED | PASS | +------------------------------+---------------------------+------------------------------+--------------+----------------+ Debian 12 (arm) Kernel: Depends on container host Compiler: gcc (Debian 12.2.0-14) 12.2.0 Ubuntu 20.04 Kernel: 5.4 Compiler: gcc gcc (Ubuntu 9.4.0-1ubuntu1~20.04.2) 9.4.0 Fedora Linux 41 Kernel: 5.4 Compiler: clang gcc (GCC) 14.3.1 20250523 (Red Hat 14.3.1-1) Fedora Linux 42 Kernel: 5.4 Compiler: clang gcc (GCC) 15.2.1 20250808 (Red Hat 15.2.1-1) CentOS Stream 9 Kernel: 5.4 Compiler: gcc gcc (GCC) 11.5.0 20240719 (Red Hat 11.5.0-11) Red Hat Enterprise Linux 9.5 Kernel: 5.4 Compiler: gcc gcc (GCC) 11.5.0 20240719 (Red Hat 11.5.0-2) Ubuntu 22.04 Kernel: 5.4 Compiler: gcc gcc (Ubuntu 11.4.0-1ubuntu1~22.04) 11.4.0 CentOS Stream 10 Kernel: 5.4 Compiler: gcc gcc (GCC) 14.2.1 20250110 (Red Hat 14.2.1-8) Ubuntu 24.04 Kernel: 5.4 Compiler: gcc gcc (Ubuntu 13.3.0-6ubuntu2~24.04) 13.3.0 Fedora Linux 40 Kernel: 5.4 Compiler: clang gcc (GCC) 14.2.1 20240912 (Red Hat 14.2.1-3) Debian GNU/Linux 12 Kernel: 5.4 Compiler: gcc gcc (Debian 12.2.0-14+deb12u1) 12.2.0 To view detailed results, visit: https://lab.dpdk.org/results/dashboard/patchsets/34465/ UNH-IOL DPDK Community Lab To manage your email subscriptions, visit: https://lab.dpdk.org/results/dashboard/preferences/subscriptions/