From mboxrd@z Thu Jan 1 00:00:00 1970 Return-Path: Received: from mails.dpdk.org (mails.dpdk.org [217.70.189.124]) by inbox.dpdk.org (Postfix) with ESMTP id 5C23C46E24 for ; Wed, 5 Nov 2025 13:10:55 +0100 (CET) Received: from mails.dpdk.org (localhost [127.0.0.1]) by mails.dpdk.org (Postfix) with ESMTP id 3C854400D7; Wed, 5 Nov 2025 13:10:55 +0100 (CET) Received: from mail-qv1-f99.google.com (mail-qv1-f99.google.com [209.85.219.99]) by mails.dpdk.org (Postfix) with ESMTP id 1BACA400D7 for ; Wed, 5 Nov 2025 13:10:54 +0100 (CET) Received: by mail-qv1-f99.google.com with SMTP id 6a1803df08f44-879b99b7ca8so68940966d6.0 for ; Wed, 05 Nov 2025 04:10:54 -0800 (PST) DKIM-Signature: v=1; a=rsa-sha256; c=relaxed/relaxed; d=iol.unh.edu; s=unh-iol; t=1762344653; x=1762949453; darn=dpdk.org; h=references:in-reply-to:cc:to:from:subject:message-id:date:from:to :cc:subject:date:message-id:reply-to; bh=lawPMQVQ0bc+hiAq1rdXgLPpv4lLr3qM77ejOJDI0hs=; b=eVm1/eAOMx9KeWuyt/R4twfBl/raEE8xMzAHZfa7UC1uK98KZJV0N3vXc1JBqi99UU t/Q0T8oeJ8cdZRSKFOPTQp4nobtUFl0TyXKl+EzOMSI0cYxfKuaaT6rz6FwkZzJd7/DR xD9jHfQOJ+qBL7URmweSdq6J9jAJYc0VNtFzs= X-Google-DKIM-Signature: v=1; a=rsa-sha256; c=relaxed/relaxed; d=1e100.net; s=20230601; t=1762344653; x=1762949453; h=references:in-reply-to:cc:to:from:subject:message-id:date :x-gm-message-state:from:to:cc:subject:date:message-id:reply-to; bh=lawPMQVQ0bc+hiAq1rdXgLPpv4lLr3qM77ejOJDI0hs=; b=l7iHl6ySBOxpvDVZA52Gp++QJTsMrq43RN21iJuEE7J4mtUP603SugYwEmlDZs1kvk 29rkp7oQ9y8vdEacn4TZnszQluU/fMJkbQ/yC9KT73kYBmbfzeiKUJHmHnLSTFNdbp+Z T7cWDakzlExJk187x0iWkcigO32pFXmNfzxc/gTZm40CjoCzgAtl3lEiYGbTyJ+H4O0e RaWkK6kck8/CYap4ZHbixGgSf/92mZRSyX195PElbKQERTUa+8SUkR0nQPMAfouhzdgl cBPy7U1vfMgspU5j/1Xi0YN3Y5ZQeHcd57HmJyKCccSz02/OA34Niea0XN92R7MHZI1K 1E2A== X-Gm-Message-State: AOJu0YylWInJ2d1K3O8e5YJFX08Fzlp3CJOAY8m/51C7i83iD2HSwfQl SZhIN/SFzSC3US5eURoSuBKcT8Oti5LhGPBESer2hLC6QAhERmAEujMgo5yGVoz3pqkqx7FDvSe nDgribSLfWhdBNbMce3B+S8jxjxLpNZxpZ9M5xmfCOVsySthUBsDs/rQUeeZE X-Gm-Gg: ASbGncvTP0nQVwWwd+e9gaCcw+uOUG4epT9QKtRZ1dIQ73122NRg1V6T2l4DC9MD2sd 8NPHDlclStiwYvvGo3v2w4M2FyadLvg56XE6iWIAHRdH3qX+zwjaHuFl/dVjdzs4LZHam2QArIc mDGEHGnRfSSRYNgC1UTQOLtwky2bxEHKRyrxAZQ1wXC6qdOkoPbC/fvz9k7d7SBBf9AN5WNZZu4 OSl5BVtuMbKdSoh8EHSEBJGxvEz2OoF1t0JcdpIGpgf3vID5LGZU31Nb20TnF1mDZ7YL6eZ6y9u GJz4JJmEBbZ3MtMBNI9mp/HOx3Twbeb+SCxgKV8sqpRLk0YZoO17TV3Bm6tL8LVND7DqztLNAF8 BfDmGFtQT X-Google-Smtp-Source: AGHT+IEWC4lYd6JUCOw07RKfjgolEsLKjBYlRZ/QIhFfa3m31l1BaJ0ICpU2HaBcDMBizJXpNNsF2VU54X9c X-Received: by 2002:a05:6214:da2:b0:880:5abe:19b with SMTP id 6a1803df08f44-880711f84b8mr34547756d6.45.1762344653418; Wed, 05 Nov 2025 04:10:53 -0800 (PST) Received: from postal.iol.unh.edu (postal.iol.unh.edu. [2606:4100:3880:1234::84]) by smtp-relay.gmail.com with ESMTPS id 6a1803df08f44-880628e1a0bsm4778696d6.16.2025.11.05.04.10.53 (version=TLS1_2 cipher=ECDHE-ECDSA-AES128-GCM-SHA256 bits=128/128); Wed, 05 Nov 2025 04:10:53 -0800 (PST) X-Relaying-Domain: iol.unh.edu Date: Wed, 05 Nov 2025 04:10:53 -0800 (PST) Message-ID: <690b3ecd.050a0220.251e33.a15cSMTPIN_ADDED_MISSING@mx.google.com> Received: from [172.21.0.2] (unknown [172.18.0.240]) by postal.iol.unh.edu (Postfix) with ESMTP id 0ACDE6051830; Wed, 5 Nov 2025 07:10:53 -0500 (EST) Subject: |SUCCESS| pw158453 [PATCH] net/mlx5: fix modify field action operati From: dpdklab@iol.unh.edu To: Test Report Cc: dpdk-test-reports@iol.unh.edu In-Reply-To: <20251105085049.110213-1-mkashani@nvidia.com> References: <20251105085049.110213-1-mkashani@nvidia.com> Content-Type: text/plain X-BeenThere: test-report@dpdk.org X-Mailman-Version: 2.1.29 Precedence: list List-Id: automatic DPDK test reports List-Unsubscribe: , List-Archive: List-Post: List-Help: List-Subscribe: , Errors-To: test-report-bounces@dpdk.org Test-Label: iol-compile-amd64-testing Test-Status: SUCCESS http://dpdk.org/patch/158453 _Testing PASS_ Submitter: Maayan Kashani Date: Wednesday, November 05 2025 08:50:49 DPDK git baseline: Repo:dpdk-next-net-mlx Branch: master CommitID:f1c1f82f2421be9ac2f46b4ec2a616ca28da4ca7 158453 --> testing pass Upstream job id: Windows-Compile-DPDK-VS#7429 Test environment and result as below: +-------------------------------+--------------------+------------------+-------------------+ | Environment | dpdk_meson_compile | dpdk_compile_ovs | dpdk_msvc_compile | +===============================+====================+==================+===================+ | FreeBSD 14.2 | PASS | SKIPPED | SKIPPED | +-------------------------------+--------------------+------------------+-------------------+ | Ubuntu 20.04 | PASS | SKIPPED | SKIPPED | +-------------------------------+--------------------+------------------+-------------------+ | CentOS Stream 9 | PASS | SKIPPED | SKIPPED | +-------------------------------+--------------------+------------------+-------------------+ | CentOS Stream 10 | PASS | SKIPPED | SKIPPED | +-------------------------------+--------------------+------------------+-------------------+ | Fedora Linux 42 | PASS | PASS | SKIPPED | +-------------------------------+--------------------+------------------+-------------------+ | openSUSE Leap 15.6 | PASS | SKIPPED | SKIPPED | +-------------------------------+--------------------+------------------+-------------------+ | Debian GNU/Linux 12 | PASS | SKIPPED | SKIPPED | +-------------------------------+--------------------+------------------+-------------------+ | Ubuntu 24.04 | PASS | PASS | SKIPPED | +-------------------------------+--------------------+------------------+-------------------+ | Red Hat Enterprise Linux 8.10 | PASS | SKIPPED | SKIPPED | +-------------------------------+--------------------+------------------+-------------------+ | Ubuntu 22.04 | PASS | SKIPPED | SKIPPED | +-------------------------------+--------------------+------------------+-------------------+ | Alpine Linux 3.22.0 | PASS | SKIPPED | SKIPPED | +-------------------------------+--------------------+------------------+-------------------+ | Red Hat Enterprise Linux 9.5 | PASS | SKIPPED | SKIPPED | +-------------------------------+--------------------+------------------+-------------------+ | Windows Server 2022 | SKIPPED | SKIPPED | PASS | +-------------------------------+--------------------+------------------+-------------------+ FreeBSD 14.2 Kernel: 14.2-RELEASE Compiler: clang 18.1.6 Ubuntu 20.04 Kernel: 4.19 Compiler: gcc gcc (Ubuntu 9.4.0-1ubuntu1~20.04.2) 9.4.0 CentOS Stream 9 Kernel: 5.15 Compiler: gcc gcc (GCC) 11.5.0 20240719 (Red Hat 11.5.0-11) CentOS Stream 10 Kernel: 5.15 Compiler: gcc gcc (GCC) 14.2.1 20250110 (Red Hat 14.2.1-8) Fedora Linux 42 Kernel: 5.15 Compiler: clang gcc (GCC) 15.2.1 20250808 (Red Hat 15.2.1-1) openSUSE Leap 15.6 Kernel: 5.15 Compiler: gcc gcc (SUSE Linux) 7.5.0 Debian GNU/Linux 12 Kernel: 5.15 Compiler: gcc gcc (Debian 12.2.0-14+deb12u1) 12.2.0 Ubuntu 24.04 Kernel: 5.15 Compiler: gcc gcc (Ubuntu 13.3.0-6ubuntu2~24.04) 13.3.0 Red Hat Enterprise Linux 8.10 Kernel: 5.15 Compiler: gcc gcc (GCC) 8.5.0 20210514 (Red Hat 8.5.0-22) Ubuntu 22.04 Kernel: 5.15 Compiler: gcc gcc (Ubuntu 11.4.0-1ubuntu1~22.04) 11.4.0 Alpine Linux 3.22.0 Kernel: 5.15 Compiler: gcc gcc (Alpine 14.2.0) 14.2.0 Red Hat Enterprise Linux 9.5 Kernel: 5.15 Compiler: gcc gcc (GCC) 11.5.0 20240719 (Red Hat 11.5.0-2) Windows Server 2022 Kernel: 10.0.20348.2031 Compiler: clang 15.0.7, gcc 14.1.0 (MinGW), and MSVC VS 19.39.33521 To view detailed results, visit: https://lab.dpdk.org/results/dashboard/patchsets/34470/ UNH-IOL DPDK Community Lab To manage your email subscriptions, visit: https://lab.dpdk.org/results/dashboard/preferences/subscriptions/