From mboxrd@z Thu Jan 1 00:00:00 1970 Return-Path: Received: from mails.dpdk.org (mails.dpdk.org [217.70.189.124]) by inbox.dpdk.org (Postfix) with ESMTP id BD32448A6E for ; Wed, 5 Nov 2025 13:14:58 +0100 (CET) Received: from mails.dpdk.org (localhost [127.0.0.1]) by mails.dpdk.org (Postfix) with ESMTP id B8320400D7; Wed, 5 Nov 2025 13:14:58 +0100 (CET) Received: from mail-vs1-f100.google.com (mail-vs1-f100.google.com [209.85.217.100]) by mails.dpdk.org (Postfix) with ESMTP id 1B6CA400D7 for ; Wed, 5 Nov 2025 13:14:58 +0100 (CET) Received: by mail-vs1-f100.google.com with SMTP id ada2fe7eead31-5d61f261ebfso2622082137.2 for ; Wed, 05 Nov 2025 04:14:58 -0800 (PST) DKIM-Signature: v=1; a=rsa-sha256; c=relaxed/relaxed; d=iol.unh.edu; s=unh-iol; t=1762344897; x=1762949697; darn=dpdk.org; h=references:in-reply-to:cc:to:from:subject:message-id:date:from:to :cc:subject:date:message-id:reply-to; bh=ZwGr6PnP9/6hcTYV6cttS74FlM347YNcfXFE2bQQGi4=; b=g/fVKZJo5D12UOsnnw7g7jQkmiCistfDRcYWwyCB4jjM8k4mDyVZ5V4ikYaAEPGEI0 uMRYhEYgtFWs+tgEnDhXb5lulagjc7mYGOHaHplRe/ZYD/lnztge9LyXKhyxCp+Z3OsM I+89SrM4zAsHg6H9KpG0B7BZ6Ka05u1TSibKg= X-Google-DKIM-Signature: v=1; a=rsa-sha256; c=relaxed/relaxed; d=1e100.net; s=20230601; t=1762344897; x=1762949697; h=references:in-reply-to:cc:to:from:subject:message-id:date :x-gm-message-state:from:to:cc:subject:date:message-id:reply-to; bh=ZwGr6PnP9/6hcTYV6cttS74FlM347YNcfXFE2bQQGi4=; b=XYG3Twdhp8Pu/t54FszqUxFsh/DhndAokJlwUO9A9uweUwWbWmDw1N/V2N18/uKvtt f6wUtmguXgCDDnHEMDQlzwzrUgW96NzwDsiq+ZHwr8lnfTSAX9XdzzLrvlJnetX73rHz 3QEi/LJ5SSax9lulBd2r/QOLcVOTWPmidTGMQn2lxh9m3ibNr7ugWlHifgUdwEo4CN7M K65KgPat561yVUQtMBK+mO+o13ZFEuFGlCOOihAHzDC+no4rMfW1/yXrjZDJe9E7cPME KotngXuUCqleTpIBpYxz8XBDArZbFmqnprmAr8CS5zZtw1tOd3EFURfeUtwW5xagkRFm Bo6Q== X-Gm-Message-State: AOJu0YxeGHDncJDH+nmKTnq4vd/ZI8tDeCt+EahXiEmyGqcJ/0HCZN1Z mzBPMW6OwniULuo9qoJ+SQBUUeOq8QGN02GmMzHpEYZvvPbc2pFzApUiyEs86KA913cduuYkvDW 7Z99aL2AxRKegQXNrubum94KlMevAwchNyT1kKJkolBMQN8DCeanmxrq6HZC5 X-Gm-Gg: ASbGncu6s2hn1Y2xVLFk7NJTPLonk1rpt7BgTMWp0vel+f3p84PJmKaWQLdr7wIAP6S 5F0YZAy4xm5qQqGsXzgPNA7pB4GoJ/6J0Oijfld+wXanvaLT/pa3CW98Oa9EJSNKyg7KiUge/nF su9v3AcJbxURGMKl8XGLHvtbDmgvb1CQi/Wj3KAw5s6iTankl2VYJJBI4ppN++7T1lxQZ1bOvbK rK7Ow0uiNGyJ2DpRpjEBwD2AzBQSkoHLqG9a0zcVLAzg/9MgU46WCRglJIyrSxMrFcoJxpYj3us 1kVcOp4lzBVRtQp5+UlY4SMENPCcInNRY5x4rN0FU56SLdipFZoKG5S+8XGNyIu/fWPIa7iOrOl 73+MX6tDr X-Google-Smtp-Source: AGHT+IGXWBEHYaD/AM1BpQeeQqCuRiRxWtVOe3PrPknGqId4qkXkub0DAc81wgLhwGZfm9JWvDE7K9vVGeQh X-Received: by 2002:a05:6102:32c5:b0:5db:d411:20cd with SMTP id ada2fe7eead31-5dd8920abfdmr977296137.28.1762344897356; Wed, 05 Nov 2025 04:14:57 -0800 (PST) Received: from postal.iol.unh.edu (postal.iol.unh.edu. [2606:4100:3880:1234::84]) by smtp-relay.gmail.com with ESMTPS id a1e0cc1a2514c-935427b58c0sm76048241.1.2025.11.05.04.14.57 (version=TLS1_2 cipher=ECDHE-ECDSA-AES128-GCM-SHA256 bits=128/128); Wed, 05 Nov 2025 04:14:57 -0800 (PST) X-Relaying-Domain: iol.unh.edu Date: Wed, 05 Nov 2025 04:14:57 -0800 (PST) Message-ID: <690b3fc1.050a0220.18bf23.3ac8SMTPIN_ADDED_MISSING@mx.google.com> Received: from [172.21.0.2] (unknown [172.18.0.240]) by postal.iol.unh.edu (Postfix) with ESMTP id 031B06051830; Wed, 5 Nov 2025 07:14:57 -0500 (EST) Subject: |SUCCESS| pw158451-158452 [PATCH] [2/2] ci: add dependency in GHA fo From: dpdklab@iol.unh.edu To: Test Report Cc: dpdk-test-reports@iol.unh.edu In-Reply-To: <20251105084309.3851898-2-david.marchand@redhat.com> References: <20251105084309.3851898-2-david.marchand@redhat.com> Content-Type: text/plain X-BeenThere: test-report@dpdk.org X-Mailman-Version: 2.1.29 Precedence: list List-Id: automatic DPDK test reports List-Unsubscribe: , List-Archive: List-Post: List-Help: List-Subscribe: , Errors-To: test-report-bounces@dpdk.org Test-Label: iol-compile-amd64-testing Test-Status: SUCCESS http://dpdk.org/patch/158452 _Testing PASS_ Submitter: David Marchand Date: Wednesday, November 05 2025 08:43:09 DPDK git baseline: Repo:dpdk Branch: master CommitID:91bac7546b34fbcbc96ec7b3afa4bb2daa8accb9 158451-158452 --> testing pass Upstream job id: Windows-Compile-DPDK-Native#32131 Test environment and result as below: +-------------------------------+--------------------+------------------+-------------------+-------------------------+ | Environment | dpdk_meson_compile | dpdk_compile_ovs | dpdk_msvc_compile | dpdk_llvm_clang_compile | +===============================+====================+==================+===================+=========================+ | CentOS Stream 10 | PASS | SKIPPED | SKIPPED | SKIPPED | +-------------------------------+--------------------+------------------+-------------------+-------------------------+ | FreeBSD 14.2 | PASS | SKIPPED | SKIPPED | SKIPPED | +-------------------------------+--------------------+------------------+-------------------+-------------------------+ | Ubuntu 20.04 | PASS | SKIPPED | SKIPPED | SKIPPED | +-------------------------------+--------------------+------------------+-------------------+-------------------------+ | Fedora Linux 42 | PASS | PASS | SKIPPED | SKIPPED | +-------------------------------+--------------------+------------------+-------------------+-------------------------+ | Debian GNU/Linux 12 | PASS | SKIPPED | SKIPPED | SKIPPED | +-------------------------------+--------------------+------------------+-------------------+-------------------------+ | Ubuntu 24.04 | PASS | PASS | SKIPPED | SKIPPED | +-------------------------------+--------------------+------------------+-------------------+-------------------------+ | openSUSE Leap 15.6 | PASS | SKIPPED | SKIPPED | SKIPPED | +-------------------------------+--------------------+------------------+-------------------+-------------------------+ | Red Hat Enterprise Linux 8.10 | PASS | SKIPPED | SKIPPED | SKIPPED | +-------------------------------+--------------------+------------------+-------------------+-------------------------+ | CentOS Stream 9 | PASS | SKIPPED | SKIPPED | SKIPPED | +-------------------------------+--------------------+------------------+-------------------+-------------------------+ | Red Hat Enterprise Linux 9.5 | PASS | SKIPPED | SKIPPED | SKIPPED | +-------------------------------+--------------------+------------------+-------------------+-------------------------+ | Ubuntu 22.04 | PASS | SKIPPED | SKIPPED | SKIPPED | +-------------------------------+--------------------+------------------+-------------------+-------------------------+ | Alpine Linux 3.22.0 | PASS | SKIPPED | SKIPPED | SKIPPED | +-------------------------------+--------------------+------------------+-------------------+-------------------------+ | Windows Server 2022 | SKIPPED | SKIPPED | PASS | PASS | +-------------------------------+--------------------+------------------+-------------------+-------------------------+ CentOS Stream 10 Kernel: 5.15 Compiler: gcc gcc (GCC) 14.2.1 20250110 (Red Hat 14.2.1-8) FreeBSD 14.2 Kernel: 14.2-RELEASE Compiler: clang 18.1.6 Ubuntu 20.04 Kernel: 4.19 Compiler: gcc gcc (Ubuntu 9.4.0-1ubuntu1~20.04.2) 9.4.0 Fedora Linux 42 Kernel: 5.15 Compiler: clang gcc (GCC) 15.2.1 20250808 (Red Hat 15.2.1-1) Debian GNU/Linux 12 Kernel: 5.15 Compiler: gcc gcc (Debian 12.2.0-14+deb12u1) 12.2.0 Ubuntu 24.04 Kernel: 5.15 Compiler: gcc gcc (Ubuntu 13.3.0-6ubuntu2~24.04) 13.3.0 openSUSE Leap 15.6 Kernel: 5.15 Compiler: gcc gcc (SUSE Linux) 7.5.0 Red Hat Enterprise Linux 8.10 Kernel: 5.15 Compiler: gcc gcc (GCC) 8.5.0 20210514 (Red Hat 8.5.0-22) CentOS Stream 9 Kernel: 5.15 Compiler: gcc gcc (GCC) 11.5.0 20240719 (Red Hat 11.5.0-11) Red Hat Enterprise Linux 9.5 Kernel: 5.15 Compiler: gcc gcc (GCC) 11.5.0 20240719 (Red Hat 11.5.0-2) Ubuntu 22.04 Kernel: 5.15 Compiler: gcc gcc (Ubuntu 11.4.0-1ubuntu1~22.04) 11.4.0 Alpine Linux 3.22.0 Kernel: 5.15 Compiler: gcc gcc (Alpine 14.2.0) 14.2.0 Windows Server 2022 Kernel: 10.0.20348.2031 Compiler: clang 15.0.7, gcc 14.1.0 (MinGW), and MSVC VS 19.39.33521 To view detailed results, visit: https://lab.dpdk.org/results/dashboard/patchsets/34468/ UNH-IOL DPDK Community Lab To manage your email subscriptions, visit: https://lab.dpdk.org/results/dashboard/preferences/subscriptions/