From mboxrd@z Thu Jan 1 00:00:00 1970 Return-Path: Received: from mails.dpdk.org (mails.dpdk.org [217.70.189.124]) by inbox.dpdk.org (Postfix) with ESMTP id CE49A48A6E for ; Wed, 5 Nov 2025 13:24:28 +0100 (CET) Received: from mails.dpdk.org (localhost [127.0.0.1]) by mails.dpdk.org (Postfix) with ESMTP id A9FE0400D7; Wed, 5 Nov 2025 13:24:28 +0100 (CET) Received: from mail-pl1-f226.google.com (mail-pl1-f226.google.com [209.85.214.226]) by mails.dpdk.org (Postfix) with ESMTP id 7B994400D7 for ; Wed, 5 Nov 2025 13:24:27 +0100 (CET) Received: by mail-pl1-f226.google.com with SMTP id d9443c01a7336-294df925292so61111905ad.1 for ; Wed, 05 Nov 2025 04:24:27 -0800 (PST) DKIM-Signature: v=1; a=rsa-sha256; c=relaxed/relaxed; d=iol.unh.edu; s=unh-iol; t=1762345466; x=1762950266; darn=dpdk.org; h=references:in-reply-to:cc:to:from:subject:message-id:date:from:to :cc:subject:date:message-id:reply-to; bh=ORS/g0HYtKkMMjD8DHldgKOBtIL+70TkzqL3WDLTMNQ=; b=aiD1aSXymUCq2hResEZBJIohvPEMFi0Pb2vlpzONyZLjSBnWT+5NNlhlgItu5puWnJ YzeVKb4yx0eUFIcxlZHwBLM4C6dhO0NYb1uxzybYivJ8uk6E36M8vqa3pk6HcNA8TZHs R8AP99bEOEFl6DzhshisoiSZFAGnmS3UX3uD4= X-Google-DKIM-Signature: v=1; a=rsa-sha256; c=relaxed/relaxed; d=1e100.net; s=20230601; t=1762345466; x=1762950266; h=references:in-reply-to:cc:to:from:subject:message-id:date :x-gm-message-state:from:to:cc:subject:date:message-id:reply-to; bh=ORS/g0HYtKkMMjD8DHldgKOBtIL+70TkzqL3WDLTMNQ=; b=iGq18DGUw6q7NHmhNmWRvhtgEBVnsislkHiSZbbkBskt9yEKt4wqG94HzZBpKPbMhU ySJGLGys/hm7N97I5aYvwh3yDBsoWCIpjG2nc27GATS+5KyMqbKub0NQKInOSfysqO7f sf8ApO/APdN4/nRXNveRiwYMYbbdVMOGRT1ggA2lE3IrotK6TVHHQKfqSZgFE3yC29U9 j7tLHWi01rN3BSaA4JXMYjAf1b/IPRSEtWHAuMDbri36aaeZQPnqhoc3XvuLp3Xnss/D ySfESpI+otMWN93tmKaJK3SJLzquNPcgYmXLOpI5I2C+dPHGCOv6mXQFihdeqi/zT2qa K86A== X-Gm-Message-State: AOJu0Ywpwfi/Yyv6IY7YkdwiPsQvWaFz7Jakp1553WgR9eifqJ/j+67D i5SSUu4rqxGxureBJc+gH9S66tSrvLnlRN8/GhNuiczWQ+gWcAUMi4aSs0WnpiCXDhRFNTBJXDc rSyfYz1OwKmjHdoOxxXXDmSC/PHd4W1spCFdqA1KHC8rWNAX82NIAlFdvhDi0 X-Gm-Gg: ASbGncsZqwKbeD7qjDL/q8g8jgWJmYOVuyaE2aT7IrZpNHraEe4taaHMFhOezbo0U9Z HUXJ/RCEat3eETH+jJ577grOJqZD79hSnokR1ULXwstDdoH7E+C16rWj7o5/pZPmgLwuNJoxoTW 829umFQJG/4lcezJZF8x4UtDeH3E60vRNgDdyl5e3S4s9NhM7HRExVdGi8yy7bD+XhsymxuzdYp OOQZU54TPrd9UgLw935Cu3uI1ckbjN4gS25fSOouuSnwm5oBI8I+SjfQfJdAN5aYhN8IKvLq5RD RbgPd4rlMSV9d2UBXLGzxuK2CeU5DIduywEbc5OJWW5hZ6ysbIqxWbhgKrba6BWMLTvSsagrI/I kJAFtc1ix X-Google-Smtp-Source: AGHT+IEEo3brT2WxJWKvzkEWGpWdtjhC27PhWtOtSVJ6r6wC+3yfrqEzW9sZOqBsrlwqn9INEC8aPdwGxmPz X-Received: by 2002:a17:902:da88:b0:295:fc0:5a32 with SMTP id d9443c01a7336-2962ad0c13amr49632075ad.3.1762345466650; Wed, 05 Nov 2025 04:24:26 -0800 (PST) Received: from postal.iol.unh.edu (postal.iol.unh.edu. [2606:4100:3880:1234::84]) by smtp-relay.gmail.com with ESMTPS id d9443c01a7336-29601a16761sm4969085ad.41.2025.11.05.04.24.26 (version=TLS1_2 cipher=ECDHE-ECDSA-AES128-GCM-SHA256 bits=128/128); Wed, 05 Nov 2025 04:24:26 -0800 (PST) X-Relaying-Domain: iol.unh.edu Date: Wed, 05 Nov 2025 04:24:26 -0800 (PST) Message-ID: <690b41fa.170a0220.2c7a61.a7ddSMTPIN_ADDED_MISSING@mx.google.com> Received: from [172.21.0.2] (unknown [172.18.0.240]) by postal.iol.unh.edu (Postfix) with ESMTP id E58856051830; Wed, 5 Nov 2025 07:24:25 -0500 (EST) Subject: |SUCCESS| pw158453 [PATCH] net/mlx5: fix modify field action operati From: dpdklab@iol.unh.edu To: Test Report Cc: dpdk-test-reports@iol.unh.edu In-Reply-To: <20251105085049.110213-1-mkashani@nvidia.com> References: <20251105085049.110213-1-mkashani@nvidia.com> Content-Type: text/plain X-BeenThere: test-report@dpdk.org X-Mailman-Version: 2.1.29 Precedence: list List-Id: automatic DPDK test reports List-Unsubscribe: , List-Archive: List-Post: List-Help: List-Subscribe: , Errors-To: test-report-bounces@dpdk.org Test-Label: iol-unit-amd64-testing Test-Status: SUCCESS http://dpdk.org/patch/158453 _Testing PASS_ Submitter: Maayan Kashani Date: Wednesday, November 05 2025 08:50:49 DPDK git baseline: Repo:dpdk-next-net-mlx Branch: master CommitID:f1c1f82f2421be9ac2f46b4ec2a616ca28da4ca7 158453 --> testing pass Upstream job id: Generic-VM-Unit-Test-DPDK#32307 Test environment and result as below: +-------------------------------+----------------+ | Environment | dpdk_unit_test | +===============================+================+ | CentOS Stream 10 | PASS | +-------------------------------+----------------+ | Debian GNU/Linux 12 | PASS | +-------------------------------+----------------+ | Fedora Linux 41 | PASS | +-------------------------------+----------------+ | Fedora Linux 40 | PASS | +-------------------------------+----------------+ | Red Hat Enterprise Linux 8.10 | PASS | +-------------------------------+----------------+ | CentOS Stream 9 | PASS | +-------------------------------+----------------+ | Ubuntu 22.04 | PASS | +-------------------------------+----------------+ | Red Hat Enterprise Linux 9.5 | PASS | +-------------------------------+----------------+ | Fedora Linux 42 | PASS | +-------------------------------+----------------+ | Ubuntu 24.04 | PASS | +-------------------------------+----------------+ | Ubuntu 20.04 | PASS | +-------------------------------+----------------+ | Windows Server 2022 | PASS | +-------------------------------+----------------+ CentOS Stream 10 Kernel: 5.15 Compiler: gcc gcc (GCC) 14.2.1 20250110 (Red Hat 14.2.1-8) Debian GNU/Linux 12 Kernel: 5.15 Compiler: gcc gcc (Debian 12.2.0-14+deb12u1) 12.2.0 Fedora Linux 41 Kernel: 5.15 Compiler: clang gcc (GCC) 14.3.1 20250523 (Red Hat 14.3.1-1) Fedora Linux 40 Kernel: 5.15 Compiler: clang gcc (GCC) 14.2.1 20240912 (Red Hat 14.2.1-3) Red Hat Enterprise Linux 8.10 Kernel: 5.15 Compiler: gcc gcc (GCC) 8.5.0 20210514 (Red Hat 8.5.0-22) CentOS Stream 9 Kernel: 5.15 Compiler: gcc gcc (GCC) 11.5.0 20240719 (Red Hat 11.5.0-11) Ubuntu 22.04 Kernel: 5.15 Compiler: gcc gcc (Ubuntu 11.4.0-1ubuntu1~22.04) 11.4.0 Red Hat Enterprise Linux 9.5 Kernel: 5.15 Compiler: gcc gcc (GCC) 11.5.0 20240719 (Red Hat 11.5.0-2) Fedora Linux 42 Kernel: 5.15 Compiler: clang gcc (GCC) 15.2.1 20250808 (Red Hat 15.2.1-1) Ubuntu 24.04 Kernel: 5.15 Compiler: gcc gcc (Ubuntu 13.3.0-6ubuntu2~24.04) 13.3.0 Ubuntu 20.04 Kernel: 5.15 Compiler: gcc gcc (Ubuntu 9.4.0-1ubuntu1~20.04.2) 9.4.0 Windows Server 2022 Kernel: 10.0.20348.2031 Compiler: clang 15.0.7, gcc 14.1.0 (MinGW), and MSVC VS 19.39.33521 To view detailed results, visit: https://lab.dpdk.org/results/dashboard/patchsets/34470/ UNH-IOL DPDK Community Lab To manage your email subscriptions, visit: https://lab.dpdk.org/results/dashboard/preferences/subscriptions/