From mboxrd@z Thu Jan 1 00:00:00 1970 Return-Path: Received: from mails.dpdk.org (mails.dpdk.org [217.70.189.124]) by inbox.dpdk.org (Postfix) with ESMTP id C59B348A6E for ; Wed, 5 Nov 2025 13:45:48 +0100 (CET) Received: from mails.dpdk.org (localhost [127.0.0.1]) by mails.dpdk.org (Postfix) with ESMTP id A0901400D7; Wed, 5 Nov 2025 13:45:48 +0100 (CET) Received: from mail-vs1-f98.google.com (mail-vs1-f98.google.com [209.85.217.98]) by mails.dpdk.org (Postfix) with ESMTP id 80F8C400D7 for ; Wed, 5 Nov 2025 13:45:47 +0100 (CET) Received: by mail-vs1-f98.google.com with SMTP id ada2fe7eead31-580144a31b0so4149269137.0 for ; Wed, 05 Nov 2025 04:45:47 -0800 (PST) DKIM-Signature: v=1; a=rsa-sha256; c=relaxed/relaxed; d=iol.unh.edu; s=unh-iol; t=1762346747; x=1762951547; darn=dpdk.org; h=references:in-reply-to:cc:to:from:subject:message-id:date:from:to :cc:subject:date:message-id:reply-to; bh=5e6j5htRbvhA5fRuEA9Ja3xz2FMYc64rNDZQ4fGEvIw=; b=Vy79CqF1gh+IAx3O01hc65U+VXu1ZKs/P9EYTNjjJ3RLL80NPUMcMS4KbpQq32uSuo ERvKqrfeByTwNBV/YX1YmVz+mM15S5+P8yEv8oC2E23YquNyOEb6HnezJ6TdiQ6BXcTe D8QoGrCfbRLA5DnUkptXcsy3izKVV0emSpZFA= X-Google-DKIM-Signature: v=1; a=rsa-sha256; c=relaxed/relaxed; d=1e100.net; s=20230601; t=1762346747; x=1762951547; h=references:in-reply-to:cc:to:from:subject:message-id:date :x-gm-message-state:from:to:cc:subject:date:message-id:reply-to; bh=5e6j5htRbvhA5fRuEA9Ja3xz2FMYc64rNDZQ4fGEvIw=; b=Zq1efXucsc3ECxK/kIEJC3Zhv5EkpQ9UBA+Gz3xWRko6x2xsBINeXwNoqjhRo7kQBI yqxaBQG6DzZs3012fQXkmyYV4+d4w0CJzAie/bMOcfZOBFIKK5UK4vgBGy90qibnbo/c 6TOiGn9roAFr4/8gJYDSXyJ/V4Y66540259QY/hqiUh0yCky5ZmTwJ3emBQNYT6eh/A2 qHaSan6iooA83ADyAbBuFb3w5hqO7TA82nkS8zg8wguB8PrJWMT1gArjsa1Hb7z/lrEm PUD4kKcZvjHns5EaeRE+TNJMdyH5i4d6RKsSoOn+RFyqPOXGDReM3dW7JTudD2NMut4q 9rUw== X-Gm-Message-State: AOJu0YxP/SjB9zU96SzmqmxtFTIE/yAmabvNoNiLHFidtiTC6ovpVuxG TXG3wcbaA/mgNDhTEQeQbwN1D+KZfkVU3rvAqH2q8t0pXOf665mt2orTRGfbDvCTfNd7OhOhtaA CgtXfti4bZtEKkOnMZDar2KhAzlJX4mvK0meDvseL6zIJ X-Gm-Gg: ASbGncuH/a0NCAQ+VwT6XdplzHTy9QkJzQolcOirohrO0afcT8M2GewwQEbMQaV5ubj APIXiMpGLaefokIACFvfNO9GoOvTOIBVQ/b8czp6cBS1+JGfxcu2eOSjnLGHp5+roSV25NDmRUN gv9O6vVAtwfr5HAFP/uft6c5Z37Mu+BT1XY0PYxsAZ//q1TZ/foHMYzcKkOIixDDVZK4UKRPg4c +VF3RC052P2yfbcDcwd5AcwL0vOtWO7Ld22iBC4ETs2hn9y0t59ItwqHo1C/eREngPGFwNUifiW aWUk4Vnk0SYP+5lvUmrSW79ruGfhpWS+WYENVIX43YuiSoqvBfXum1gvfpDLZw4R+VxdaODiuZ5 /ggxo9hE68xsSopjByos+q0ntmDAql2w= X-Google-Smtp-Source: AGHT+IExPgK0Idxf8mfPupNP9BOXjtvI5zEY/KRqFyyi0ZQky1z41qIsoVv/9jm+iV8o3rjoYxDfzDMgX48U X-Received: by 2002:a05:6102:1610:b0:5db:32dc:f05b with SMTP id ada2fe7eead31-5dd893b3593mr962150137.42.1762346746761; Wed, 05 Nov 2025 04:45:46 -0800 (PST) Received: from postal.iol.unh.edu (postal.iol.unh.edu. [132.177.123.84]) by smtp-relay.gmail.com with ESMTPS id ada2fe7eead31-5dbf334da55sm495826137.4.2025.11.05.04.45.46 (version=TLS1_2 cipher=ECDHE-ECDSA-AES128-GCM-SHA256 bits=128/128); Wed, 05 Nov 2025 04:45:46 -0800 (PST) X-Relaying-Domain: iol.unh.edu Date: Wed, 05 Nov 2025 04:45:46 -0800 (PST) Message-ID: <690b46fa.050a0220.21c2f9.b258SMTPIN_ADDED_MISSING@mx.google.com> Received: from [172.21.0.2] (unknown [172.18.0.240]) by postal.iol.unh.edu (Postfix) with ESMTP id 41E956051830; Wed, 5 Nov 2025 07:45:46 -0500 (EST) Subject: |SUCCESS| pw158453 [PATCH] net/mlx5: fix modify field action operati From: dpdklab@iol.unh.edu To: Test Report Cc: dpdk-test-reports@iol.unh.edu In-Reply-To: <20251105085049.110213-1-mkashani@nvidia.com> References: <20251105085049.110213-1-mkashani@nvidia.com> Content-Type: text/plain X-BeenThere: test-report@dpdk.org X-Mailman-Version: 2.1.29 Precedence: list List-Id: automatic DPDK test reports List-Unsubscribe: , List-Archive: List-Post: List-Help: List-Subscribe: , Errors-To: test-report-bounces@dpdk.org Test-Label: iol-unit-amd64-testing Test-Status: SUCCESS http://dpdk.org/patch/158453 _Testing PASS_ Submitter: Maayan Kashani Date: Wednesday, November 05 2025 08:50:49 DPDK git baseline: Repo:dpdk-next-net-mlx Branch: master CommitID:f1c1f82f2421be9ac2f46b4ec2a616ca28da4ca7 158453 --> testing pass Upstream job id: Generic-VM-Unit-Test-DPDK#32308 Test environment and result as below: +-------------------------------+----------------+ | Environment | dpdk_unit_test | +===============================+================+ | CentOS Stream 10 | PASS | +-------------------------------+----------------+ | Debian GNU/Linux 12 | PASS | +-------------------------------+----------------+ | Fedora Linux 41 | PASS | +-------------------------------+----------------+ | Fedora Linux 40 | PASS | +-------------------------------+----------------+ | Red Hat Enterprise Linux 8.10 | PASS | +-------------------------------+----------------+ | CentOS Stream 9 | PASS | +-------------------------------+----------------+ | Ubuntu 22.04 | PASS | +-------------------------------+----------------+ | Red Hat Enterprise Linux 9.5 | PASS | +-------------------------------+----------------+ | Fedora Linux 42 | PASS | +-------------------------------+----------------+ | Ubuntu 24.04 | PASS | +-------------------------------+----------------+ | Ubuntu 20.04 | PASS | +-------------------------------+----------------+ | Windows Server 2022 | PASS | +-------------------------------+----------------+ CentOS Stream 10 Kernel: 5.15 Compiler: gcc gcc (GCC) 14.2.1 20250110 (Red Hat 14.2.1-8) Debian GNU/Linux 12 Kernel: 5.15 Compiler: gcc gcc (Debian 12.2.0-14+deb12u1) 12.2.0 Fedora Linux 41 Kernel: 5.15 Compiler: clang gcc (GCC) 14.3.1 20250523 (Red Hat 14.3.1-1) Fedora Linux 40 Kernel: 5.15 Compiler: clang gcc (GCC) 14.2.1 20240912 (Red Hat 14.2.1-3) Red Hat Enterprise Linux 8.10 Kernel: 5.15 Compiler: gcc gcc (GCC) 8.5.0 20210514 (Red Hat 8.5.0-22) CentOS Stream 9 Kernel: 5.15 Compiler: gcc gcc (GCC) 11.5.0 20240719 (Red Hat 11.5.0-11) Ubuntu 22.04 Kernel: 5.15 Compiler: gcc gcc (Ubuntu 11.4.0-1ubuntu1~22.04) 11.4.0 Red Hat Enterprise Linux 9.5 Kernel: 5.15 Compiler: gcc gcc (GCC) 11.5.0 20240719 (Red Hat 11.5.0-2) Fedora Linux 42 Kernel: 5.15 Compiler: clang gcc (GCC) 15.2.1 20250808 (Red Hat 15.2.1-1) Ubuntu 24.04 Kernel: 5.15 Compiler: gcc gcc (Ubuntu 13.3.0-6ubuntu2~24.04) 13.3.0 Ubuntu 20.04 Kernel: 5.15 Compiler: gcc gcc (Ubuntu 9.4.0-1ubuntu1~20.04.2) 9.4.0 Windows Server 2022 Kernel: 10.0.20348.2031 Compiler: clang 15.0.7, gcc 14.1.0 (MinGW), and MSVC VS 19.39.33521 To view detailed results, visit: https://lab.dpdk.org/results/dashboard/patchsets/34470/ UNH-IOL DPDK Community Lab To manage your email subscriptions, visit: https://lab.dpdk.org/results/dashboard/preferences/subscriptions/