From mboxrd@z Thu Jan 1 00:00:00 1970 Return-Path: Received: from mails.dpdk.org (mails.dpdk.org [217.70.189.124]) by inbox.dpdk.org (Postfix) with ESMTP id 1915548A6E for ; Wed, 5 Nov 2025 13:56:47 +0100 (CET) Received: from mails.dpdk.org (localhost [127.0.0.1]) by mails.dpdk.org (Postfix) with ESMTP id 13C4B4021F; Wed, 5 Nov 2025 13:56:47 +0100 (CET) Received: from mail-yw1-f227.google.com (mail-yw1-f227.google.com [209.85.128.227]) by mails.dpdk.org (Postfix) with ESMTP id 742F54021F for ; Wed, 5 Nov 2025 13:56:45 +0100 (CET) Received: by mail-yw1-f227.google.com with SMTP id 00721157ae682-781421f5bf5so68007467b3.3 for ; Wed, 05 Nov 2025 04:56:45 -0800 (PST) DKIM-Signature: v=1; a=rsa-sha256; c=relaxed/relaxed; d=iol.unh.edu; s=unh-iol; t=1762347405; x=1762952205; darn=dpdk.org; h=references:in-reply-to:cc:to:from:subject:message-id:date:from:to :cc:subject:date:message-id:reply-to; bh=uY5ycuZIrYl1x3Xbcym8ycDevU7aBMaM+XBHQdJbxU8=; b=eYP8fSq1SFkvxmNGatC4sWFdcbiBCuoRD4ya91z7RCI9T239Bnl3aqU/aUURDJ5/RU Ow1O7KOB6otfuRMbS6CA/+ZBZtma7eGKfXYjemu7ljQ0BsA+ytKjXsc9QAAzM7iIUKyM UgloiMDRUmnPrbHygJKQ5TJkOJqQ8KwC/DkCY= X-Google-DKIM-Signature: v=1; a=rsa-sha256; c=relaxed/relaxed; d=1e100.net; s=20230601; t=1762347405; x=1762952205; h=references:in-reply-to:cc:to:from:subject:message-id:date :x-gm-message-state:from:to:cc:subject:date:message-id:reply-to; bh=uY5ycuZIrYl1x3Xbcym8ycDevU7aBMaM+XBHQdJbxU8=; b=MvNSsKrCDcgpa7Ybvmj4QjKyRpfx9lOhFJw6y2PU40oWvfw5gZmp7fab8K0a+yoTuo 67FjU0vpD3k1tqd6H/jgTgkW1WVC9J+KvGhSN0iG+QlTZzFuSG4gc3wSPkUmp8mOWF1+ zBU9oRUvmQ1GxEDEikytTTGv+WIpyy6xW42mZ1UucV7S/fmPco2eONWjT3d3fOrskUoJ upYkFzGLpkY63S97OAH0UT4z0rrRDKPJK5x1uAwN5018UazAOTLfdZSOsOGCId/5eV3n Iaw8LkwCCejVcspZtdHLXu5i4hIa4gtlC6xIIFSHszUd0VlzyoFSBY4BfxPfe+L/wmK8 scKw== X-Gm-Message-State: AOJu0YzhwieHspbvEM3U8Cu4tJ6X7aFKUxMmeoZ2j1Sz43drBBGsm1kh 71hkJSoTKY0LVwEuJrrjODM/yH4vu8EOiR+IeeI074MJxUTwDvR6AwBxKWEsPMOLJHIf+aPNjgi xUkzpoDz+wz9q7DFgtsQ489JE1skTOY5GSb6tLhkc7Ykl+GAqh7dhtq82wHkV X-Gm-Gg: ASbGncvknq3z5pdnpe1bDuc9x8DkU0KXHwyhnFhDSUHvn5qVyo2pZpdXLUneiX2Hmos GxPjw08o4ZeQL77KWPsSngrohIrwnOaj52rzjw9g+RHtXe8eHHzrUc5jBm2g6MKLCsTKuHhHtDB YFU6MPDqthguaB7c8z8A41C7w5qi0IY/ynu/MeVbf+x2SGCATPcmgW+xcRyoE3Y8YwWjx1XNrOt hov7nnBx/izBdR+Woy8lFnMir63A+N5OdeCyYA7yhW5G0mv/PIHbJdwd7WOjtpG7j8FwlWtyJ0n JqwFmpyGd2jZ24P+qfVNpuVIaueA2wl1ygA902SkdCKOe5IMB2cvYK+K2RoyFC6fC2lkUlVgV/i Z0oMEE7Jm X-Google-Smtp-Source: AGHT+IFYq531LfAUPjNq14pgjLUrhcuI4jmIU6iQBbQTfdkLf+270ToTZdIa8Okp6RaGWojnphWrNbuUAEqN X-Received: by 2002:a05:690c:a87:b0:786:4fd5:e5db with SMTP id 00721157ae682-786a41e40b3mr55668347b3.49.1762347404844; Wed, 05 Nov 2025 04:56:44 -0800 (PST) Received: from postal.iol.unh.edu (postal.iol.unh.edu. [2606:4100:3880:1234::84]) by smtp-relay.gmail.com with ESMTPS id 00721157ae682-78691c87c47sm3053027b3.9.2025.11.05.04.56.44 (version=TLS1_2 cipher=ECDHE-ECDSA-AES128-GCM-SHA256 bits=128/128); Wed, 05 Nov 2025 04:56:44 -0800 (PST) X-Relaying-Domain: iol.unh.edu Date: Wed, 05 Nov 2025 04:56:44 -0800 (PST) Message-ID: <690b498c.0d0a0220.2fe30e.0b64SMTPIN_ADDED_MISSING@mx.google.com> Received: from [172.21.0.2] (unknown [172.18.0.240]) by postal.iol.unh.edu (Postfix) with ESMTP id 7F94C60003E7; Wed, 5 Nov 2025 07:56:44 -0500 (EST) Subject: |SUCCESS| pw158458 [PATCH] mbuf: improve mbuf comments From: dpdklab@iol.unh.edu To: Test Report Cc: dpdk-test-reports@iol.unh.edu In-Reply-To: <20251105112810.20838-1-mb@smartsharesystems.com> References: <20251105112810.20838-1-mb@smartsharesystems.com> Content-Type: text/plain X-BeenThere: test-report@dpdk.org X-Mailman-Version: 2.1.29 Precedence: list List-Id: automatic DPDK test reports List-Unsubscribe: , List-Archive: List-Post: List-Help: List-Subscribe: , Errors-To: test-report-bounces@dpdk.org Test-Label: iol-compile-amd64-testing Test-Status: SUCCESS http://dpdk.org/patch/158458 _Testing PASS_ Submitter: Morten Brorup Date: Wednesday, November 05 2025 11:28:10 DPDK git baseline: Repo:dpdk Branch: master CommitID:8ebe22669c1f4edf095d4265651f109cd9e491b3 158458 --> testing pass Upstream job id: Generic-DPDK-Compile-Meson#441045 Test environment and result as below: +-------------------------------+--------------------+------------------+ | Environment | dpdk_meson_compile | dpdk_compile_ovs | +===============================+====================+==================+ | FreeBSD 14.2 | PASS | SKIPPED | +-------------------------------+--------------------+------------------+ | Fedora Linux 42 | PASS | PASS | +-------------------------------+--------------------+------------------+ | Ubuntu 20.04 | PASS | SKIPPED | +-------------------------------+--------------------+------------------+ | Red Hat Enterprise Linux 8.10 | PASS | SKIPPED | +-------------------------------+--------------------+------------------+ | CentOS Stream 9 | PASS | SKIPPED | +-------------------------------+--------------------+------------------+ | Debian GNU/Linux 12 | PASS | SKIPPED | +-------------------------------+--------------------+------------------+ | CentOS Stream 10 | PASS | SKIPPED | +-------------------------------+--------------------+------------------+ | Ubuntu 22.04 | PASS | SKIPPED | +-------------------------------+--------------------+------------------+ | openSUSE Leap 15.6 | PASS | SKIPPED | +-------------------------------+--------------------+------------------+ | Alpine Linux 3.22.0 | PASS | SKIPPED | +-------------------------------+--------------------+------------------+ | Ubuntu 24.04 | PASS | PASS | +-------------------------------+--------------------+------------------+ | Red Hat Enterprise Linux 9.5 | PASS | SKIPPED | +-------------------------------+--------------------+------------------+ FreeBSD 14.2 Kernel: 14.2-RELEASE Compiler: clang 18.1.6 Fedora Linux 42 Kernel: 5.15 Compiler: clang gcc (GCC) 15.2.1 20250808 (Red Hat 15.2.1-1) Ubuntu 20.04 Kernel: 5.15 Compiler: gcc gcc (Ubuntu 9.4.0-1ubuntu1~20.04.2) 9.4.0 Red Hat Enterprise Linux 8.10 Kernel: 5.15 Compiler: gcc gcc (GCC) 8.5.0 20210514 (Red Hat 8.5.0-22) CentOS Stream 9 Kernel: 5.15 Compiler: gcc gcc (GCC) 11.5.0 20240719 (Red Hat 11.5.0-11) Debian GNU/Linux 12 Kernel: 5.15 Compiler: gcc gcc (Debian 12.2.0-14+deb12u1) 12.2.0 CentOS Stream 10 Kernel: 5.15 Compiler: gcc gcc (GCC) 14.2.1 20250110 (Red Hat 14.2.1-8) Ubuntu 22.04 Kernel: 5.15 Compiler: gcc gcc (Ubuntu 11.4.0-1ubuntu1~22.04) 11.4.0 openSUSE Leap 15.6 Kernel: 5.15 Compiler: gcc gcc (SUSE Linux) 7.5.0 Alpine Linux 3.22.0 Kernel: 5.15 Compiler: gcc gcc (Alpine 14.2.0) 14.2.0 Ubuntu 24.04 Kernel: 5.15 Compiler: gcc gcc (Ubuntu 13.3.0-6ubuntu2~24.04) 13.3.0 Red Hat Enterprise Linux 9.5 Kernel: 5.15 Compiler: gcc gcc (GCC) 11.5.0 20240719 (Red Hat 11.5.0-2) To view detailed results, visit: https://lab.dpdk.org/results/dashboard/patchsets/34472/ UNH-IOL DPDK Community Lab To manage your email subscriptions, visit: https://lab.dpdk.org/results/dashboard/preferences/subscriptions/