From mboxrd@z Thu Jan 1 00:00:00 1970 Return-Path: Received: from mails.dpdk.org (mails.dpdk.org [217.70.189.124]) by inbox.dpdk.org (Postfix) with ESMTP id BBE8448A71 for ; Wed, 5 Nov 2025 14:02:46 +0100 (CET) Received: from mails.dpdk.org (localhost [127.0.0.1]) by mails.dpdk.org (Postfix) with ESMTP id B3AF14021F; Wed, 5 Nov 2025 14:02:46 +0100 (CET) Received: from mail-qv1-f99.google.com (mail-qv1-f99.google.com [209.85.219.99]) by mails.dpdk.org (Postfix) with ESMTP id 64F9A4021F for ; Wed, 5 Nov 2025 14:02:45 +0100 (CET) Received: by mail-qv1-f99.google.com with SMTP id 6a1803df08f44-880570bdef8so33781396d6.3 for ; Wed, 05 Nov 2025 05:02:45 -0800 (PST) DKIM-Signature: v=1; a=rsa-sha256; c=relaxed/relaxed; d=iol.unh.edu; s=unh-iol; t=1762347765; x=1762952565; darn=dpdk.org; h=references:in-reply-to:cc:to:from:subject:message-id:date:from:to :cc:subject:date:message-id:reply-to; bh=WI0PyJkWiES3IKYUoLvRgrHxVdA9+eX3QxTaxKhJlYI=; b=OqMVnyd8o75m1+ARM84w27wajgIvSg5ZyoyrBHEaGLJ9YipwyF7PwThXW3SovCteAh 0s65rQso1URVVrwtcYSI5mqC1Qj6+iJozsADpdx77scpNGp8t/JGnnPnIgxKYjLwQkNL YUZ3zgAK7BjjfvJ+fjbugbiibrVItsn75O/g8= X-Google-DKIM-Signature: v=1; a=rsa-sha256; c=relaxed/relaxed; d=1e100.net; s=20230601; t=1762347765; x=1762952565; h=references:in-reply-to:cc:to:from:subject:message-id:date :x-gm-message-state:from:to:cc:subject:date:message-id:reply-to; bh=WI0PyJkWiES3IKYUoLvRgrHxVdA9+eX3QxTaxKhJlYI=; b=Fo0grVpgXaFZH3sdhEziOX8sWRO+jW4VuytgxJNphUR4WSbIxtxI0jV0Q2b7JTlj9H TpxR2nljFLpKqvd5XgZGLWJM/TNpR+xtdubMMxCCDM4d9VUKQeFB4KbGYJ90yMjqQrht ETyKk4Nlo9OW8vVeH5z/E3LrNGAu2/89D8TEQHvfRmbeuQ3Etla2PU59x7DWstXKD98e SvD1hoAcIkbyD5jdNmnNDdAp3H63AadmC85pKCge84fWSOHafQDul8bKnSIlN+LX/SqS 9+3YVMZA0f1ZRh3qyakDFIYbge97wJb64qT+V/SBkId74eJhG40HFo8FqYhUJsBAyBLn tOUA== X-Gm-Message-State: AOJu0YzA53WHZTTiFcc8ELRCnpqE93X1Wm9iI7vJEmLRZ4dnOXdg71K5 w0arvtsAEzH0GGc912Y5ZHmexAo2gHTxsxIbtfMn7pFLgaCgD/E9tsgRXYQxUMXcc7KhK0VUR7u yaPMsuEeSr23fcTGj4GVYjb0snWqWgs10OFsTPC6noim7 X-Gm-Gg: ASbGncsYAotri2kMp10J8Lsv5WyOufwvBkDgzk8qV2QcoZmFP54TRkwhdjJBMaF7wCq q6DKdzqSXqNFFh1zLQ6LaRNH4d54wFbHDn15lNqmXjxJ4VehZvoG2T8cIu382DrqddgDVYl+Ds0 vvqjngYp7/Sf2gzNc45uKv2LSwea1/9hmNB0Uy/ow4M2DlVm9pW65JseIUWh08WU9mRXZkTssnb rmlpC7877iGYetn4BZej2tl6Igt3WI7aicetsulPsubfIH5uNdBY3mlBd6ALo0nFjC+dRCu9mEQ Rk/AyCnNyzfysp5KSkusxeskTvlwQLvD28Ohu3o7Ww70tkSp2T2x+B4057WhyCw8Z4fUNPtZcQH cMUiuC8d7yeZKxwmSxn5Ey9H2QoXMKVo= X-Google-Smtp-Source: AGHT+IHsjKu4AxlfNUtJqFAi9FHDpP0VloinGDr1o3Dvh5ZX5DKuVxZiq/cjxaSXykHplzpNf8ylXjlnNAhX X-Received: by 2002:a05:6214:2aa2:b0:87f:bd05:1c89 with SMTP id 6a1803df08f44-8807115fea1mr43170476d6.35.1762347764583; Wed, 05 Nov 2025 05:02:44 -0800 (PST) Received: from postal.iol.unh.edu (postal.iol.unh.edu. [132.177.123.84]) by smtp-relay.gmail.com with ESMTPS id 6a1803df08f44-88060e58bf5sm5324116d6.26.2025.11.05.05.02.44 (version=TLS1_2 cipher=ECDHE-ECDSA-AES128-GCM-SHA256 bits=128/128); Wed, 05 Nov 2025 05:02:44 -0800 (PST) X-Relaying-Domain: iol.unh.edu Date: Wed, 05 Nov 2025 05:02:44 -0800 (PST) Message-ID: <690b4af4.050a0220.24f083.c335SMTPIN_ADDED_MISSING@mx.google.com> Received: from [172.21.0.2] (unknown [172.18.0.240]) by postal.iol.unh.edu (Postfix) with ESMTP id 4375A6051830; Wed, 5 Nov 2025 08:02:44 -0500 (EST) Subject: |SUCCESS| pw158455-158457 [PATCH] [v2,3/3] app/testpmd: support paus From: dpdklab@iol.unh.edu To: Test Report Cc: dpdk-test-reports@iol.unh.edu, Stephen Hemminger In-Reply-To: <20251105094748.3269-4-fengchengwen@huawei.com> References: <20251105094748.3269-4-fengchengwen@huawei.com> Content-Type: text/plain X-BeenThere: test-report@dpdk.org X-Mailman-Version: 2.1.29 Precedence: list List-Id: automatic DPDK test reports List-Unsubscribe: , List-Archive: List-Post: List-Help: List-Subscribe: , Errors-To: test-report-bounces@dpdk.org Test-Label: iol-compile-amd64-testing Test-Status: SUCCESS http://dpdk.org/patch/158457 _Testing PASS_ Submitter: Chengwen Feng Date: Wednesday, November 05 2025 09:47:48 DPDK git baseline: Repo:dpdk-next-net Branch: master CommitID:538052bb364db22ba8cc08b5e23a9e6d25a864a9 158455-158457 --> testing pass Upstream job id: Windows-Compile-DPDK-VS#7430 Test environment and result as below: +-------------------------------+--------------------+------------------+-------------------+ | Environment | dpdk_meson_compile | dpdk_compile_ovs | dpdk_msvc_compile | +===============================+====================+==================+===================+ | Ubuntu 20.04 | PASS | SKIPPED | SKIPPED | +-------------------------------+--------------------+------------------+-------------------+ | Red Hat Enterprise Linux 8.10 | PASS | SKIPPED | SKIPPED | +-------------------------------+--------------------+------------------+-------------------+ | openSUSE Leap 15.6 | PASS | SKIPPED | SKIPPED | +-------------------------------+--------------------+------------------+-------------------+ | Fedora Linux 42 | PASS | PASS | SKIPPED | +-------------------------------+--------------------+------------------+-------------------+ | Red Hat Enterprise Linux 9.5 | PASS | SKIPPED | SKIPPED | +-------------------------------+--------------------+------------------+-------------------+ | CentOS Stream 9 | PASS | SKIPPED | SKIPPED | +-------------------------------+--------------------+------------------+-------------------+ | Debian GNU/Linux 12 | PASS | SKIPPED | SKIPPED | +-------------------------------+--------------------+------------------+-------------------+ | CentOS Stream 10 | PASS | SKIPPED | SKIPPED | +-------------------------------+--------------------+------------------+-------------------+ | Ubuntu 22.04 | PASS | SKIPPED | SKIPPED | +-------------------------------+--------------------+------------------+-------------------+ | Ubuntu 24.04 | PASS | PASS | SKIPPED | +-------------------------------+--------------------+------------------+-------------------+ | FreeBSD 14.2 | PASS | SKIPPED | SKIPPED | +-------------------------------+--------------------+------------------+-------------------+ | Alpine Linux 3.22.0 | PASS | SKIPPED | SKIPPED | +-------------------------------+--------------------+------------------+-------------------+ | Windows Server 2022 | SKIPPED | SKIPPED | PASS | +-------------------------------+--------------------+------------------+-------------------+ Ubuntu 20.04 Kernel: 5.15 Compiler: gcc gcc (Ubuntu 9.4.0-1ubuntu1~20.04.2) 9.4.0 Red Hat Enterprise Linux 8.10 Kernel: 5.15 Compiler: gcc gcc (GCC) 8.5.0 20210514 (Red Hat 8.5.0-22) openSUSE Leap 15.6 Kernel: 5.15 Compiler: gcc gcc (SUSE Linux) 7.5.0 Fedora Linux 42 Kernel: 5.15 Compiler: clang gcc (GCC) 15.2.1 20250808 (Red Hat 15.2.1-1) Red Hat Enterprise Linux 9.5 Kernel: 5.15 Compiler: gcc gcc (GCC) 11.5.0 20240719 (Red Hat 11.5.0-2) CentOS Stream 9 Kernel: 5.15 Compiler: gcc gcc (GCC) 11.5.0 20240719 (Red Hat 11.5.0-11) Debian GNU/Linux 12 Kernel: 5.15 Compiler: gcc gcc (Debian 12.2.0-14+deb12u1) 12.2.0 CentOS Stream 10 Kernel: 5.15 Compiler: gcc gcc (GCC) 14.2.1 20250110 (Red Hat 14.2.1-8) Ubuntu 22.04 Kernel: 5.15 Compiler: gcc gcc (Ubuntu 11.4.0-1ubuntu1~22.04) 11.4.0 Ubuntu 24.04 Kernel: 5.15 Compiler: gcc gcc (Ubuntu 13.3.0-6ubuntu2~24.04) 13.3.0 FreeBSD 14.2 Kernel: 14.2-RELEASE Compiler: clang 18.1.6 Alpine Linux 3.22.0 Kernel: 5.15 Compiler: gcc gcc (Alpine 14.2.0) 14.2.0 Windows Server 2022 Kernel: 10.0.20348.2031 Compiler: clang 15.0.7, gcc 14.1.0 (MinGW), and MSVC VS 19.39.33521 To view detailed results, visit: https://lab.dpdk.org/results/dashboard/patchsets/34471/ UNH-IOL DPDK Community Lab To manage your email subscriptions, visit: https://lab.dpdk.org/results/dashboard/preferences/subscriptions/