From mboxrd@z Thu Jan 1 00:00:00 1970 Return-Path: Received: from mails.dpdk.org (mails.dpdk.org [217.70.189.124]) by inbox.dpdk.org (Postfix) with ESMTP id E672348A71 for ; Wed, 5 Nov 2025 14:04:25 +0100 (CET) Received: from mails.dpdk.org (localhost [127.0.0.1]) by mails.dpdk.org (Postfix) with ESMTP id E15014021F; Wed, 5 Nov 2025 14:04:25 +0100 (CET) Received: from mail-il1-f225.google.com (mail-il1-f225.google.com [209.85.166.225]) by mails.dpdk.org (Postfix) with ESMTP id 26CF84021F for ; Wed, 5 Nov 2025 14:04:25 +0100 (CET) Received: by mail-il1-f225.google.com with SMTP id e9e14a558f8ab-43325879139so33086605ab.1 for ; Wed, 05 Nov 2025 05:04:25 -0800 (PST) DKIM-Signature: v=1; a=rsa-sha256; c=relaxed/relaxed; d=iol.unh.edu; s=unh-iol; t=1762347864; x=1762952664; darn=dpdk.org; h=references:in-reply-to:cc:to:from:subject:message-id:date:from:to :cc:subject:date:message-id:reply-to; bh=2fTukHl73ko8F3IydNS/8F8C4LGX6e7o8WhfWpnqnkU=; b=f2OVb4g04lCowqOOYuAHGVyXH5akaK5izpKQVpKZD3g3kUSvdw+K/F1tkptVLU50Ri ChHgaMmg7zpIHmRHG0sDlkPLe7rTIY8TptL/jw14quUQg+IyLkOkI6H1hGcrVOHpQDpr a/qXROAO6lT8s0jYCuqquofNB/AC8c7515s14= X-Google-DKIM-Signature: v=1; a=rsa-sha256; c=relaxed/relaxed; d=1e100.net; s=20230601; t=1762347864; x=1762952664; h=references:in-reply-to:cc:to:from:subject:message-id:date :x-gm-message-state:from:to:cc:subject:date:message-id:reply-to; bh=2fTukHl73ko8F3IydNS/8F8C4LGX6e7o8WhfWpnqnkU=; b=Cgu/2ScFXHmiB+KurAGq31O/wHFprkcgKzQ1LsMjhJ3Vyh3FtTKzYgoUFb3XqRluWg yVxvnFDmL9M0v/i9JOgBr5o8/Oah9j4g+ClCVjTUSLk+CXZH71TMQ2jNZI7V3bnbOZIa BE8YLfL9y2+KLGQhXBERZB56jO4vXU9Weuv3bgcr/6HnDJyfkDgfr0rIBpJ+Du5quMCP EXUfBx2KWG5XTxWOxDg+Web8CvM6OsLAb5VnoLX0z7ikjNLv2q/20zK9tOMtnzMkVFRl b5mMqkhl+Ns2Ae2pd7CoU+rKvOuSv2FpH4TBbTJoulQ4s+jZsg6GgfSzlUMxazBmtHND Db5Q== X-Gm-Message-State: AOJu0YyASfGI50imKrY3iMn5zPRmnfyBdVpnP5iadi/FOfkl6607b9Gc cOtDDrp/GqWYQtpqNHTeG1kSPEolaM9sD1p+n00+0rdgpkjI8/bzf6L6HPpgtkVglX0BnFKnECD xkUeYQphgmKd2s8ARFLM4UaEUW9sHSiO8xXC4xm50Nu9H X-Gm-Gg: ASbGnctQHlc1BCKSyCJf/DTKSPp1QpPxq1FIlmIs6UmLrV2txrHvmCls/Cd9TFHBGDF sXM2WBdtNtx3obZ4cexFlFTQwqz5AIca6KV0G3shGRwFgqBd8dscdKgWtSt1MfA61tTz6VbjdFz C9U2WTtQrMeFhPUZr+FRifVdh2/T59PjYcPRzUvNIOqmicsUTrP5Y7rX6iTzKgJ1Be8pQrIs8zO mLOrG80lu0W8aFj/9dNdmUguf2KrshRzMJ7PAOHxLg2Ntyla2Xip1XvcSsAsI22nCAsV628S8q0 +kRw6merA92DiFF1OQQyfZScLMILDPLyJMpsCOxEfipl9Z+QO+XrroWCu+rivS0fJmzKWCjavpd xFZINEq51WDAns2dSgyQNjsDLG3h0mOc= X-Google-Smtp-Source: AGHT+IEwg0nWJQ+tBlFZhQizx27QYwLCHqDdwL5iUAF+JjZXWRNH1tBI3rRpWkhBKhfYr7rxFKeSHr1/TU1i X-Received: by 2002:a05:6e02:170c:b0:433:2ba9:b3c8 with SMTP id e9e14a558f8ab-4334078ef7fmr48497245ab.2.1762347864304; Wed, 05 Nov 2025 05:04:24 -0800 (PST) Received: from postal.iol.unh.edu (postal.iol.unh.edu. [132.177.123.84]) by smtp-relay.gmail.com with ESMTPS id 8926c6da1cb9f-5b7226fb0e2sm748634173.29.2025.11.05.05.04.24 (version=TLS1_2 cipher=ECDHE-ECDSA-AES128-GCM-SHA256 bits=128/128); Wed, 05 Nov 2025 05:04:24 -0800 (PST) X-Relaying-Domain: iol.unh.edu Date: Wed, 05 Nov 2025 05:04:24 -0800 (PST) Message-ID: <690b4b58.050a0220.2bed4c.894dSMTPIN_ADDED_MISSING@mx.google.com> Received: from [172.21.0.2] (unknown [172.18.0.240]) by postal.iol.unh.edu (Postfix) with ESMTP id C95C26051830; Wed, 5 Nov 2025 08:04:23 -0500 (EST) Subject: |SUCCESS| pw158451-158452 [PATCH] [2/2] ci: add dependency in GHA fo From: dpdklab@iol.unh.edu To: Test Report Cc: dpdk-test-reports@iol.unh.edu In-Reply-To: <20251105084309.3851898-2-david.marchand@redhat.com> References: <20251105084309.3851898-2-david.marchand@redhat.com> Content-Type: text/plain X-BeenThere: test-report@dpdk.org X-Mailman-Version: 2.1.29 Precedence: list List-Id: automatic DPDK test reports List-Unsubscribe: , List-Archive: List-Post: List-Help: List-Subscribe: , Errors-To: test-report-bounces@dpdk.org Test-Label: iol-compile-amd64-testing Test-Status: SUCCESS http://dpdk.org/patch/158452 _Testing PASS_ Submitter: David Marchand Date: Wednesday, November 05 2025 08:43:09 DPDK git baseline: Repo:dpdk Branch: master CommitID:91bac7546b34fbcbc96ec7b3afa4bb2daa8accb9 158451-158452 --> testing pass Upstream job id: Windows-Compile-DPDK-Native#32132 Test environment and result as below: +-------------------------------+--------------------+------------------+-------------------+-------------------------+----------------------+ | Environment | dpdk_meson_compile | dpdk_compile_ovs | dpdk_msvc_compile | dpdk_llvm_clang_compile | dpdk_mingw64_compile | +===============================+====================+==================+===================+=========================+======================+ | CentOS Stream 10 | PASS | SKIPPED | SKIPPED | SKIPPED | SKIPPED | +-------------------------------+--------------------+------------------+-------------------+-------------------------+----------------------+ | FreeBSD 14.2 | PASS | SKIPPED | SKIPPED | SKIPPED | SKIPPED | +-------------------------------+--------------------+------------------+-------------------+-------------------------+----------------------+ | Ubuntu 20.04 | PASS | SKIPPED | SKIPPED | SKIPPED | SKIPPED | +-------------------------------+--------------------+------------------+-------------------+-------------------------+----------------------+ | Fedora Linux 42 | PASS | PASS | SKIPPED | SKIPPED | SKIPPED | +-------------------------------+--------------------+------------------+-------------------+-------------------------+----------------------+ | Debian GNU/Linux 12 | PASS | SKIPPED | SKIPPED | SKIPPED | SKIPPED | +-------------------------------+--------------------+------------------+-------------------+-------------------------+----------------------+ | Ubuntu 24.04 | PASS | PASS | SKIPPED | SKIPPED | SKIPPED | +-------------------------------+--------------------+------------------+-------------------+-------------------------+----------------------+ | openSUSE Leap 15.6 | PASS | SKIPPED | SKIPPED | SKIPPED | SKIPPED | +-------------------------------+--------------------+------------------+-------------------+-------------------------+----------------------+ | Red Hat Enterprise Linux 8.10 | PASS | SKIPPED | SKIPPED | SKIPPED | SKIPPED | +-------------------------------+--------------------+------------------+-------------------+-------------------------+----------------------+ | CentOS Stream 9 | PASS | SKIPPED | SKIPPED | SKIPPED | SKIPPED | +-------------------------------+--------------------+------------------+-------------------+-------------------------+----------------------+ | Red Hat Enterprise Linux 9.5 | PASS | SKIPPED | SKIPPED | SKIPPED | SKIPPED | +-------------------------------+--------------------+------------------+-------------------+-------------------------+----------------------+ | Ubuntu 22.04 | PASS | SKIPPED | SKIPPED | SKIPPED | SKIPPED | +-------------------------------+--------------------+------------------+-------------------+-------------------------+----------------------+ | Alpine Linux 3.22.0 | PASS | SKIPPED | SKIPPED | SKIPPED | SKIPPED | +-------------------------------+--------------------+------------------+-------------------+-------------------------+----------------------+ | Windows Server 2022 | SKIPPED | SKIPPED | PASS | PASS | PASS | +-------------------------------+--------------------+------------------+-------------------+-------------------------+----------------------+ CentOS Stream 10 Kernel: 5.15 Compiler: gcc gcc (GCC) 14.2.1 20250110 (Red Hat 14.2.1-8) FreeBSD 14.2 Kernel: 14.2-RELEASE Compiler: clang 18.1.6 Ubuntu 20.04 Kernel: 4.19 Compiler: gcc gcc (Ubuntu 9.4.0-1ubuntu1~20.04.2) 9.4.0 Fedora Linux 42 Kernel: 5.15 Compiler: clang gcc (GCC) 15.2.1 20250808 (Red Hat 15.2.1-1) Debian GNU/Linux 12 Kernel: 5.15 Compiler: gcc gcc (Debian 12.2.0-14+deb12u1) 12.2.0 Ubuntu 24.04 Kernel: 5.15 Compiler: gcc gcc (Ubuntu 13.3.0-6ubuntu2~24.04) 13.3.0 openSUSE Leap 15.6 Kernel: 5.15 Compiler: gcc gcc (SUSE Linux) 7.5.0 Red Hat Enterprise Linux 8.10 Kernel: 5.15 Compiler: gcc gcc (GCC) 8.5.0 20210514 (Red Hat 8.5.0-22) CentOS Stream 9 Kernel: 5.15 Compiler: gcc gcc (GCC) 11.5.0 20240719 (Red Hat 11.5.0-11) Red Hat Enterprise Linux 9.5 Kernel: 5.15 Compiler: gcc gcc (GCC) 11.5.0 20240719 (Red Hat 11.5.0-2) Ubuntu 22.04 Kernel: 5.15 Compiler: gcc gcc (Ubuntu 11.4.0-1ubuntu1~22.04) 11.4.0 Alpine Linux 3.22.0 Kernel: 5.15 Compiler: gcc gcc (Alpine 14.2.0) 14.2.0 Windows Server 2022 Kernel: 10.0.20348.2031 Compiler: clang 15.0.7, gcc 14.1.0 (MinGW), and MSVC VS 19.39.33521 To view detailed results, visit: https://lab.dpdk.org/results/dashboard/patchsets/34468/ UNH-IOL DPDK Community Lab To manage your email subscriptions, visit: https://lab.dpdk.org/results/dashboard/preferences/subscriptions/