From mboxrd@z Thu Jan 1 00:00:00 1970 Return-Path: Received: from mails.dpdk.org (mails.dpdk.org [217.70.189.124]) by inbox.dpdk.org (Postfix) with ESMTP id 10DB548A71 for ; Wed, 5 Nov 2025 14:05:30 +0100 (CET) Received: from mails.dpdk.org (localhost [127.0.0.1]) by mails.dpdk.org (Postfix) with ESMTP id 0B13F4021F; Wed, 5 Nov 2025 14:05:30 +0100 (CET) Received: from mail-io1-f99.google.com (mail-io1-f99.google.com [209.85.166.99]) by mails.dpdk.org (Postfix) with ESMTP id E3CD04021F for ; Wed, 5 Nov 2025 14:05:28 +0100 (CET) Received: by mail-io1-f99.google.com with SMTP id ca18e2360f4ac-93e2c9821fcso645782439f.3 for ; Wed, 05 Nov 2025 05:05:28 -0800 (PST) DKIM-Signature: v=1; a=rsa-sha256; c=relaxed/relaxed; d=iol.unh.edu; s=unh-iol; t=1762347928; x=1762952728; darn=dpdk.org; h=references:in-reply-to:cc:to:from:subject:message-id:date:from:to :cc:subject:date:message-id:reply-to; bh=NtdEabr8sdOp5WGQKjc61FCbxuIF8wyyG47JE2JqM3Y=; b=gok/tAWNPHsQCAPhjZXu/PqIp/kiqGJ31cvl/mlAfAmj1r7HEaLA8EIYJ1+iNls2RL /j6L/PlKlE0krzlbLmVFca26CBmnsV0wmjyLHMgTEijxr26NF3r0K7euG5qI8U6bYyDL oGN2dwO00CiHMC8H9h5WCGG3kNz0Rxa/mCAA0= X-Google-DKIM-Signature: v=1; a=rsa-sha256; c=relaxed/relaxed; d=1e100.net; s=20230601; t=1762347928; x=1762952728; h=references:in-reply-to:cc:to:from:subject:message-id:date :x-gm-message-state:from:to:cc:subject:date:message-id:reply-to; bh=NtdEabr8sdOp5WGQKjc61FCbxuIF8wyyG47JE2JqM3Y=; b=dVHElZGWTn6S6dQizpo9C/v5LdW8w9Zwslli6bECeacDd6c8mmgVqN4fs6ZKDLWGhC GCtG/RAyXaD5SnoJLVpwLCFZ5kmHYOR7rgMttj2w/UM/a8VszqQlgTacCDuvm8I8gRTS tn/D7NDvKXu1P203wx3L2Su/ldfX9hL5cp0GAqmrK1NwLjnZeI8PMZWboUyhMuU9sSly C7bO/xDe+efFLlvtCjzPoszz8wuJ6w5kkcioU6I80A5/qXc2At0cimsxpl+hej/yG2Y7 lP+KQbhLCrwOn5m8o1h8KlZwntdUTEa7hs5hNrQS0uWP2JadlRHoA+OENOKDy8Zs12Ia a8Rw== X-Gm-Message-State: AOJu0YzeaJGAQo1Lc3QOeLGsAbkefX/9iCDWWFV5/Echl6iH9OzP+SeI wkTq5Fup6JZSxWekA4wtMmVnx3eciofU1OT2LINmd0bZ+0r2p6BwyQFqWSX3iWtN5JMa2uGbuhD ivY9VVfCQqJCva73FH97qHKVBG22uF4jYPgt0hOnZVQSATkZxiROZaTrYGAMZ X-Gm-Gg: ASbGncvfzylNiQjTm0iwrvI6Zue7+2Ok4lBzFwCKGAGR7F/rjnjXqOb8O0zHDbP3PLh dAVsEvbax0qFKrrbcCpBMvtwTVMBPb3hQh7NOPVQD3DUpQH41gY0sZyYcMZujBDZwDBHSJ4tFqm xgtEqJ11/H2J8dFTM0Vdy4IWoEd0FMd9v/hKk4QKePgl7YorFETAGpIm2R61tZCSuiEjEaqmMvH RD7cG7Nlbx29mjXGMnyPt40Z4XoRXLjHM4reU2VNaxwX1ZPnrkYFDYsROmSqFUYRhQfOH6Usie2 eo3iOfpbTGJGhf9fxwH7cLzgiFSunKFxWe7Mfbq9+Sxf8PifSXK42n4A7WmqvDNCC8mmzSrmwWp seyyqy50E X-Google-Smtp-Source: AGHT+IGF3wOwwGQyfItv9MAw5svE3mx88yoSyrt/dHJrW4JGLq+K5fpI3ztQRkcX5le41O3nyoxroa96AcvP X-Received: by 2002:a05:6e02:18c5:b0:431:d721:266d with SMTP id e9e14a558f8ab-433407dfe93mr42873545ab.31.1762347928015; Wed, 05 Nov 2025 05:05:28 -0800 (PST) Received: from postal.iol.unh.edu (postal.iol.unh.edu. [2606:4100:3880:1234::84]) by smtp-relay.gmail.com with ESMTPS id 8926c6da1cb9f-5b7226fbe66sm616914173.31.2025.11.05.05.05.27 (version=TLS1_2 cipher=ECDHE-ECDSA-AES128-GCM-SHA256 bits=128/128); Wed, 05 Nov 2025 05:05:28 -0800 (PST) X-Relaying-Domain: iol.unh.edu Date: Wed, 05 Nov 2025 05:05:28 -0800 (PST) Message-ID: <690b4b98.050a0220.1eac4e.1684SMTPIN_ADDED_MISSING@mx.google.com> Received: from [172.21.0.2] (unknown [172.18.0.240]) by postal.iol.unh.edu (Postfix) with ESMTP id 8B1606051830; Wed, 5 Nov 2025 08:05:27 -0500 (EST) Subject: |SUCCESS| pw158458 [PATCH] mbuf: improve mbuf comments From: dpdklab@iol.unh.edu To: Test Report Cc: dpdk-test-reports@iol.unh.edu In-Reply-To: <20251105112810.20838-1-mb@smartsharesystems.com> References: <20251105112810.20838-1-mb@smartsharesystems.com> Content-Type: text/plain X-BeenThere: test-report@dpdk.org X-Mailman-Version: 2.1.29 Precedence: list List-Id: automatic DPDK test reports List-Unsubscribe: , List-Archive: List-Post: List-Help: List-Subscribe: , Errors-To: test-report-bounces@dpdk.org Test-Label: iol-unit-amd64-testing Test-Status: SUCCESS http://dpdk.org/patch/158458 _Testing PASS_ Submitter: Morten Brorup Date: Wednesday, November 05 2025 11:28:10 DPDK git baseline: Repo:dpdk Branch: master CommitID:8ebe22669c1f4edf095d4265651f109cd9e491b3 158458 --> testing pass Upstream job id: Generic-Unit-Test-DPDK#388892 Test environment and result as below: +-------------------------------+----------------+ | Environment | dpdk_unit_test | +===============================+================+ | Fedora Linux 42 | PASS | +-------------------------------+----------------+ | CentOS Stream 9 | PASS | +-------------------------------+----------------+ | Ubuntu 22.04 | PASS | +-------------------------------+----------------+ | Red Hat Enterprise Linux 8.10 | PASS | +-------------------------------+----------------+ | Fedora Linux 40 | PASS | +-------------------------------+----------------+ | CentOS Stream 10 | PASS | +-------------------------------+----------------+ | Ubuntu 24.04 | PASS | +-------------------------------+----------------+ | Ubuntu 20.04 | PASS | +-------------------------------+----------------+ | Fedora Linux 41 | PASS | +-------------------------------+----------------+ | Debian GNU/Linux 12 | PASS | +-------------------------------+----------------+ | Red Hat Enterprise Linux 9.5 | PASS | +-------------------------------+----------------+ Fedora Linux 42 Kernel: 5.15 Compiler: clang gcc (GCC) 15.2.1 20250808 (Red Hat 15.2.1-1) CentOS Stream 9 Kernel: 5.15 Compiler: gcc gcc (GCC) 11.5.0 20240719 (Red Hat 11.5.0-11) Ubuntu 22.04 Kernel: 5.15 Compiler: gcc gcc (Ubuntu 11.4.0-1ubuntu1~22.04) 11.4.0 Red Hat Enterprise Linux 8.10 Kernel: 5.15 Compiler: gcc gcc (GCC) 8.5.0 20210514 (Red Hat 8.5.0-22) Fedora Linux 40 Kernel: 5.15 Compiler: gcc gcc (GCC) 14.2.1 20240912 (Red Hat 14.2.1-3) CentOS Stream 10 Kernel: 5.15 Compiler: gcc gcc (GCC) 14.2.1 20250110 (Red Hat 14.2.1-8) Ubuntu 24.04 Kernel: 5.15 Compiler: gcc gcc (Ubuntu 13.3.0-6ubuntu2~24.04) 13.3.0 Ubuntu 20.04 Kernel: 5.15 Compiler: gcc gcc (Ubuntu 9.4.0-1ubuntu1~20.04.2) 9.4.0 Fedora Linux 41 Kernel: 5.15 Compiler: gcc gcc (GCC) 14.3.1 20250523 (Red Hat 14.3.1-1) Debian GNU/Linux 12 Kernel: 5.15 Compiler: gcc gcc (Debian 12.2.0-14+deb12u1) 12.2.0 Red Hat Enterprise Linux 9.5 Kernel: 5.15 Compiler: gcc gcc (GCC) 11.5.0 20240719 (Red Hat 11.5.0-2) To view detailed results, visit: https://lab.dpdk.org/results/dashboard/patchsets/34472/ UNH-IOL DPDK Community Lab To manage your email subscriptions, visit: https://lab.dpdk.org/results/dashboard/preferences/subscriptions/