From mboxrd@z Thu Jan 1 00:00:00 1970 Return-Path: Received: from mails.dpdk.org (mails.dpdk.org [217.70.189.124]) by inbox.dpdk.org (Postfix) with ESMTP id E5F9B48A71 for ; Wed, 5 Nov 2025 14:34:06 +0100 (CET) Received: from mails.dpdk.org (localhost [127.0.0.1]) by mails.dpdk.org (Postfix) with ESMTP id E0F894021F; Wed, 5 Nov 2025 14:34:06 +0100 (CET) Received: from mail-pj1-f100.google.com (mail-pj1-f100.google.com [209.85.216.100]) by mails.dpdk.org (Postfix) with ESMTP id 711054021F for ; Wed, 5 Nov 2025 14:34:05 +0100 (CET) Received: by mail-pj1-f100.google.com with SMTP id 98e67ed59e1d1-341988c720aso975686a91.3 for ; Wed, 05 Nov 2025 05:34:05 -0800 (PST) DKIM-Signature: v=1; a=rsa-sha256; c=relaxed/relaxed; d=iol.unh.edu; s=unh-iol; t=1762349644; x=1762954444; darn=dpdk.org; h=references:in-reply-to:cc:to:from:subject:message-id:date:from:to :cc:subject:date:message-id:reply-to; bh=7TRkYPP+39jsgteNrXMnohx0oOYWTOBeSGQVdIHvmf8=; b=KDY0/oUr0DvnJngEbJGLVzly2TPHSHYQl4p6fYuHFAkdCoS9pBwFcbPzaG6wFCNdUA UnRyd7q6+bcDlVKeTRfQC9jvmeQRGvKDoYL0L5FrD4X+4pnYlenTMKTO9MVlMty8gr13 e4cdzvZV538HnEM402LD4n/8B2el9ZuA9tdWU= X-Google-DKIM-Signature: v=1; a=rsa-sha256; c=relaxed/relaxed; d=1e100.net; s=20230601; t=1762349644; x=1762954444; h=references:in-reply-to:cc:to:from:subject:message-id:date :x-gm-message-state:from:to:cc:subject:date:message-id:reply-to; bh=7TRkYPP+39jsgteNrXMnohx0oOYWTOBeSGQVdIHvmf8=; b=uFsuNyT/kKWSROEdx56L/3euQbQn7qkB6bw/ReKqr2XsvrJCKIodx2ruF6f3Yrq+V2 rt+l3RZVQkxjj1Iw+ye9GIVaTWIFMFv4ew0+YhPYGVFP5ZUASsmXRgPtq+X70pGTJhDE zib8POhrb2g0iV96URRifp1/ediIRJ6wxiC5EhWt6uEKPaYR+J3OVo4J+N1cEWOgrxNt hG+aNNpLxjLYgFfUagahIBXIu3xQNczE1R1RmuB6pnFg5x2NH+RGOjU1YZiN7jLQP8kj SucI7IbdBsIZT2c07ZmbIpYYdEZ+1fKHztMWyK6vTsW+V+a/3esbf7Qpq/t8Z5jUsIMv I66Q== X-Gm-Message-State: AOJu0YwQ1upE6fl4zUw7aTM5yobo9N+y3WZtq+eKdVCRIe5ZFM7mPR79 aYcS4zYv2Pdfs6xWHUaKpR9OrhStgRGoZAOAlhWpeya9dNSo5omfvuVePTFCtiE9aBXla1LC1k2 /nanFCB7Xx6ZIXXEp8CWUWRfdtdBjga/FuSu1XUTMvSjg X-Gm-Gg: ASbGncuYnrzPce8NFdCMJ6qvT3OR/v+KOeFWyO5XS2RkO40OaKrUc271W97EeS0HzkH m1haXmz6HOSy+ms8Wj/gowYnUzCem+qXDA1i7HwV/gOSF8gMtBlFdXeL9dbd3rxJwQ5XNGAK4+M Wo9wx9uMZyQsR6pttwNT7linjh8lqoITmpsJ1FTyWQ2WYGuIHzHkOZCyc3ukpcA86UePtwDbuXT ZZpy5a25ccvCsqEuHNPKReZ/WGtAKDL6mfy8n7cB0nxsMplhsIgZq75G/8nC7os9Hp40VMpVxYs afSmMsp6p895olJmuGAwfaxqw0oYbw9YnTOohoj7o8FI0TX5sfXW7Ib586jB32fiPng4cZCE6xq dtCGCRVZcf6K6Uh/2SyK+F801MncYxco= X-Google-Smtp-Source: AGHT+IEzlH+SXrLVof0URZR7mMmSRXrZRGjsZMvCqMmbj08pBCPty5QO2Hprnm93bpkMkRSb1aF7749tLvIy X-Received: by 2002:a17:902:d2ca:b0:295:290d:4afa with SMTP id d9443c01a7336-2962ad3b1b7mr45163065ad.23.1762349644675; Wed, 05 Nov 2025 05:34:04 -0800 (PST) Received: from postal.iol.unh.edu (postal.iol.unh.edu. [132.177.123.84]) by smtp-relay.gmail.com with ESMTPS id d9443c01a7336-29601a3c0acsm5580945ad.46.2025.11.05.05.34.04 (version=TLS1_2 cipher=ECDHE-ECDSA-AES128-GCM-SHA256 bits=128/128); Wed, 05 Nov 2025 05:34:04 -0800 (PST) X-Relaying-Domain: iol.unh.edu Date: Wed, 05 Nov 2025 05:34:04 -0800 (PST) Message-ID: <690b524c.170a0220.176b2b.e934SMTPIN_ADDED_MISSING@mx.google.com> Received: from [172.21.0.10] (unknown [172.18.0.240]) by postal.iol.unh.edu (Postfix) with ESMTP id CEE576051830; Wed, 5 Nov 2025 08:34:03 -0500 (EST) Subject: |SUCCESS| pw158444-158448 [PATCH] [v3,5/5] drivers: net/cnxk: enable From: dpdklab@iol.unh.edu To: Test Report Cc: dpdk-test-reports@iol.unh.edu In-Reply-To: <20251105070932.3569572-5-rkudurumalla@marvell.com> References: <20251105070932.3569572-5-rkudurumalla@marvell.com> Content-Type: text/plain X-BeenThere: test-report@dpdk.org X-Mailman-Version: 2.1.29 Precedence: list List-Id: automatic DPDK test reports List-Unsubscribe: , List-Archive: List-Post: List-Help: List-Subscribe: , Errors-To: test-report-bounces@dpdk.org Test-Label: iol-compile-arm64-testing Test-Status: SUCCESS http://dpdk.org/patch/158448 _Testing PASS_ Submitter: Rakesh Kudurumalla Date: Wednesday, November 05 2025 07:09:32 DPDK git baseline: Repo:dpdk-next-net-mrvl Branch: master CommitID:1bdf2b3c27880f1d90df46a89d5643f20587a973 158444-158448 --> testing pass Upstream job id: Generic-DPDK-Compile-Meson#440865 Test environment and result as below: +------------------------------+--------------------+ | Environment | dpdk_meson_compile | +==============================+====================+ | Fedora Linux 42 | PASS | +------------------------------+--------------------+ | Debian GNU/Linux 12 | PASS | +------------------------------+--------------------+ | Ubuntu 20.04 | PASS | +------------------------------+--------------------+ | Red Hat Enterprise Linux 9.5 | PASS | +------------------------------+--------------------+ | Ubuntu 22.04 | PASS | +------------------------------+--------------------+ | Ubuntu 24.04 | PASS | +------------------------------+--------------------+ | CentOS Stream 10 | PASS | +------------------------------+--------------------+ | CentOS Stream 9 | PASS | +------------------------------+--------------------+ Fedora Linux 42 Kernel: 5.4 Compiler: gcc gcc (GCC) 15.2.1 20250808 (Red Hat 15.2.1-1) Debian GNU/Linux 12 Kernel: 5.4 Compiler: gcc gcc (Debian 12.2.0-14+deb12u1) 12.2.0 Ubuntu 20.04 Kernel: 5.15 Compiler: aarch64-linux-gnu-gcc gcc (Ubuntu 9.4.0-1ubuntu1~20.04.2) 9.4.0 Red Hat Enterprise Linux 9.5 Kernel: 5.4 Compiler: gcc gcc (GCC) 11.5.0 20240719 (Red Hat 11.5.0-2) Ubuntu 22.04 Kernel: 5.4 Compiler: gcc gcc (Ubuntu 11.4.0-1ubuntu1~22.04) 11.4.0 Ubuntu 24.04 Kernel: 5.4 Compiler: gcc gcc (Ubuntu 13.3.0-6ubuntu2~24.04) 13.3.0 CentOS Stream 10 Kernel: 5.4 Compiler: gcc gcc (GCC) 14.2.1 20250110 (Red Hat 14.2.1-8) CentOS Stream 9 Kernel: 5.4 Compiler: gcc gcc (GCC) 11.5.0 20240719 (Red Hat 11.5.0-11) To view detailed results, visit: https://lab.dpdk.org/results/dashboard/patchsets/34465/ UNH-IOL DPDK Community Lab To manage your email subscriptions, visit: https://lab.dpdk.org/results/dashboard/preferences/subscriptions/