From mboxrd@z Thu Jan 1 00:00:00 1970 Return-Path: Received: from mails.dpdk.org (mails.dpdk.org [217.70.189.124]) by inbox.dpdk.org (Postfix) with ESMTP id 1DA7F48A71 for ; Wed, 5 Nov 2025 14:34:32 +0100 (CET) Received: from mails.dpdk.org (localhost [127.0.0.1]) by mails.dpdk.org (Postfix) with ESMTP id 183364021F; Wed, 5 Nov 2025 14:34:32 +0100 (CET) Received: from mail-yx1-f99.google.com (mail-yx1-f99.google.com [74.125.224.99]) by mails.dpdk.org (Postfix) with ESMTP id CBFAC4021F for ; Wed, 5 Nov 2025 14:34:30 +0100 (CET) Received: by mail-yx1-f99.google.com with SMTP id 956f58d0204a3-63fbed0f71aso2672733d50.0 for ; Wed, 05 Nov 2025 05:34:30 -0800 (PST) DKIM-Signature: v=1; a=rsa-sha256; c=relaxed/relaxed; d=iol.unh.edu; s=unh-iol; t=1762349670; x=1762954470; darn=dpdk.org; h=references:in-reply-to:cc:to:from:subject:message-id:date:from:to :cc:subject:date:message-id:reply-to; bh=xhD/BPpPYiNE5G7Oc3NAArSYH712eqF535Q68jbFtGs=; b=emXG7NL0Iks9JwQbH1yVG5T+z7Rt5SpAG64LFgGoIWvD86rqfLOxWwZ/832YL4VbX+ wZq1MqNa89ZdAqOQ7DhNeORLKmJEXopIizfHCwli+LLi8pcv2qh0orDW+1/uNwUthRgj Gt7Zr7Xzmrne37l+zCb9m/IoUQnAezk+p5uqQ= X-Google-DKIM-Signature: v=1; a=rsa-sha256; c=relaxed/relaxed; d=1e100.net; s=20230601; t=1762349670; x=1762954470; h=references:in-reply-to:cc:to:from:subject:message-id:date :x-gm-message-state:from:to:cc:subject:date:message-id:reply-to; bh=xhD/BPpPYiNE5G7Oc3NAArSYH712eqF535Q68jbFtGs=; b=qWjXQRZr+C0W2v/3Ew0BorPl6Utf8XTyGTk6MOwNNuVF0pqF1xde33rNzlEUiJ4UCw uNAP0feluMktEY84aOFkf2TCvQSdhh9Jv2y4PoM8Rj7FgRhL/tpw4V5KoyivXTzt4G1z UsrQaS8o2RHImhpVvfA2HlJqEfk/A4IZqX2anibZpUrQR6j9b1NEGAV3JHWdmKCYUUnL eSyO5dDbojIzCgjP1/FcHZkWw8377f+ySL22csgRelVkLUlCo2v7lMHRz9evqt5xkUf3 pOtgXGBJCPPCRqyTM7mh5ojOwLyJSs/hZc0hSCsLsOO6Wq8MM9Af6u/WQJzNB6ux0AEx GBQQ== X-Gm-Message-State: AOJu0YwgL5N5P1N5Zfmi0z/z8kwV54shUXNhaT4YAs8hoV9fWDtUP013 b2P6BLu4G8pBtUAYUorCLkk3RVW9ND+3pf8KhWSgu7HEk/j6vxWoNrizebs+0JTVSjHrkURL37H s4sYgqO1J+aLKLWh8iInyswyBg0AnIUV2h+9RzVSiXAFi X-Gm-Gg: ASbGncsHNFT+YvoKAy4PrunoyCOAsMvfgKdachh5XshM1bHQVVNpl4vBhnpRvi3if04 lV/vFv+OSPIQQAqlHyNfmC3qZRLHXLhyxuOcYn2Yt7RmMNMabCKANQybAEA15khvBoFYtJmTCTl 9COaJSt4TxN3Qt79NCihVyejjzpuqiH5WYJIK0HZNfGqeYXqqsS5thPdrUYY3SgFSj/7rZHlUUe MypPA9h8hgV0rcFaZ6lOOkWxnA/fLe2w6bVnDxniSz94SKQtVM0NDUVWWbyeY3kq7TDYYd8jtHz 5YqsIKmOBuXz3ArjqVkBZjHci24lQ//e74gP53YZxSazgpUjxfMtmFYXZe1c4SA6OaxB2nCneVk oV8+GNoWBTycZcTGaKOWEIuAb7M8OuQo= X-Google-Smtp-Source: AGHT+IEQ0Iq10yqtogA/RM3p30PWw50QKgHOuVEEAftH1vW4N9NeL7x76/xw8K6mfx7VRvv8Pi14LYwt3Gxc X-Received: by 2002:a53:b10d:0:b0:63f:b922:ed8e with SMTP id 956f58d0204a3-63fd34b5f73mr2010480d50.3.1762349670184; Wed, 05 Nov 2025 05:34:30 -0800 (PST) Received: from postal.iol.unh.edu (postal.iol.unh.edu. [132.177.123.84]) by smtp-relay.gmail.com with ESMTPS id 956f58d0204a3-6406d2f57basm53409d50.12.2025.11.05.05.34.30 (version=TLS1_2 cipher=ECDHE-ECDSA-AES128-GCM-SHA256 bits=128/128); Wed, 05 Nov 2025 05:34:30 -0800 (PST) X-Relaying-Domain: iol.unh.edu Date: Wed, 05 Nov 2025 05:34:30 -0800 (PST) Message-ID: <690b5266.050a0220.304956.2e13SMTPIN_ADDED_MISSING@mx.google.com> Received: from [172.21.0.8] (unknown [172.18.0.240]) by postal.iol.unh.edu (Postfix) with ESMTP id D82C16051830; Wed, 5 Nov 2025 08:34:29 -0500 (EST) Subject: |SUCCESS| pw158444-158448 [PATCH] [v3,5/5] drivers: net/cnxk: enable From: dpdklab@iol.unh.edu To: Test Report Cc: dpdk-test-reports@iol.unh.edu In-Reply-To: <20251105070932.3569572-5-rkudurumalla@marvell.com> References: <20251105070932.3569572-5-rkudurumalla@marvell.com> Content-Type: text/plain X-BeenThere: test-report@dpdk.org X-Mailman-Version: 2.1.29 Precedence: list List-Id: automatic DPDK test reports List-Unsubscribe: , List-Archive: List-Post: List-Help: List-Subscribe: , Errors-To: test-report-bounces@dpdk.org Test-Label: iol-compile-arm64-testing Test-Status: SUCCESS http://dpdk.org/patch/158448 _Testing PASS_ Submitter: Rakesh Kudurumalla Date: Wednesday, November 05 2025 07:09:32 DPDK git baseline: Repo:dpdk-next-net-mrvl Branch: master CommitID:1bdf2b3c27880f1d90df46a89d5643f20587a973 158444-158448 --> testing pass Upstream job id: Generic-DPDK-Compile-Meson#440871 Test environment and result as below: +------------------------------+--------------------+ | Environment | dpdk_meson_compile | +==============================+====================+ | Fedora Linux 42 | PASS | +------------------------------+--------------------+ | Debian GNU/Linux 12 | PASS | +------------------------------+--------------------+ | Ubuntu 20.04 | PASS | +------------------------------+--------------------+ | Red Hat Enterprise Linux 9.5 | PASS | +------------------------------+--------------------+ | Ubuntu 22.04 | PASS | +------------------------------+--------------------+ | Ubuntu 24.04 | PASS | +------------------------------+--------------------+ | CentOS Stream 10 | PASS | +------------------------------+--------------------+ | CentOS Stream 9 | PASS | +------------------------------+--------------------+ Fedora Linux 42 Kernel: 5.4 Compiler: gcc gcc (GCC) 15.2.1 20250808 (Red Hat 15.2.1-1) Debian GNU/Linux 12 Kernel: 5.4 Compiler: gcc gcc (Debian 12.2.0-14+deb12u1) 12.2.0 Ubuntu 20.04 Kernel: 5.15 Compiler: aarch64-linux-gnu-gcc gcc (Ubuntu 9.4.0-1ubuntu1~20.04.2) 9.4.0 Red Hat Enterprise Linux 9.5 Kernel: 5.4 Compiler: gcc gcc (GCC) 11.5.0 20240719 (Red Hat 11.5.0-2) Ubuntu 22.04 Kernel: 5.4 Compiler: gcc gcc (Ubuntu 11.4.0-1ubuntu1~22.04) 11.4.0 Ubuntu 24.04 Kernel: 5.4 Compiler: gcc gcc (Ubuntu 13.3.0-6ubuntu2~24.04) 13.3.0 CentOS Stream 10 Kernel: 5.4 Compiler: gcc gcc (GCC) 14.2.1 20250110 (Red Hat 14.2.1-8) CentOS Stream 9 Kernel: 5.4 Compiler: gcc gcc (GCC) 11.5.0 20240719 (Red Hat 11.5.0-11) To view detailed results, visit: https://lab.dpdk.org/results/dashboard/patchsets/34465/ UNH-IOL DPDK Community Lab To manage your email subscriptions, visit: https://lab.dpdk.org/results/dashboard/preferences/subscriptions/