From mboxrd@z Thu Jan 1 00:00:00 1970 Return-Path: Received: from mails.dpdk.org (mails.dpdk.org [217.70.189.124]) by inbox.dpdk.org (Postfix) with ESMTP id 29DE948A71 for ; Wed, 5 Nov 2025 14:34:34 +0100 (CET) Received: from mails.dpdk.org (localhost [127.0.0.1]) by mails.dpdk.org (Postfix) with ESMTP id 2336A4021F; Wed, 5 Nov 2025 14:34:34 +0100 (CET) Received: from mail-ua1-f98.google.com (mail-ua1-f98.google.com [209.85.222.98]) by mails.dpdk.org (Postfix) with ESMTP id A775D4066C for ; Wed, 5 Nov 2025 14:34:32 +0100 (CET) Received: by mail-ua1-f98.google.com with SMTP id a1e0cc1a2514c-934f0e9d4afso2797591241.1 for ; Wed, 05 Nov 2025 05:34:32 -0800 (PST) DKIM-Signature: v=1; a=rsa-sha256; c=relaxed/relaxed; d=iol.unh.edu; s=unh-iol; t=1762349672; x=1762954472; darn=dpdk.org; h=references:in-reply-to:cc:to:from:subject:message-id:date:from:to :cc:subject:date:message-id:reply-to; bh=Hjb/bHpS3Q+MujIqywo3ebcPouTA4yJp86ASLrWni3c=; b=TG7RRtNwrgoffenZupKTAkL0bs0BMWPRWa03x7dLEGpb8vp/IiquYnrua6Kq56ze8p A7rIb8OolN1NcQMjhdvNpLEAiSSzqoJBA6+rCfZeHPR8aWQGrH5mBzJuHgGY5Zro6ohn 56mC9oo8XvULilLHQ1vvejlIIuUWpNZQ12OZs= X-Google-DKIM-Signature: v=1; a=rsa-sha256; c=relaxed/relaxed; d=1e100.net; s=20230601; t=1762349672; x=1762954472; h=references:in-reply-to:cc:to:from:subject:message-id:date :x-gm-message-state:from:to:cc:subject:date:message-id:reply-to; bh=Hjb/bHpS3Q+MujIqywo3ebcPouTA4yJp86ASLrWni3c=; b=DJxh58GpFyXLbjACSAci5nXfO6Rsd0DPCAKMZIFiPblFqEn8I9Q2qVL3nOIDkmhuZc aLj4oITAQ+J8as4ZayTvMkOyGresDTVctfswa710FeESJveAfvN0iId4yiUzWBR2u9bw 2OexhtTh9ezyFjgHkjzk6vL8Y8nVxm+Z5Igp2xfu+KmtFqbv718+QuMTNXPmrHyPfHFT zazp1fdXUvN2fJyDTqBfrS50y+DKFdwxYe6/YVK06PJJuvwxiP8UvykOG2BfeEHTMJcy I0DFWPREOsXFYtcayNl0rSSHnf5esJ/lGtuEObAekCLkUBFCbkffQzPeuZKYaKYu+QUc O51w== X-Gm-Message-State: AOJu0Yy0mbKmQeDw4L2+xo7G/uoU6pxAqjkueHBAKNGhTo76Ei4LFmeQ jMjjAg5u5C/CBWXUXPJufcDzF7pLozOlYXSK0Fq1kKthblzsB2LWWJEgEHykRlzRGLx2KcyeD2E P1FoNMAv/LAkASDjRMYj6AWiE4paKmuAAnzf65xe4HKVUIkA0EUdd9HfKisci X-Gm-Gg: ASbGncvk981y4GNDRCUNbZcEOYVGJOouqeY/+jZCFvdx4uGdoCBVuKEopMWOUytrsUL i4iIvoKJc1P0kldWlOHu4skaT7egx6JJghxHSNqghw/k7oU1btSq/0NLtN7eILTK4RKnNiaITiN wZBUUc9Sve/IjoTACuLIgTou44GrT/CtejHi5ffMxET3e65HlE2GkhSMfKf6acb8n6pe/nVfu8F wEgUQJIVCtC7wzJ+oFx6EAbgH2+cCXWIxBoRNlmUKuiZZKvLbNvt428F4lWH3DETJImjZQr7bAW PQ9Hse5z2xdVKG/Jg4t9Z5ld+e7D6vS12EGZ7tULI994EfLEexIS+gqqbGvZxEu1tyxWGvsx7lb myquLPdPe X-Google-Smtp-Source: AGHT+IG5DkMpoiGA2HE4MSFSlYR/Cc4p8dRlkSwM84GwH0RmoDAZnedkNJzfaudN4yuWQTyfFftTgEyBhf/W X-Received: by 2002:a05:6122:792:b0:559:65d6:1678 with SMTP id 71dfb90a1353d-559863e63aemr1262739e0c.16.1762349671916; Wed, 05 Nov 2025 05:34:31 -0800 (PST) Received: from postal.iol.unh.edu (postal.iol.unh.edu. [2606:4100:3880:1234::84]) by smtp-relay.gmail.com with ESMTPS id 71dfb90a1353d-55973ab7304sm493337e0c.0.2025.11.05.05.34.31 (version=TLS1_2 cipher=ECDHE-ECDSA-AES128-GCM-SHA256 bits=128/128); Wed, 05 Nov 2025 05:34:31 -0800 (PST) X-Relaying-Domain: iol.unh.edu Date: Wed, 05 Nov 2025 05:34:31 -0800 (PST) Message-ID: <690b5267.050a0220.21b642.ae55SMTPIN_ADDED_MISSING@mx.google.com> Received: from [172.21.0.14] (unknown [172.18.0.240]) by postal.iol.unh.edu (Postfix) with ESMTP id 75D3D6051830; Wed, 5 Nov 2025 08:34:31 -0500 (EST) Subject: |SUCCESS| pw158450 [PATCH] Revert "net/null: add fast mbuf release T From: dpdklab@iol.unh.edu To: Test Report Cc: dpdk-test-reports@iol.unh.edu, Stephen Hemminger In-Reply-To: <20251105081953.20153-1-mb@smartsharesystems.com> References: <20251105081953.20153-1-mb@smartsharesystems.com> Content-Type: text/plain X-BeenThere: test-report@dpdk.org X-Mailman-Version: 2.1.29 Precedence: list List-Id: automatic DPDK test reports List-Unsubscribe: , List-Archive: List-Post: List-Help: List-Subscribe: , Errors-To: test-report-bounces@dpdk.org Test-Label: iol-compile-arm64-testing Test-Status: SUCCESS http://dpdk.org/patch/158450 _Testing PASS_ Submitter: Morten Brorup Date: Wednesday, November 05 2025 08:19:52 DPDK git baseline: Repo:dpdk-next-net Branch: master CommitID:538052bb364db22ba8cc08b5e23a9e6d25a864a9 158450 --> testing pass Upstream job id: Generic-DPDK-Compile-Meson#440924 Test environment and result as below: +------------------------------+--------------------+ | Environment | dpdk_meson_compile | +==============================+====================+ | Ubuntu 20.04 | PASS | +------------------------------+--------------------+ | Red Hat Enterprise Linux 9.5 | PASS | +------------------------------+--------------------+ | Debian GNU/Linux 12 | PASS | +------------------------------+--------------------+ | Fedora Linux 42 | PASS | +------------------------------+--------------------+ | Ubuntu 22.04 | PASS | +------------------------------+--------------------+ | Ubuntu 24.04 | PASS | +------------------------------+--------------------+ | CentOS Stream 10 | PASS | +------------------------------+--------------------+ | CentOS Stream 9 | PASS | +------------------------------+--------------------+ Ubuntu 20.04 Kernel: 5.15 Compiler: gcc gcc (Ubuntu 9.4.0-1ubuntu1~20.04.2) 9.4.0 Red Hat Enterprise Linux 9.5 Kernel: 5.4 Compiler: gcc gcc (GCC) 11.5.0 20240719 (Red Hat 11.5.0-2) Debian GNU/Linux 12 Kernel: 5.4 Compiler: gcc gcc (Debian 12.2.0-14+deb12u1) 12.2.0 Fedora Linux 42 Kernel: 5.4 Compiler: gcc gcc (GCC) 15.2.1 20250808 (Red Hat 15.2.1-1) Ubuntu 22.04 Kernel: 5.4 Compiler: gcc gcc (Ubuntu 11.4.0-1ubuntu1~22.04) 11.4.0 Ubuntu 24.04 Kernel: 5.4 Compiler: gcc gcc (Ubuntu 13.3.0-6ubuntu2~24.04) 13.3.0 CentOS Stream 10 Kernel: 5.4 Compiler: gcc gcc (GCC) 14.2.1 20250110 (Red Hat 14.2.1-8) CentOS Stream 9 Kernel: 5.4 Compiler: gcc gcc (GCC) 11.5.0 20240719 (Red Hat 11.5.0-11) To view detailed results, visit: https://lab.dpdk.org/results/dashboard/patchsets/34467/ UNH-IOL DPDK Community Lab To manage your email subscriptions, visit: https://lab.dpdk.org/results/dashboard/preferences/subscriptions/