From mboxrd@z Thu Jan 1 00:00:00 1970 Return-Path: Received: from mails.dpdk.org (mails.dpdk.org [217.70.189.124]) by inbox.dpdk.org (Postfix) with ESMTP id 3443748A71 for ; Wed, 5 Nov 2025 14:34:38 +0100 (CET) Received: from mails.dpdk.org (localhost [127.0.0.1]) by mails.dpdk.org (Postfix) with ESMTP id 2EBE24021F; Wed, 5 Nov 2025 14:34:38 +0100 (CET) Received: from mail-pj1-f100.google.com (mail-pj1-f100.google.com [209.85.216.100]) by mails.dpdk.org (Postfix) with ESMTP id AC0DE4021F for ; Wed, 5 Nov 2025 14:34:36 +0100 (CET) Received: by mail-pj1-f100.google.com with SMTP id 98e67ed59e1d1-3401314d845so8700411a91.1 for ; Wed, 05 Nov 2025 05:34:36 -0800 (PST) DKIM-Signature: v=1; a=rsa-sha256; c=relaxed/relaxed; d=iol.unh.edu; s=unh-iol; t=1762349676; x=1762954476; darn=dpdk.org; h=references:in-reply-to:cc:to:from:subject:message-id:date:from:to :cc:subject:date:message-id:reply-to; bh=C86PhFCUh1Z6qiC8WcR91rzphfc4fX2OfBmFGxWhwfI=; b=Kj+Fu1UtsD3X+nB74BaVPWXbGqb4a7vP8OsdSpLTKuDqxPUli7uc8P79PLGMqxloAV nCTpMlyQoNAINTNTh7zMIEaVd5agGq0UN4GLmHQwerz4FzkdyK7c82I0bIwtbMapgnLk uT8wdIYVvcc8fPT5PtGXjzO2e1Iujes6rKBvo= X-Google-DKIM-Signature: v=1; a=rsa-sha256; c=relaxed/relaxed; d=1e100.net; s=20230601; t=1762349676; x=1762954476; h=references:in-reply-to:cc:to:from:subject:message-id:date :x-gm-message-state:from:to:cc:subject:date:message-id:reply-to; bh=C86PhFCUh1Z6qiC8WcR91rzphfc4fX2OfBmFGxWhwfI=; b=LNWDM3V/IjEWkNvI4OtbBNM0aoEXpQE3trNnqw4y1p7qvsZbbDKsArTiAE+CJ2FkId 5PgNfSAPm0l1oOtETTnNGIf2cOV4HOWLib3aGF+CKty5YSstB9WQr3vmJ4OHfyGn3flb 3zZNOdKt7XbIgKGaj06DUNnhL174r/XcxzWPfVJdch0MnJnZ8DVp6nBIUUsCQvIivKUR YeAZMHBbmSYaPmbhvlZNfygV6agpWt1Jpiv+xNsgCf1PbXgDOGF22yKY2oMPKS9EskQf 1syWzWMG5+65uzVXUL7auKWsIR7LUHC2/0VNTkv4xiCYhpVBaCT50OqTUmkmoEG4Svbs ZszA== X-Gm-Message-State: AOJu0YwIEuS0FJqqw8Fd8psOsJnB/PmYC1cwTlRmKGDJNhOBREwJWg6b lB0xGjEmxij729InMzFYTJ3n8M2AXF0E42R7IY4G5ZP+CNVi5LRfuxd87jB4jzZ1hanGmvwg5Tl wRj8Z3CEaW+JW5szJdGM9e0uLoJWLir554+9FxbCkMsJZ X-Gm-Gg: ASbGncu7VgCNbYiWUV7X50lDW/GOWSDmawQNAEGUwj+VZTtA0/HCfNqy9TZ872lq32v fUTg19ZItqmD26D3tpqs1Em94doykAebnijXpm8WP6bzayQTc3gJc4OeWddAsSZfpVyiCsI9oWA 0PHJ6j2Ernye7sgZ7dgjJi2WocHtUwyuF1XqCR7bnICnuFkZcgcXRHo/Lmw0fQu0Q5ZFpdF0t/B vycKt1Wu2Z592oq2tzTHd+HMRWnVhAnRBAkt0lzKJRM9mbmj8T4j6agIBAP8HD3TMTch9QrpW/8 7Cnv1FdR8XUkEYobjK9jlGhh4Ih2/BzMTPrmvu2TO2RESmRbjcsKx5/0+Qmei7zKHBVJ8i3h5Ew tOPVUeGvzof44rBZzztqOA0ee9q2Z16M= X-Google-Smtp-Source: AGHT+IG1afXWKqYlYgi84KqiR1GmvWRi4S7wD7AGFoyTPwL6lzhjqoXS3ojBBzYx3eQP+vIJist2i+GM1XAg X-Received: by 2002:a17:90a:d40b:b0:33f:ebc2:645 with SMTP id 98e67ed59e1d1-341a6dc3efdmr4094397a91.20.1762349675895; Wed, 05 Nov 2025 05:34:35 -0800 (PST) Received: from postal.iol.unh.edu (postal.iol.unh.edu. [132.177.123.84]) by smtp-relay.gmail.com with ESMTPS id 98e67ed59e1d1-341a6916acdsm222576a91.3.2025.11.05.05.34.35 (version=TLS1_2 cipher=ECDHE-ECDSA-AES128-GCM-SHA256 bits=128/128); Wed, 05 Nov 2025 05:34:35 -0800 (PST) X-Relaying-Domain: iol.unh.edu Date: Wed, 05 Nov 2025 05:34:35 -0800 (PST) Message-ID: <690b526b.170a0220.2b2d98.d685SMTPIN_ADDED_MISSING@mx.google.com> Received: from [172.21.0.7] (unknown [172.18.0.240]) by postal.iol.unh.edu (Postfix) with ESMTP id 259126051830; Wed, 5 Nov 2025 08:34:35 -0500 (EST) Subject: |SUCCESS| pw158444-158448 [PATCH] [v3,5/5] drivers: net/cnxk: enable From: dpdklab@iol.unh.edu To: Test Report Cc: dpdk-test-reports@iol.unh.edu In-Reply-To: <20251105070932.3569572-5-rkudurumalla@marvell.com> References: <20251105070932.3569572-5-rkudurumalla@marvell.com> Content-Type: text/plain X-BeenThere: test-report@dpdk.org X-Mailman-Version: 2.1.29 Precedence: list List-Id: automatic DPDK test reports List-Unsubscribe: , List-Archive: List-Post: List-Help: List-Subscribe: , Errors-To: test-report-bounces@dpdk.org Test-Label: iol-compile-arm64-testing Test-Status: SUCCESS http://dpdk.org/patch/158448 _Testing PASS_ Submitter: Rakesh Kudurumalla Date: Wednesday, November 05 2025 07:09:32 DPDK git baseline: Repo:dpdk-next-net-mrvl Branch: master CommitID:1bdf2b3c27880f1d90df46a89d5643f20587a973 158444-158448 --> testing pass Upstream job id: Generic-DPDK-Compile-Meson#440869 Test environment and result as below: +------------------------------+--------------------+ | Environment | dpdk_meson_compile | +==============================+====================+ | Fedora Linux 42 | PASS | +------------------------------+--------------------+ | Debian GNU/Linux 12 | PASS | +------------------------------+--------------------+ | Ubuntu 20.04 | PASS | +------------------------------+--------------------+ | Red Hat Enterprise Linux 9.5 | PASS | +------------------------------+--------------------+ | Ubuntu 22.04 | PASS | +------------------------------+--------------------+ | Ubuntu 24.04 | PASS | +------------------------------+--------------------+ | CentOS Stream 10 | PASS | +------------------------------+--------------------+ | CentOS Stream 9 | PASS | +------------------------------+--------------------+ Fedora Linux 42 Kernel: 5.4 Compiler: gcc gcc (GCC) 15.2.1 20250808 (Red Hat 15.2.1-1) Debian GNU/Linux 12 Kernel: 5.4 Compiler: gcc gcc (Debian 12.2.0-14+deb12u1) 12.2.0 Ubuntu 20.04 Kernel: 5.15 Compiler: aarch64-linux-gnu-gcc gcc (Ubuntu 9.4.0-1ubuntu1~20.04.2) 9.4.0 Red Hat Enterprise Linux 9.5 Kernel: 5.4 Compiler: gcc gcc (GCC) 11.5.0 20240719 (Red Hat 11.5.0-2) Ubuntu 22.04 Kernel: 5.4 Compiler: gcc gcc (Ubuntu 11.4.0-1ubuntu1~22.04) 11.4.0 Ubuntu 24.04 Kernel: 5.4 Compiler: gcc gcc (Ubuntu 13.3.0-6ubuntu2~24.04) 13.3.0 CentOS Stream 10 Kernel: 5.4 Compiler: gcc gcc (GCC) 14.2.1 20250110 (Red Hat 14.2.1-8) CentOS Stream 9 Kernel: 5.4 Compiler: gcc gcc (GCC) 11.5.0 20240719 (Red Hat 11.5.0-11) To view detailed results, visit: https://lab.dpdk.org/results/dashboard/patchsets/34465/ UNH-IOL DPDK Community Lab To manage your email subscriptions, visit: https://lab.dpdk.org/results/dashboard/preferences/subscriptions/