From mboxrd@z Thu Jan 1 00:00:00 1970 Return-Path: Received: from mails.dpdk.org (mails.dpdk.org [217.70.189.124]) by inbox.dpdk.org (Postfix) with ESMTP id A11C148A71 for ; Wed, 5 Nov 2025 14:37:45 +0100 (CET) Received: from mails.dpdk.org (localhost [127.0.0.1]) by mails.dpdk.org (Postfix) with ESMTP id 846054021F; Wed, 5 Nov 2025 14:37:45 +0100 (CET) Received: from mail-pj1-f97.google.com (mail-pj1-f97.google.com [209.85.216.97]) by mails.dpdk.org (Postfix) with ESMTP id 0DB0B4021F for ; Wed, 5 Nov 2025 14:37:44 +0100 (CET) Received: by mail-pj1-f97.google.com with SMTP id 98e67ed59e1d1-339d7c403b6so6484898a91.2 for ; Wed, 05 Nov 2025 05:37:43 -0800 (PST) DKIM-Signature: v=1; a=rsa-sha256; c=relaxed/relaxed; d=iol.unh.edu; s=unh-iol; t=1762349863; x=1762954663; darn=dpdk.org; h=references:in-reply-to:cc:to:from:subject:message-id:date:from:to :cc:subject:date:message-id:reply-to; bh=lpVSQegTPa+O5DcdcJq5C1x//vg6OtNDoVLPlGEZIfQ=; b=SM+vaFWfVsFOJ97WRhWbPpkTXgS2rTfLrdP57gQD4+xh4ppNQqbiTApn0SKUEgyJDC lph3P/wd9t87vD4iyR4OzGpzJ3f/nPt51/OEvyT0YVoXgSmOTgo0PWpkpBpuzC2HvHhU HRxbq2riwurJe0OV5yPhnfFfNc2bJBMaQUmRw= X-Google-DKIM-Signature: v=1; a=rsa-sha256; c=relaxed/relaxed; d=1e100.net; s=20230601; t=1762349863; x=1762954663; h=references:in-reply-to:cc:to:from:subject:message-id:date :x-gm-message-state:from:to:cc:subject:date:message-id:reply-to; bh=lpVSQegTPa+O5DcdcJq5C1x//vg6OtNDoVLPlGEZIfQ=; b=TQfxzzlXr81mLqobQE5Z5+jMX71B7zehIAezmreslagdojt+rKIzaNSW3kfXw+ucm7 3bXEETnLCL68REC3ZutBOtdKFqQ/6sjcER7T5fJ1S7i6F+wvnypBhmfteBH0jNsfsDs1 UWC9hqootu9ubvogsTIJglRz9CT0kyRdxsOB5XVeRsff8aTr/Qu09sY2DrWRcsWr0JUk cOtwNXPGwZuGvxY1EPKA6q/YGaMY1fk+DbT3h4TjMYzLb35nrf1jfLDxsPjtUKIqhqbV 6G+Mfb45cHUU5Q3b6hMPkL+QwZgfhK+foTyBZRPIVj8yF7x5PoI+5JBwiDWsaOnV1m8x 4Azw== X-Gm-Message-State: AOJu0YwQhwhkYUqzTw8hx0dcyQizJ7CNN6jN055MVoTAfG5xJySwM0gb 8JuWeHZlKHAMpb1MFisK4Doy4UOclsxvHPN28Hii3jORE0ibX98BqK9howekshMGkT00wzYwBwA Cvzk+28fKFQy0DCFaKhRZlCoXxPeBObWXorTOUPkc8darxiEkA+l2s05CAV1T X-Gm-Gg: ASbGnctuotPUohRX54dh4ghjJGC1D1qnM4AUZ895nFQuAU80ab6J7P+wpz449Cw+5tL /Yac+MkZmRnbHRVHSL9qzDbPeshPXQVWJGHiS+NpNVAkBUCnwEmqi/GABBFWy4A+7C0ZO5XJWze 0SynSOguYiPMXJWMoVewhseV0wS54Y+bkbP71iQsOcEd/9JkM+QWkZy5+n6+wF6agZt8bYjq76/ KrHPv6NEZr6Ixfy1ZWfifctpTaXOf6xJaokSNlaAkDlejsElfa7l31voSgL1of6oX8zqXip+d6m ZwGVrfBuDvCYutH7FfHUDwbiya+mC3tL56FJtbsXtKPRQdwmvC894nxqafWDuxvsDEWAW48OP2v Jopp7se9z X-Google-Smtp-Source: AGHT+IEX9L4OkYaYswV8nOtEHOgxxrFOGeDjRm32Yn1uuvJMh/10IT7RWpmtYwywBLK7vOtoXiK3rWCCGJP+ X-Received: by 2002:a17:90b:2243:b0:340:5c27:a096 with SMTP id 98e67ed59e1d1-341a6c2c4cbmr3959375a91.6.1762349863061; Wed, 05 Nov 2025 05:37:43 -0800 (PST) Received: from postal.iol.unh.edu (postal.iol.unh.edu. [2606:4100:3880:1234::84]) by smtp-relay.gmail.com with ESMTPS id 98e67ed59e1d1-341abdc9047sm202902a91.6.2025.11.05.05.37.42 (version=TLS1_2 cipher=ECDHE-ECDSA-AES128-GCM-SHA256 bits=128/128); Wed, 05 Nov 2025 05:37:43 -0800 (PST) X-Relaying-Domain: iol.unh.edu Date: Wed, 05 Nov 2025 05:37:43 -0800 (PST) Message-ID: <690b5327.170a0220.18bf95.ab27SMTPIN_ADDED_MISSING@mx.google.com> Received: from [172.21.0.3] (unknown [172.18.0.240]) by postal.iol.unh.edu (Postfix) with ESMTP id 761996051830; Wed, 5 Nov 2025 08:37:42 -0500 (EST) Subject: |SUCCESS| pw158455-158457 [PATCH] [v2,3/3] app/testpmd: support paus From: dpdklab@iol.unh.edu To: Test Report Cc: dpdk-test-reports@iol.unh.edu, Stephen Hemminger In-Reply-To: <20251105094748.3269-4-fengchengwen@huawei.com> References: <20251105094748.3269-4-fengchengwen@huawei.com> Content-Type: text/plain X-BeenThere: test-report@dpdk.org X-Mailman-Version: 2.1.29 Precedence: list List-Id: automatic DPDK test reports List-Unsubscribe: , List-Archive: List-Post: List-Help: List-Subscribe: , Errors-To: test-report-bounces@dpdk.org Test-Label: iol-unit-amd64-testing Test-Status: SUCCESS http://dpdk.org/patch/158457 _Testing PASS_ Submitter: Chengwen Feng Date: Wednesday, November 05 2025 09:47:48 DPDK git baseline: Repo:dpdk-next-net Branch: master CommitID:538052bb364db22ba8cc08b5e23a9e6d25a864a9 158455-158457 --> testing pass Upstream job id: Generic-VM-Unit-Test-DPDK#32310 Test environment and result as below: +-------------------------------+----------------+ | Environment | dpdk_unit_test | +===============================+================+ | CentOS Stream 9 | PASS | +-------------------------------+----------------+ | Red Hat Enterprise Linux 8.10 | PASS | +-------------------------------+----------------+ | Fedora Linux 41 | PASS | +-------------------------------+----------------+ | Ubuntu 22.04 | PASS | +-------------------------------+----------------+ | Fedora Linux 42 | PASS | +-------------------------------+----------------+ | Debian GNU/Linux 12 | PASS | +-------------------------------+----------------+ | CentOS Stream 10 | PASS | +-------------------------------+----------------+ | Fedora Linux 40 | PASS | +-------------------------------+----------------+ | Red Hat Enterprise Linux 9.5 | PASS | +-------------------------------+----------------+ | Ubuntu 24.04 | PASS | +-------------------------------+----------------+ | Ubuntu 20.04 | PASS | +-------------------------------+----------------+ | Windows Server 2022 | PASS | +-------------------------------+----------------+ CentOS Stream 9 Kernel: 5.15 Compiler: gcc gcc (GCC) 11.5.0 20240719 (Red Hat 11.5.0-11) Red Hat Enterprise Linux 8.10 Kernel: 5.15 Compiler: gcc gcc (GCC) 8.5.0 20210514 (Red Hat 8.5.0-22) Fedora Linux 41 Kernel: 5.15 Compiler: clang gcc (GCC) 14.3.1 20250523 (Red Hat 14.3.1-1) Ubuntu 22.04 Kernel: 5.15 Compiler: gcc gcc (Ubuntu 11.4.0-1ubuntu1~22.04) 11.4.0 Fedora Linux 42 Kernel: 5.15 Compiler: gcc gcc (GCC) 15.2.1 20250808 (Red Hat 15.2.1-1) Debian GNU/Linux 12 Kernel: 5.15 Compiler: gcc gcc (Debian 12.2.0-14+deb12u1) 12.2.0 CentOS Stream 10 Kernel: 5.15 Compiler: gcc gcc (GCC) 14.2.1 20250110 (Red Hat 14.2.1-8) Fedora Linux 40 Kernel: 5.15 Compiler: gcc gcc (GCC) 14.2.1 20240912 (Red Hat 14.2.1-3) Red Hat Enterprise Linux 9.5 Kernel: 5.15 Compiler: gcc gcc (GCC) 11.5.0 20240719 (Red Hat 11.5.0-2) Ubuntu 24.04 Kernel: 5.15 Compiler: gcc gcc (Ubuntu 13.3.0-6ubuntu2~24.04) 13.3.0 Ubuntu 20.04 Kernel: 5.15 Compiler: gcc gcc (Ubuntu 9.4.0-1ubuntu1~20.04.2) 9.4.0 Windows Server 2022 Kernel: 10.0.20348.2031 Compiler: clang 15.0.7, gcc 14.1.0 (MinGW), and MSVC VS 19.39.33521 To view detailed results, visit: https://lab.dpdk.org/results/dashboard/patchsets/34471/ UNH-IOL DPDK Community Lab To manage your email subscriptions, visit: https://lab.dpdk.org/results/dashboard/preferences/subscriptions/