From mboxrd@z Thu Jan 1 00:00:00 1970 Return-Path: Received: from mails.dpdk.org (mails.dpdk.org [217.70.189.124]) by inbox.dpdk.org (Postfix) with ESMTP id 7931948A71 for ; Wed, 5 Nov 2025 15:09:40 +0100 (CET) Received: from mails.dpdk.org (localhost [127.0.0.1]) by mails.dpdk.org (Postfix) with ESMTP id 71DB04021F; Wed, 5 Nov 2025 15:09:40 +0100 (CET) Received: from mail-qv1-f97.google.com (mail-qv1-f97.google.com [209.85.219.97]) by mails.dpdk.org (Postfix) with ESMTP id 527464021F for ; Wed, 5 Nov 2025 15:09:39 +0100 (CET) Received: by mail-qv1-f97.google.com with SMTP id 6a1803df08f44-78f30dac856so78654516d6.2 for ; Wed, 05 Nov 2025 06:09:39 -0800 (PST) DKIM-Signature: v=1; a=rsa-sha256; c=relaxed/relaxed; d=iol.unh.edu; s=unh-iol; t=1762351778; x=1762956578; darn=dpdk.org; h=references:in-reply-to:cc:to:from:subject:message-id:date:from:to :cc:subject:date:message-id:reply-to; bh=7xj8mq33kVxcH5BzFHYOFohD9+/BpX/mCap7pQYesdk=; b=CzMnfm/16XxKZqYoXsnbP4IwDpL5rAJyP/qVCGTQS3T2MPxrrQFifVpIRFwhj1GYFE W7EaIzwO5kpE/Nyc4lWSRyggqxFts/4llc4iVP48LnCSdIsN1jnRP51sCN8gnyGes9l9 kLeQh2nz9qL4DtncjMpUryWnqbsCjBl2nFe3w= X-Google-DKIM-Signature: v=1; a=rsa-sha256; c=relaxed/relaxed; d=1e100.net; s=20230601; t=1762351778; x=1762956578; h=references:in-reply-to:cc:to:from:subject:message-id:date :x-gm-message-state:from:to:cc:subject:date:message-id:reply-to; bh=7xj8mq33kVxcH5BzFHYOFohD9+/BpX/mCap7pQYesdk=; b=dwOxF56ttmpoflJ3LsouaHG3cDMDXVWiVtuh6ooxki7t9J0NclDrFHQIFORlOE7ln4 VS+xPHL4xenuBxsTV1cVtn+SqaiE/kAnzxq4IunOOBuSfd5XXy1Sq+Wbafbw7NTHcE2h 9mf4nGb201j/ilj1Z68eJgS7gi3VIW7NOpHd7+Q6JZBpMEB4l/EVPv6yOf2tFCkCgEj4 ByL4c8Odmk8/viwgKqhGFAj0CzSrmFXMYiXskPVXCKjS7CpXoqZ4xhHlYHdHkifixyTl r00/Nsq9b9aqgiDdRPV351noeL/5w/fbgWMXdJrY/H/jDnHlU5v36nvt8aRHEmTXBTUH YShQ== X-Gm-Message-State: AOJu0Yy45ztd+0I0vLeaC4K6yszoQwPiVKvxzqi/YN8R/s2EE3D1bVHy eToMcaQ/+ERnMHGeDCxvXxOGHVBBmeSZur4uRScJfiqQCHyMVN0TAm1GzKWAdJN7iOcdBWfjMbq lFvp81GbSJ8zMVzyhMCzapMAdYucUOGKjSb4NRJae9roG X-Gm-Gg: ASbGnctwchFWv+b/XJC5Aofg039jWBCF6oZwP7B5yRIy4Pcaf6JHXPEUZaNj8+dtrJg YNkk3aOet5rR1Bnayd/Ebb8nrLgd1k2SkJcBklqN1E7GIFX78/NEqrEAo/SpY2aB7iNpji98U3v CxwoD89KwYUDaqTFv1oheZSBO5/DV0ldWb2myYEyn924AGRgChphTXwGxIGP9238UPiEzZVpbce iNjCMyYB1aFea2zzbSRT5+SJdmPvl2nEtdiwqHTVWgKbo5gdmkXRX/zVKOORKyI15mAd81XOUw2 ttQTIsWo3m+D5+0LiIldFwIfsyfNLui2wd83IRCfOq4oLyh+rtaH3gCwZQRSNZ/AkHLKr65AuL2 wgmEii2NgIiotlGq+97j7nb8rfm/f3Dk= X-Google-Smtp-Source: AGHT+IHV8m9rAMdRSzPROC/y45ePUZRrCqC5FFNWPu8UH75jkxNVXYVYbBRUFNNzC4cMJQE8LT6/MY4sRi1j X-Received: by 2002:a05:6214:20a7:b0:880:4961:3aef with SMTP id 6a1803df08f44-88071186d0dmr43518266d6.5.1762351778366; Wed, 05 Nov 2025 06:09:38 -0800 (PST) Received: from postal.iol.unh.edu (postal.iol.unh.edu. [132.177.123.84]) by smtp-relay.gmail.com with ESMTPS id 6a1803df08f44-88060e47e8bsm5662116d6.22.2025.11.05.06.09.38 (version=TLS1_2 cipher=ECDHE-ECDSA-AES128-GCM-SHA256 bits=128/128); Wed, 05 Nov 2025 06:09:38 -0800 (PST) X-Relaying-Domain: iol.unh.edu Date: Wed, 05 Nov 2025 06:09:38 -0800 (PST) Message-ID: <690b5aa2.050a0220.29bda6.f4dbSMTPIN_ADDED_MISSING@mx.google.com> Received: from [172.21.0.3] (unknown [172.18.0.240]) by postal.iol.unh.edu (Postfix) with ESMTP id 1C62E6050A61; Wed, 5 Nov 2025 09:09:38 -0500 (EST) Subject: |SUCCESS| pw158453 [PATCH] net/mlx5: fix modify field action operati From: dpdklab@iol.unh.edu To: Test Report Cc: dpdk-test-reports@iol.unh.edu In-Reply-To: <20251105085049.110213-1-mkashani@nvidia.com> References: <20251105085049.110213-1-mkashani@nvidia.com> Content-Type: text/plain X-BeenThere: test-report@dpdk.org X-Mailman-Version: 2.1.29 Precedence: list List-Id: automatic DPDK test reports List-Unsubscribe: , List-Archive: List-Post: List-Help: List-Subscribe: , Errors-To: test-report-bounces@dpdk.org Test-Label: iol-compile-amd64-testing Test-Status: SUCCESS http://dpdk.org/patch/158453 _Testing PASS_ Submitter: Maayan Kashani Date: Wednesday, November 05 2025 08:50:49 DPDK git baseline: Repo:dpdk-next-net-mlx Branch: master CommitID:f1c1f82f2421be9ac2f46b4ec2a616ca28da4ca7 158453 --> testing pass Upstream job id: Windows-Compile-DPDK-Native#32133 Test environment and result as below: +-------------------------------+--------------------+------------------+-------------------+-------------------------+ | Environment | dpdk_meson_compile | dpdk_compile_ovs | dpdk_msvc_compile | dpdk_llvm_clang_compile | +===============================+====================+==================+===================+=========================+ | FreeBSD 14.2 | PASS | SKIPPED | SKIPPED | SKIPPED | +-------------------------------+--------------------+------------------+-------------------+-------------------------+ | Ubuntu 20.04 | PASS | SKIPPED | SKIPPED | SKIPPED | +-------------------------------+--------------------+------------------+-------------------+-------------------------+ | CentOS Stream 9 | PASS | SKIPPED | SKIPPED | SKIPPED | +-------------------------------+--------------------+------------------+-------------------+-------------------------+ | CentOS Stream 10 | PASS | SKIPPED | SKIPPED | SKIPPED | +-------------------------------+--------------------+------------------+-------------------+-------------------------+ | Fedora Linux 42 | PASS | PASS | SKIPPED | SKIPPED | +-------------------------------+--------------------+------------------+-------------------+-------------------------+ | openSUSE Leap 15.6 | PASS | SKIPPED | SKIPPED | SKIPPED | +-------------------------------+--------------------+------------------+-------------------+-------------------------+ | Debian GNU/Linux 12 | PASS | SKIPPED | SKIPPED | SKIPPED | +-------------------------------+--------------------+------------------+-------------------+-------------------------+ | Ubuntu 24.04 | PASS | PASS | SKIPPED | SKIPPED | +-------------------------------+--------------------+------------------+-------------------+-------------------------+ | Red Hat Enterprise Linux 8.10 | PASS | SKIPPED | SKIPPED | SKIPPED | +-------------------------------+--------------------+------------------+-------------------+-------------------------+ | Ubuntu 22.04 | PASS | SKIPPED | SKIPPED | SKIPPED | +-------------------------------+--------------------+------------------+-------------------+-------------------------+ | Alpine Linux 3.22.0 | PASS | SKIPPED | SKIPPED | SKIPPED | +-------------------------------+--------------------+------------------+-------------------+-------------------------+ | Red Hat Enterprise Linux 9.5 | PASS | SKIPPED | SKIPPED | SKIPPED | +-------------------------------+--------------------+------------------+-------------------+-------------------------+ | Windows Server 2022 | SKIPPED | SKIPPED | PASS | PASS | +-------------------------------+--------------------+------------------+-------------------+-------------------------+ FreeBSD 14.2 Kernel: 14.2-RELEASE Compiler: clang 18.1.6 Ubuntu 20.04 Kernel: 4.19 Compiler: gcc gcc (Ubuntu 9.4.0-1ubuntu1~20.04.2) 9.4.0 CentOS Stream 9 Kernel: 5.15 Compiler: gcc gcc (GCC) 11.5.0 20240719 (Red Hat 11.5.0-11) CentOS Stream 10 Kernel: 5.15 Compiler: gcc gcc (GCC) 14.2.1 20250110 (Red Hat 14.2.1-8) Fedora Linux 42 Kernel: 5.15 Compiler: clang gcc (GCC) 15.2.1 20250808 (Red Hat 15.2.1-1) openSUSE Leap 15.6 Kernel: 5.15 Compiler: gcc gcc (SUSE Linux) 7.5.0 Debian GNU/Linux 12 Kernel: 5.15 Compiler: gcc gcc (Debian 12.2.0-14+deb12u1) 12.2.0 Ubuntu 24.04 Kernel: 5.15 Compiler: gcc gcc (Ubuntu 13.3.0-6ubuntu2~24.04) 13.3.0 Red Hat Enterprise Linux 8.10 Kernel: 5.15 Compiler: gcc gcc (GCC) 8.5.0 20210514 (Red Hat 8.5.0-22) Ubuntu 22.04 Kernel: 5.15 Compiler: gcc gcc (Ubuntu 11.4.0-1ubuntu1~22.04) 11.4.0 Alpine Linux 3.22.0 Kernel: 5.15 Compiler: gcc gcc (Alpine 14.2.0) 14.2.0 Red Hat Enterprise Linux 9.5 Kernel: 5.15 Compiler: gcc gcc (GCC) 11.5.0 20240719 (Red Hat 11.5.0-2) Windows Server 2022 Kernel: 10.0.20348.2031 Compiler: clang 15.0.7, gcc 14.1.0 (MinGW), and MSVC VS 19.39.33521 To view detailed results, visit: https://lab.dpdk.org/results/dashboard/patchsets/34470/ UNH-IOL DPDK Community Lab To manage your email subscriptions, visit: https://lab.dpdk.org/results/dashboard/preferences/subscriptions/