From mboxrd@z Thu Jan 1 00:00:00 1970 Return-Path: Received: from mails.dpdk.org (mails.dpdk.org [217.70.189.124]) by inbox.dpdk.org (Postfix) with ESMTP id 05B1648A71 for ; Wed, 5 Nov 2025 15:14:33 +0100 (CET) Received: from mails.dpdk.org (localhost [127.0.0.1]) by mails.dpdk.org (Postfix) with ESMTP id F0C374021F; Wed, 5 Nov 2025 15:14:32 +0100 (CET) Received: from mail-pl1-f226.google.com (mail-pl1-f226.google.com [209.85.214.226]) by mails.dpdk.org (Postfix) with ESMTP id 94B4C4021F for ; Wed, 5 Nov 2025 15:14:31 +0100 (CET) Received: by mail-pl1-f226.google.com with SMTP id d9443c01a7336-2953e415b27so46126485ad.2 for ; Wed, 05 Nov 2025 06:14:31 -0800 (PST) DKIM-Signature: v=1; a=rsa-sha256; c=relaxed/relaxed; d=iol.unh.edu; s=unh-iol; t=1762352071; x=1762956871; darn=dpdk.org; h=references:in-reply-to:cc:to:from:subject:message-id:date:from:to :cc:subject:date:message-id:reply-to; bh=3wt67kjOOAJqS54jNmxAC3AIeXVYi4Izjps6zlP0rvs=; b=fmW7QLLImibgN5SjIIL9nOHD3wSEuWpbnZNu/zTVBVyMX8gCXsuVvg+DnDC88UOUgU ewhASiBdOkdSGxXT7Vp8XHYbw+sydf+O1MGpExPbDvpyFwlZ2qzu6DwBoVby/3LJIuK3 FiMgjuuDpAVQ5swtwAnoX+WZGmv5VWhjVi5fY= X-Google-DKIM-Signature: v=1; a=rsa-sha256; c=relaxed/relaxed; d=1e100.net; s=20230601; t=1762352071; x=1762956871; h=references:in-reply-to:cc:to:from:subject:message-id:date :x-gm-message-state:from:to:cc:subject:date:message-id:reply-to; bh=3wt67kjOOAJqS54jNmxAC3AIeXVYi4Izjps6zlP0rvs=; b=TxH28H+8ssTS/en32bjss/b6252HwkQcoLbdgSoDy6MwP3Zaw1bqu9GuwaVuzFfFSr FbLNORZEHxOeilQfu6stD4V1DToYGBvwfjd7qJc0ar6YSg9MONojclxy/LWroWxPGPln B3bv4FgtWS5eq4tgktBObcUNiSUJ0R8CwqyZ7XwCN4cDLUaUz6WHDL6wmqFpIwIrnRNM bG4v00ufmsUWpu06KhWRzDcdUwG5TNzRvV4V41Y6n3DHanUUu/RpBdlldkWP+siEIkLs lz+Op42VoIOKS9vBsmHEhCKlh2J2IWfB2N3+ydFfyXFXvgOw3JACh0MUYv52DeG36BAv HEDQ== X-Gm-Message-State: AOJu0YxbGbLx1CApcXai9ZgjQcyIb01mUjKe0e8ChVj0XaNcuDhSoMpV ZgSkTAv2YmRdmEQEqRvlaIlTVzhASs7juR7m5QPQSSGCslD5HTnjZxCU8oFqZnL4Ziyn/WqbJpd GxzQxbttmqYucH36kD9Dr2h7HBronUY311hjZ+8D5pxz9X1ggZA2VoqvYCPxX X-Gm-Gg: ASbGncsum8iLFX9xOJOVUH7rDs4ODRxhOjMspDEOe70pzQbj+VxsFLVZDyU4we1svoO /oLK5Ux3jZ115zv5WuN93vJwUUhoc61P2Sl4OdTYclZfqZdtfdxPTXjJNKttkC0tI+GHPswRSKz z8/rBsYkceJTouSbxCApU/78TxL4UpphfOX1GO/l9DENwHzkFLJLt/w+JO7/RHp8i3lkQiyIV9q 42LqSXy27xFTmkujJgbuUZcQ5rR3tjjB0oqo9Vkbsz4LLPLIdxL8MaZDuPXccmqzGeacS4ZLkcc Q69yzz2IZfL49gnST61uzGYxT4VirX3NpzL4toSptZTs1X7CH23H+GDzFJeWYc5dZUTukaS2WBt /oclASjpG X-Google-Smtp-Source: AGHT+IHl/6lbPVKKPuQcza5M9Ew27hUQx4e2P4hm7jh1sapqA2qUzvpfCTvLsg2GCaa1gbwA/x3JHC76UTJZ X-Received: by 2002:a17:902:f707:b0:24c:c8e7:60b5 with SMTP id d9443c01a7336-2962ada3db0mr49740255ad.16.1762352070711; Wed, 05 Nov 2025 06:14:30 -0800 (PST) Received: from postal.iol.unh.edu (postal.iol.unh.edu. [2606:4100:3880:1234::84]) by smtp-relay.gmail.com with ESMTPS id 98e67ed59e1d1-341a67e1c78sm261690a91.0.2025.11.05.06.14.30 (version=TLS1_2 cipher=ECDHE-ECDSA-AES128-GCM-SHA256 bits=128/128); Wed, 05 Nov 2025 06:14:30 -0800 (PST) X-Relaying-Domain: iol.unh.edu Date: Wed, 05 Nov 2025 06:14:30 -0800 (PST) Message-ID: <690b5bc6.170a0220.18181d.eee9SMTPIN_ADDED_MISSING@mx.google.com> Received: from [172.21.0.4] (unknown [172.18.0.240]) by postal.iol.unh.edu (Postfix) with ESMTP id E65096050A61; Wed, 5 Nov 2025 09:14:29 -0500 (EST) Subject: |SUCCESS| pw158450 [PATCH] Revert "net/null: add fast mbuf release T From: dpdklab@iol.unh.edu To: Test Report Cc: dpdk-test-reports@iol.unh.edu, Stephen Hemminger In-Reply-To: <20251105081953.20153-1-mb@smartsharesystems.com> References: <20251105081953.20153-1-mb@smartsharesystems.com> Content-Type: text/plain X-BeenThere: test-report@dpdk.org X-Mailman-Version: 2.1.29 Precedence: list List-Id: automatic DPDK test reports List-Unsubscribe: , List-Archive: List-Post: List-Help: List-Subscribe: , Errors-To: test-report-bounces@dpdk.org Test-Label: iol-unit-arm64-testing Test-Status: SUCCESS http://dpdk.org/patch/158450 _Testing PASS_ Submitter: Morten Brorup Date: Wednesday, November 05 2025 08:19:52 DPDK git baseline: Repo:dpdk-next-net Branch: master CommitID:538052bb364db22ba8cc08b5e23a9e6d25a864a9 158450 --> testing pass Upstream job id: Generic-Unit-Test-DPDK#388763 Test environment and result as below: +------------------------------+----------------+---------------------------+------------------------------+--------------+ | Environment | dpdk_unit_test | cryptodev_sw_zuc_autotest | cryptodev_sw_snow3g_autotest | lpm_autotest | +==============================+================+===========================+==============================+==============+ | CentOS Stream 10 | PASS | SKIPPED | SKIPPED | SKIPPED | +------------------------------+----------------+---------------------------+------------------------------+--------------+ | Ubuntu 24.04 | PASS | SKIPPED | SKIPPED | SKIPPED | +------------------------------+----------------+---------------------------+------------------------------+--------------+ | Ubuntu 22.04 | PASS | SKIPPED | SKIPPED | SKIPPED | +------------------------------+----------------+---------------------------+------------------------------+--------------+ | Fedora Linux 42 | PASS | SKIPPED | SKIPPED | SKIPPED | +------------------------------+----------------+---------------------------+------------------------------+--------------+ | Fedora Linux 40 | PASS | SKIPPED | SKIPPED | SKIPPED | +------------------------------+----------------+---------------------------+------------------------------+--------------+ | Fedora Linux 41 | PASS | SKIPPED | SKIPPED | SKIPPED | +------------------------------+----------------+---------------------------+------------------------------+--------------+ | Ubuntu 20.04 | PASS | SKIPPED | SKIPPED | PASS | +------------------------------+----------------+---------------------------+------------------------------+--------------+ | CentOS Stream 9 | PASS | SKIPPED | SKIPPED | SKIPPED | +------------------------------+----------------+---------------------------+------------------------------+--------------+ | Debian GNU/Linux 12 | PASS | SKIPPED | SKIPPED | SKIPPED | +------------------------------+----------------+---------------------------+------------------------------+--------------+ | Red Hat Enterprise Linux 9.5 | PASS | SKIPPED | SKIPPED | SKIPPED | +------------------------------+----------------+---------------------------+------------------------------+--------------+ | Debian 12 (arm) | SKIPPED | PASS | PASS | SKIPPED | +------------------------------+----------------+---------------------------+------------------------------+--------------+ CentOS Stream 10 Kernel: 5.4 Compiler: gcc gcc (GCC) 14.2.1 20250110 (Red Hat 14.2.1-8) Ubuntu 24.04 Kernel: 5.4 Compiler: gcc gcc (Ubuntu 13.3.0-6ubuntu2~24.04) 13.3.0 Ubuntu 22.04 Kernel: 5.4 Compiler: gcc gcc (Ubuntu 11.4.0-1ubuntu1~22.04) 11.4.0 Fedora Linux 42 Kernel: 5.4 Compiler: clang gcc (GCC) 15.2.1 20250808 (Red Hat 15.2.1-1) Fedora Linux 40 Kernel: 5.4 Compiler: gcc gcc (GCC) 14.2.1 20240912 (Red Hat 14.2.1-3) Fedora Linux 41 Kernel: 5.4 Compiler: gcc gcc (GCC) 14.3.1 20250523 (Red Hat 14.3.1-1) Ubuntu 20.04 Kernel: 5.4 Compiler: gcc gcc (Ubuntu 9.4.0-1ubuntu1~20.04.2) 9.4.0 CentOS Stream 9 Kernel: 5.4 Compiler: gcc gcc (GCC) 11.5.0 20240719 (Red Hat 11.5.0-11) Debian GNU/Linux 12 Kernel: 5.4 Compiler: gcc gcc (Debian 12.2.0-14+deb12u1) 12.2.0 Red Hat Enterprise Linux 9.5 Kernel: 5.4 Compiler: gcc gcc (GCC) 11.5.0 20240719 (Red Hat 11.5.0-2) Debian 12 (arm) Kernel: Depends on container host Compiler: gcc (Debian 12.2.0-14) 12.2.0 To view detailed results, visit: https://lab.dpdk.org/results/dashboard/patchsets/34467/ UNH-IOL DPDK Community Lab To manage your email subscriptions, visit: https://lab.dpdk.org/results/dashboard/preferences/subscriptions/