From mboxrd@z Thu Jan 1 00:00:00 1970 Return-Path: Received: from mails.dpdk.org (mails.dpdk.org [217.70.189.124]) by inbox.dpdk.org (Postfix) with ESMTP id C691C48A71 for ; Wed, 5 Nov 2025 15:18:50 +0100 (CET) Received: from mails.dpdk.org (localhost [127.0.0.1]) by mails.dpdk.org (Postfix) with ESMTP id BF6524021F; Wed, 5 Nov 2025 15:18:50 +0100 (CET) Received: from mail-io1-f99.google.com (mail-io1-f99.google.com [209.85.166.99]) by mails.dpdk.org (Postfix) with ESMTP id B67F44021F for ; Wed, 5 Nov 2025 15:18:49 +0100 (CET) Received: by mail-io1-f99.google.com with SMTP id ca18e2360f4ac-93e7c7c3d0bso657032439f.2 for ; Wed, 05 Nov 2025 06:18:49 -0800 (PST) DKIM-Signature: v=1; a=rsa-sha256; c=relaxed/relaxed; d=iol.unh.edu; s=unh-iol; t=1762352329; x=1762957129; darn=dpdk.org; h=references:in-reply-to:cc:to:from:subject:message-id:date:from:to :cc:subject:date:message-id:reply-to; bh=EquZmjUoIGK2GfX5aShjl4WnsKLO2oIduw0uhk8fm6k=; b=DZpMYGU2/TzAdqGgQI0XxncA77KrVdOlZAtTtQNhz/yQMuNGeK8uWv/hojcu7DRvYN OHkVNbfsGebznZHm+2wu1GVCAgnRNmGlFoNlfHp06fge6KfnFZg692yvmkn3v7v8e7go 6yBaBPr3xVJ3fdZxSjG/uJo4LY2MQatj/XbXQ= X-Google-DKIM-Signature: v=1; a=rsa-sha256; c=relaxed/relaxed; d=1e100.net; s=20230601; t=1762352329; x=1762957129; h=references:in-reply-to:cc:to:from:subject:message-id:date :x-gm-message-state:from:to:cc:subject:date:message-id:reply-to; bh=EquZmjUoIGK2GfX5aShjl4WnsKLO2oIduw0uhk8fm6k=; b=SuiLpP8OaQgJAjMIq8lqEbQKC3ViML9n2t83iUn1HvV9PlSIklI6yvgh+PUwNBpORW c+jNKNdaH6/fPcSJsrbZUpfxSdgAMqemDQXF0AX5kVgNa+6/eblDSACOIk0OdKFzemeH afZ/8zKDnd0QeuTGg9FK+Pjqh6/zsrtWVyO17nCyllepMaOdHoBwwj8ZIyhaqrNm2yKF 3N9TGEoDclr1KYuQZ6Y6HmU/Z6aQskKs4yiNsrsWtAJcxuzR5nip1+y2KAwbKC/snzxR uUdTQ91ZaKrRNM98btCdaJPumxlruMnsKH+PVtuZgsxtvby0e6uv7ZxLHPxwgYpjuOi+ B9pA== X-Gm-Message-State: AOJu0YxYngnET334Qfn7OGHvLtwBHBQ5uD/GxGgxuZ+uEdFc+YfK1bs4 2sUFu9cXZgS4i4g3VS0M5iNcM9ruwmuKSK23GgUOfulY02CHB364l+YR5nBeQtlj1jjBLtJDDkD GCNYaWAOARVZ12jlaiSnanyerCe/pFzi3OtFSnaP4zM+aXiziFgenYevDbr7D X-Gm-Gg: ASbGncvV9F+4tA88Q8cyXgCcSmq5MJPIdEbltxxFBM/FlCDUkhHq/wWWrB7Af8cxFsy idzzTWuJfjc5fNkcjN9oQAAa8TqWU1mq3yFo8L9CO/zHYCLbq0zyUuWU3rqeNmF6Kq9g65IgVuF YL7o801U7dW4Wz7X65axpaRgvZ5hVRSyysZuQnOk6jXTbA1EwkGG5QcD8bNdzmneUcoomhFh4ie fGHCmjDmBU+nYvTCV4TsVBdVfQBaYbmubasAjNex4A2rL7GXVPyuzLhgnfnCvbpd/PUDLfu8bG0 T2xWTrvaIO+8HQNVz2JV99KcAqZuBX20IKMHH9R2uyDYDTYE0hUZ9N9d17LKr9lFEYgfnq1jhYC oo4q7onWq X-Google-Smtp-Source: AGHT+IGn1xIoe/8g+JiR/PyczecF7itmIKk6jpNU7VfZ5KbpYXrtEGGcAos1FvIoIdwluMXRrmTNKa+CZZlE X-Received: by 2002:a05:6e02:4509:20b0:433:4aca:66ba with SMTP id e9e14a558f8ab-4334aca688cmr13307745ab.1.1762352329062; Wed, 05 Nov 2025 06:18:49 -0800 (PST) Received: from postal.iol.unh.edu (postal.iol.unh.edu. [2606:4100:3880:1234::84]) by smtp-relay.gmail.com with ESMTPS id 8926c6da1cb9f-5b7226c7cdasm670158173.19.2025.11.05.06.18.48 (version=TLS1_2 cipher=ECDHE-ECDSA-AES128-GCM-SHA256 bits=128/128); Wed, 05 Nov 2025 06:18:49 -0800 (PST) X-Relaying-Domain: iol.unh.edu Date: Wed, 05 Nov 2025 06:18:49 -0800 (PST) Message-ID: <690b5cc9.050a0220.f6780.59b0SMTPIN_ADDED_MISSING@mx.google.com> Received: from [172.21.0.2] (unknown [172.18.0.240]) by postal.iol.unh.edu (Postfix) with ESMTP id 8E88F6050A61; Wed, 5 Nov 2025 09:18:48 -0500 (EST) Subject: |SUCCESS| pw158458 [PATCH] mbuf: improve mbuf comments From: dpdklab@iol.unh.edu To: Test Report Cc: dpdk-test-reports@iol.unh.edu In-Reply-To: <20251105112810.20838-1-mb@smartsharesystems.com> References: <20251105112810.20838-1-mb@smartsharesystems.com> Content-Type: text/plain X-BeenThere: test-report@dpdk.org X-Mailman-Version: 2.1.29 Precedence: list List-Id: automatic DPDK test reports List-Unsubscribe: , List-Archive: List-Post: List-Help: List-Subscribe: , Errors-To: test-report-bounces@dpdk.org Test-Label: iol-unit-amd64-testing Test-Status: SUCCESS http://dpdk.org/patch/158458 _Testing PASS_ Submitter: Morten Brorup Date: Wednesday, November 05 2025 11:28:10 DPDK git baseline: Repo:dpdk Branch: master CommitID:8ebe22669c1f4edf095d4265651f109cd9e491b3 158458 --> testing pass Upstream job id: Generic-VM-Unit-Test-DPDK#32311 Test environment and result as below: +-------------------------------+----------------+ | Environment | dpdk_unit_test | +===============================+================+ | Fedora Linux 42 | PASS | +-------------------------------+----------------+ | CentOS Stream 9 | PASS | +-------------------------------+----------------+ | Ubuntu 22.04 | PASS | +-------------------------------+----------------+ | Red Hat Enterprise Linux 8.10 | PASS | +-------------------------------+----------------+ | Fedora Linux 40 | PASS | +-------------------------------+----------------+ | CentOS Stream 10 | PASS | +-------------------------------+----------------+ | Ubuntu 24.04 | PASS | +-------------------------------+----------------+ | Ubuntu 20.04 | PASS | +-------------------------------+----------------+ | Fedora Linux 41 | PASS | +-------------------------------+----------------+ | Debian GNU/Linux 12 | PASS | +-------------------------------+----------------+ | Red Hat Enterprise Linux 9.5 | PASS | +-------------------------------+----------------+ | Windows Server 2022 | PASS | +-------------------------------+----------------+ Fedora Linux 42 Kernel: 5.15 Compiler: clang gcc (GCC) 15.2.1 20250808 (Red Hat 15.2.1-1) CentOS Stream 9 Kernel: 5.15 Compiler: gcc gcc (GCC) 11.5.0 20240719 (Red Hat 11.5.0-11) Ubuntu 22.04 Kernel: 5.15 Compiler: gcc gcc (Ubuntu 11.4.0-1ubuntu1~22.04) 11.4.0 Red Hat Enterprise Linux 8.10 Kernel: 5.15 Compiler: gcc gcc (GCC) 8.5.0 20210514 (Red Hat 8.5.0-22) Fedora Linux 40 Kernel: 5.15 Compiler: gcc gcc (GCC) 14.2.1 20240912 (Red Hat 14.2.1-3) CentOS Stream 10 Kernel: 5.15 Compiler: gcc gcc (GCC) 14.2.1 20250110 (Red Hat 14.2.1-8) Ubuntu 24.04 Kernel: 5.15 Compiler: gcc gcc (Ubuntu 13.3.0-6ubuntu2~24.04) 13.3.0 Ubuntu 20.04 Kernel: 5.15 Compiler: gcc gcc (Ubuntu 9.4.0-1ubuntu1~20.04.2) 9.4.0 Fedora Linux 41 Kernel: 5.15 Compiler: gcc gcc (GCC) 14.3.1 20250523 (Red Hat 14.3.1-1) Debian GNU/Linux 12 Kernel: 5.15 Compiler: gcc gcc (Debian 12.2.0-14+deb12u1) 12.2.0 Red Hat Enterprise Linux 9.5 Kernel: 5.15 Compiler: gcc gcc (GCC) 11.5.0 20240719 (Red Hat 11.5.0-2) Windows Server 2022 Kernel: 10.0.20348.2031 Compiler: clang 15.0.7, gcc 14.1.0 (MinGW), and MSVC VS 19.39.33521 To view detailed results, visit: https://lab.dpdk.org/results/dashboard/patchsets/34472/ UNH-IOL DPDK Community Lab To manage your email subscriptions, visit: https://lab.dpdk.org/results/dashboard/preferences/subscriptions/