From mboxrd@z Thu Jan 1 00:00:00 1970 Return-Path: Received: from mails.dpdk.org (mails.dpdk.org [217.70.189.124]) by inbox.dpdk.org (Postfix) with ESMTP id 8EBCD48A73 for ; Wed, 5 Nov 2025 17:48:39 +0100 (CET) Received: from mails.dpdk.org (localhost [127.0.0.1]) by mails.dpdk.org (Postfix) with ESMTP id 686454021F; Wed, 5 Nov 2025 17:48:39 +0100 (CET) Received: from mail-pg1-f226.google.com (mail-pg1-f226.google.com [209.85.215.226]) by mails.dpdk.org (Postfix) with ESMTP id 1E2514021F for ; Wed, 5 Nov 2025 17:48:38 +0100 (CET) Received: by mail-pg1-f226.google.com with SMTP id 41be03b00d2f7-b991ddb06a9so2826487a12.3 for ; Wed, 05 Nov 2025 08:48:38 -0800 (PST) DKIM-Signature: v=1; a=rsa-sha256; c=relaxed/relaxed; d=iol.unh.edu; s=unh-iol; t=1762361317; x=1762966117; darn=dpdk.org; h=references:in-reply-to:cc:to:from:subject:message-id:date:from:to :cc:subject:date:message-id:reply-to; bh=w4tG+u6pG/xjiLrd14bWZLsHOi9SZ10pTQR9lEgtO3M=; b=e0qBCRJWEOZhKQKCPvCj+UUY5hNp9k32dqMtVMbfFXNjPmZPy2GIbu7FzePz3awtgJ RxSCBblJ1E7RybTtRRTnt1s2lFtQy4cn2LyIGDHkJUCmlUW7U5P59Pn+WGulURtdwJvr wWZTISVPlzqJVv5l8qFURvYvJgTbUYVo1fOjk= X-Google-DKIM-Signature: v=1; a=rsa-sha256; c=relaxed/relaxed; d=1e100.net; s=20230601; t=1762361317; x=1762966117; h=references:in-reply-to:cc:to:from:subject:message-id:date :x-gm-message-state:from:to:cc:subject:date:message-id:reply-to; bh=w4tG+u6pG/xjiLrd14bWZLsHOi9SZ10pTQR9lEgtO3M=; b=nvmKqV21h0d3qa6k24+S9C0VKPFjeWhgNGS5MCmMIgBPlBJUeE2akrbGIo2SP2G5o3 +ErFHq7aVtOzHoACl5/mTdK2kDdpfx3PSIdkARsXFkvayDww5wSEilexkT1NcYkVjfZO ynmzK4Rug1mJAi+rLViqIZSWNJBOxw+P3bLYBxCtktU3z006h2wHW+xpFxRFgL5SqNrR RIHlijRN021QxRCxrimYrVMo9FU0EbqBJ0h+yUB8erQ0+rlffZwdV+56+Y5QUo9JhvX4 snH2Q+H4XhL1YV9IU0/QPqNZq3wdLKDB25M9lMWDojFKEfBswwgqMUvePA4D/Skpd6MP JxpA== X-Gm-Message-State: AOJu0YxsovwGYBoafEm0SXge8kOa5oNMn1BXzULfQvnIWyOsrfhmDCM9 17OVb8IatFH9LXjj9uOlHNO5rzDa99BviPUts/hqjHk7uxQyWGBMP2ITaV00C3d0sZk2fe8khC+ eF33IR7sCMdRWGxP+NCZBc/xNGnToXt6HGfZzQL1GrQ5qhfdHbAdEy50Lfgbx X-Gm-Gg: ASbGncu/k3Q+NqYWjfti6FHXUogTemcoTyCnpzXUACwguggybWQe+mhWDtdBgxjhEXV G3AEa1p8fXLWx4CsGcLElzCMOL1oLlSJIJWOvlHYrmU0DpYGEFkHCfVDisVNewnZ6Y7Ltf05jdq paGybQ5tcXi8VC7UAqKTT63xsIW4PhtPPMWQLervjrd32aKL+3aFEr8jYjfbOlxLmyuzi5Xb0AJ KshZpfOr1qTX3Pkodvq8xjs+Sa+UrM9PgYzh+oHVbLWuFcMU8EI168+3FFIqxMCGE2gP6g7w0qt fR/mF6GJfwTWarTl2gStRX954wDEoqEJwnzzlm/QGwlM5vCQ+NafCDXGdzu0lk8LTR74WS0qFD9 KH1117DZk X-Google-Smtp-Source: AGHT+IHFJUaf28VG8KGv49whIyUr76JdStCArcsScGLWg6061/e+pP10RpuNOhRm4ZKlVo3q1EBNOCynLUh3 X-Received: by 2002:a17:902:d48c:b0:294:ccc6:ccfd with SMTP id d9443c01a7336-2962ad1bdffmr54385975ad.24.1762361317077; Wed, 05 Nov 2025 08:48:37 -0800 (PST) Received: from postal.iol.unh.edu (postal.iol.unh.edu. [2606:4100:3880:1234::84]) by smtp-relay.gmail.com with ESMTPS id d9443c01a7336-29651cc5d00sm11305ad.63.2025.11.05.08.48.36 (version=TLS1_2 cipher=ECDHE-ECDSA-AES128-GCM-SHA256 bits=128/128); Wed, 05 Nov 2025 08:48:37 -0800 (PST) X-Relaying-Domain: iol.unh.edu Date: Wed, 05 Nov 2025 08:48:37 -0800 (PST) Message-ID: <690b7fe5.170a0220.31670c.00e8SMTPIN_ADDED_MISSING@mx.google.com> Received: from [172.21.0.2] (unknown [172.18.0.240]) by postal.iol.unh.edu (Postfix) with ESMTP id 8352660003E7; Wed, 5 Nov 2025 11:48:36 -0500 (EST) Subject: |SUCCESS| pw158458 [PATCH] mbuf: improve mbuf comments From: dpdklab@iol.unh.edu To: Test Report Cc: dpdk-test-reports@iol.unh.edu In-Reply-To: <20251105112810.20838-1-mb@smartsharesystems.com> References: <20251105112810.20838-1-mb@smartsharesystems.com> Content-Type: text/plain X-BeenThere: test-report@dpdk.org X-Mailman-Version: 2.1.29 Precedence: list List-Id: automatic DPDK test reports List-Unsubscribe: , List-Archive: List-Post: List-Help: List-Subscribe: , Errors-To: test-report-bounces@dpdk.org Test-Label: iol-compile-amd64-testing Test-Status: SUCCESS http://dpdk.org/patch/158458 _Testing PASS_ Submitter: Morten Brorup Date: Wednesday, November 05 2025 11:28:10 DPDK git baseline: Repo:dpdk Branch: master CommitID:8ebe22669c1f4edf095d4265651f109cd9e491b3 158458 --> testing pass Upstream job id: Windows-Compile-DPDK-Native#32137 Test environment and result as below: +-------------------------------+--------------------+------------------+-------------------+-------------------------+ | Environment | dpdk_meson_compile | dpdk_compile_ovs | dpdk_msvc_compile | dpdk_llvm_clang_compile | +===============================+====================+==================+===================+=========================+ | FreeBSD 14.2 | PASS | SKIPPED | SKIPPED | SKIPPED | +-------------------------------+--------------------+------------------+-------------------+-------------------------+ | Fedora Linux 42 | PASS | PASS | SKIPPED | SKIPPED | +-------------------------------+--------------------+------------------+-------------------+-------------------------+ | Ubuntu 20.04 | PASS | SKIPPED | SKIPPED | SKIPPED | +-------------------------------+--------------------+------------------+-------------------+-------------------------+ | Red Hat Enterprise Linux 8.10 | PASS | SKIPPED | SKIPPED | SKIPPED | +-------------------------------+--------------------+------------------+-------------------+-------------------------+ | CentOS Stream 9 | PASS | SKIPPED | SKIPPED | SKIPPED | +-------------------------------+--------------------+------------------+-------------------+-------------------------+ | Debian GNU/Linux 12 | PASS | SKIPPED | SKIPPED | SKIPPED | +-------------------------------+--------------------+------------------+-------------------+-------------------------+ | CentOS Stream 10 | PASS | SKIPPED | SKIPPED | SKIPPED | +-------------------------------+--------------------+------------------+-------------------+-------------------------+ | Ubuntu 22.04 | PASS | SKIPPED | SKIPPED | SKIPPED | +-------------------------------+--------------------+------------------+-------------------+-------------------------+ | openSUSE Leap 15.6 | PASS | SKIPPED | SKIPPED | SKIPPED | +-------------------------------+--------------------+------------------+-------------------+-------------------------+ | Alpine Linux 3.22.0 | PASS | SKIPPED | SKIPPED | SKIPPED | +-------------------------------+--------------------+------------------+-------------------+-------------------------+ | Ubuntu 24.04 | PASS | PASS | SKIPPED | SKIPPED | +-------------------------------+--------------------+------------------+-------------------+-------------------------+ | Red Hat Enterprise Linux 9.5 | PASS | SKIPPED | SKIPPED | SKIPPED | +-------------------------------+--------------------+------------------+-------------------+-------------------------+ | Windows Server 2022 | SKIPPED | SKIPPED | PASS | PASS | +-------------------------------+--------------------+------------------+-------------------+-------------------------+ FreeBSD 14.2 Kernel: 14.2-RELEASE Compiler: clang 18.1.6 Fedora Linux 42 Kernel: 5.15 Compiler: clang gcc (GCC) 15.2.1 20250808 (Red Hat 15.2.1-1) Ubuntu 20.04 Kernel: 5.15 Compiler: gcc gcc (Ubuntu 9.4.0-1ubuntu1~20.04.2) 9.4.0 Red Hat Enterprise Linux 8.10 Kernel: 5.15 Compiler: gcc gcc (GCC) 8.5.0 20210514 (Red Hat 8.5.0-22) CentOS Stream 9 Kernel: 5.15 Compiler: gcc gcc (GCC) 11.5.0 20240719 (Red Hat 11.5.0-11) Debian GNU/Linux 12 Kernel: 5.15 Compiler: gcc gcc (Debian 12.2.0-14+deb12u1) 12.2.0 CentOS Stream 10 Kernel: 5.15 Compiler: gcc gcc (GCC) 14.2.1 20250110 (Red Hat 14.2.1-8) Ubuntu 22.04 Kernel: 5.15 Compiler: gcc gcc (Ubuntu 11.4.0-1ubuntu1~22.04) 11.4.0 openSUSE Leap 15.6 Kernel: 5.15 Compiler: gcc gcc (SUSE Linux) 7.5.0 Alpine Linux 3.22.0 Kernel: 5.15 Compiler: gcc gcc (Alpine 14.2.0) 14.2.0 Ubuntu 24.04 Kernel: 5.15 Compiler: gcc gcc (Ubuntu 13.3.0-6ubuntu2~24.04) 13.3.0 Red Hat Enterprise Linux 9.5 Kernel: 5.15 Compiler: gcc gcc (GCC) 11.5.0 20240719 (Red Hat 11.5.0-2) Windows Server 2022 Kernel: 10.0.20348.2031 Compiler: clang 15.0.7, gcc 14.1.0 (MinGW), and MSVC VS 19.39.33521 To view detailed results, visit: https://lab.dpdk.org/results/dashboard/patchsets/34472/ UNH-IOL DPDK Community Lab To manage your email subscriptions, visit: https://lab.dpdk.org/results/dashboard/preferences/subscriptions/