From mboxrd@z Thu Jan 1 00:00:00 1970 Return-Path: Received: from mails.dpdk.org (mails.dpdk.org [217.70.189.124]) by inbox.dpdk.org (Postfix) with ESMTP id 733BF48A77 for ; Wed, 5 Nov 2025 20:16:55 +0100 (CET) Received: from mails.dpdk.org (localhost [127.0.0.1]) by mails.dpdk.org (Postfix) with ESMTP id 6F196402E6; Wed, 5 Nov 2025 20:16:55 +0100 (CET) Received: from mail-vk1-f225.google.com (mail-vk1-f225.google.com [209.85.221.225]) by mails.dpdk.org (Postfix) with ESMTP id 46311402E6 for ; Wed, 5 Nov 2025 20:16:54 +0100 (CET) Received: by mail-vk1-f225.google.com with SMTP id 71dfb90a1353d-559712e8914so179630e0c.2 for ; Wed, 05 Nov 2025 11:16:54 -0800 (PST) DKIM-Signature: v=1; a=rsa-sha256; c=relaxed/relaxed; d=iol.unh.edu; s=unh-iol; t=1762370213; x=1762975013; darn=dpdk.org; h=references:in-reply-to:cc:to:from:subject:message-id:date:from:to :cc:subject:date:message-id:reply-to; bh=edIgtJtOoCU1/I+fSxZF5qE2T9nurBc5qor8Kf5R9RE=; b=S6jgRciHP/uqK7riq9T7ECnLE6AXUM5uRoGU655/XXWg8Lo80N9mTQI2/hEsYL3Ohh PvdVtRrTePocT2dBo9RvLWz14xMfd7Q0S3MUfSy0LRFC1OwdTBaJ7WOiyMP74q4bwOvw w4BP4JEfDFgc99ucCUQmunMPBe7QX367N4+oU= X-Google-DKIM-Signature: v=1; a=rsa-sha256; c=relaxed/relaxed; d=1e100.net; s=20230601; t=1762370213; x=1762975013; h=references:in-reply-to:cc:to:from:subject:message-id:date :x-gm-message-state:from:to:cc:subject:date:message-id:reply-to; bh=edIgtJtOoCU1/I+fSxZF5qE2T9nurBc5qor8Kf5R9RE=; b=YWDplLviibzgQex17CPOUbF3EBK2idbCTvSnuuOxUwyBlA3bA4i3kS2sPWbK4ZmO1o WS+392eOrpgVXrbT3eyVddDFR+JVvVaPsWpZidhbFk4Y0CgSqFWmM0RSaLWi7TF2cKh+ Qd8908zW8bdUjFJP5exd3LfUoR2inmRBhbRKIoqiU1lk0BUw811SxM515HCVFp41oNjS hMrT5OKDxus2ATiFYqAaj/E7m/0eDChhR+Sxdy7edqKjHB/baP1mSXsGf6hZ+SDVy88Q I3nUCDhLKe86RBIzawt8+mKOBm4v0EgvtL6o3Xi1ETkqZo2iiamRcOp5Y+IgfWq5/js2 yZig== X-Gm-Message-State: AOJu0YwC1j/89Ri4v5OTsjZnRj8Usy6lLEYBLJQyFaa0m3qybiVHF8D7 gQEH+1g91O/Tq6xS4ZL50r/0+IJlAx5mRsmZ3eCgALWn4C4U+AbYz+PiIn0JqUmt1mfTDaAKU44 2aRhVcIFb2O4stIXEv/R/98igyx/mOpJoQrdmaWhcj6Wo5gO4cDAfHUJhybty X-Gm-Gg: ASbGncub5TKT2rOCT/v6482CWOWuF2ASgXjxyqku+xURTWTZSo1l/vBdPijLOl9crbx WJXmhfjOZFIv9e9dXPOXTKeFQGC55raYD18zDFjDeaiqK+KpYTBkgL+XvmyDmqBTICqXRLzGdUo QVJw1T420hrtjVoC0Ae31AKHUgDbYyf162bHLNuhv2SjCuqPiWm5qIPB/wFk4YiXeGiG56tk1z8 rzmWp09H7OpqjsF5mkDKZ1sz21/gWsSi6x1kdIhDv1Ujz3i3woS14f3ohe9vswL7W+qbAMuC9XZ mtEjPAEZJ95tempP07BlbZg/1+QrBeY2MwCI5T1CmKidbZGwb6MWhX1JfIEOeLbUeW0SsqNy/Tv gzvP8qfyx X-Google-Smtp-Source: AGHT+IGqzwMBi7czjlLCjZhseY03GFy5v2f07JPF9yv5QnDsjAA4dOBQeEhDKBqYd1KArFvhETKLkbCbFf3L X-Received: by 2002:a05:6122:182a:b0:557:cbc5:ce0f with SMTP id 71dfb90a1353d-5598630662dmr1753992e0c.8.1762370213641; Wed, 05 Nov 2025 11:16:53 -0800 (PST) Received: from postal.iol.unh.edu (postal.iol.unh.edu. [2606:4100:3880:1234::84]) by smtp-relay.gmail.com with ESMTPS id 71dfb90a1353d-559957c042fsm18590e0c.5.2025.11.05.11.16.53 (version=TLS1_2 cipher=ECDHE-ECDSA-AES128-GCM-SHA256 bits=128/128); Wed, 05 Nov 2025 11:16:53 -0800 (PST) X-Relaying-Domain: iol.unh.edu Date: Wed, 05 Nov 2025 11:16:53 -0800 (PST) Message-ID: <690ba2a5.050a0220.262512.1128SMTPIN_ADDED_MISSING@mx.google.com> Received: from [172.21.0.2] (unknown [172.18.0.240]) by postal.iol.unh.edu (Postfix) with ESMTP id 509916050A61; Wed, 5 Nov 2025 14:16:53 -0500 (EST) Subject: |SUCCESS| pw158458 [PATCH] mbuf: improve mbuf comments From: dpdklab@iol.unh.edu To: Test Report Cc: dpdk-test-reports@iol.unh.edu In-Reply-To: <20251105112810.20838-1-mb@smartsharesystems.com> References: <20251105112810.20838-1-mb@smartsharesystems.com> Content-Type: text/plain X-BeenThere: test-report@dpdk.org X-Mailman-Version: 2.1.29 Precedence: list List-Id: automatic DPDK test reports List-Unsubscribe: , List-Archive: List-Post: List-Help: List-Subscribe: , Errors-To: test-report-bounces@dpdk.org Test-Label: iol-compile-arm64-testing Test-Status: SUCCESS http://dpdk.org/patch/158458 _Testing PASS_ Submitter: Morten Brorup Date: Wednesday, November 05 2025 11:28:10 DPDK git baseline: Repo:dpdk Branch: master CommitID:8ebe22669c1f4edf095d4265651f109cd9e491b3 158458 --> testing pass Upstream job id: Generic-DPDK-Compile-Meson#441037 Test environment and result as below: +------------------------------+--------------------+ | Environment | dpdk_meson_compile | +==============================+====================+ | Ubuntu 20.04 | PASS | +------------------------------+--------------------+ | Red Hat Enterprise Linux 9.5 | PASS | +------------------------------+--------------------+ | Debian GNU/Linux 12 | PASS | +------------------------------+--------------------+ | Fedora Linux 42 | PASS | +------------------------------+--------------------+ | Ubuntu 22.04 | PASS | +------------------------------+--------------------+ | CentOS Stream 10 | PASS | +------------------------------+--------------------+ | CentOS Stream 9 | PASS | +------------------------------+--------------------+ | Ubuntu 24.04 | PASS | +------------------------------+--------------------+ Ubuntu 20.04 Kernel: 5.15 Compiler: aarch64-linux-gnu-gcc gcc (Ubuntu 9.4.0-1ubuntu1~20.04.2) 9.4.0 Red Hat Enterprise Linux 9.5 Kernel: 5.4 Compiler: gcc gcc (GCC) 11.5.0 20240719 (Red Hat 11.5.0-2) Debian GNU/Linux 12 Kernel: 5.4 Compiler: gcc gcc (Debian 12.2.0-14+deb12u1) 12.2.0 Fedora Linux 42 Kernel: 5.4 Compiler: gcc gcc (GCC) 15.2.1 20250808 (Red Hat 15.2.1-1) Ubuntu 22.04 Kernel: 5.4 Compiler: gcc gcc (Ubuntu 11.4.0-1ubuntu1~22.04) 11.4.0 CentOS Stream 10 Kernel: 5.4 Compiler: gcc gcc (GCC) 14.2.1 20250110 (Red Hat 14.2.1-8) CentOS Stream 9 Kernel: 5.4 Compiler: gcc gcc (GCC) 11.5.0 20240719 (Red Hat 11.5.0-11) Ubuntu 24.04 Kernel: 5.4 Compiler: gcc gcc (Ubuntu 13.3.0-6ubuntu2~24.04) 13.3.0 To view detailed results, visit: https://lab.dpdk.org/results/dashboard/patchsets/34472/ UNH-IOL DPDK Community Lab To manage your email subscriptions, visit: https://lab.dpdk.org/results/dashboard/preferences/subscriptions/