From mboxrd@z Thu Jan 1 00:00:00 1970 Return-Path: Received: from mails.dpdk.org (mails.dpdk.org [217.70.189.124]) by inbox.dpdk.org (Postfix) with ESMTP id 25C6F48A4E for ; Wed, 5 Nov 2025 23:35:58 +0100 (CET) Received: from mails.dpdk.org (localhost [127.0.0.1]) by mails.dpdk.org (Postfix) with ESMTP id 21DFF402E6; Wed, 5 Nov 2025 23:35:58 +0100 (CET) Received: from mail-io1-f99.google.com (mail-io1-f99.google.com [209.85.166.99]) by mails.dpdk.org (Postfix) with ESMTP id 971AF402E6 for ; Wed, 5 Nov 2025 23:35:57 +0100 (CET) Received: by mail-io1-f99.google.com with SMTP id ca18e2360f4ac-9486251090eso22503039f.2 for ; Wed, 05 Nov 2025 14:35:57 -0800 (PST) DKIM-Signature: v=1; a=rsa-sha256; c=relaxed/relaxed; d=iol.unh.edu; s=unh-iol; t=1762382157; x=1762986957; darn=dpdk.org; h=references:in-reply-to:cc:to:from:subject:message-id:date:from:to :cc:subject:date:message-id:reply-to; bh=pZT84IVUqpyfToYxUjT8WmP6MWjmM99+MoAvYMIpqio=; b=OarV9J/R9LJ3H5OhlXZIPv4N3rJVMiE7hYsNYYL5I+3jEWIpsm/xU/oHjO51bZ+JZs 4NKxdR8XwjTCtpohaK9SKT0D2my8sh5nQNvBbvs9sh9F9nhUh0/l/IVoMxXsDqGmOjK3 os8VpjE7S4QGU42jcKH5V1D/3V61rE+AoBj/8= X-Google-DKIM-Signature: v=1; a=rsa-sha256; c=relaxed/relaxed; d=1e100.net; s=20230601; t=1762382157; x=1762986957; h=references:in-reply-to:cc:to:from:subject:message-id:date :x-gm-message-state:from:to:cc:subject:date:message-id:reply-to; bh=pZT84IVUqpyfToYxUjT8WmP6MWjmM99+MoAvYMIpqio=; b=ldNh96+MD1GlRTznKTs7up2UZiOJy51n2YaL73KHnuSW0Vyz2/8ipycOE7DKCKdTUU jbooK89M3trE97AAT71pbolUI4YPWJptnmBE9nA70elixpOiNU8d81jEV/lDZIzt3wbb 292x94GA7hvMxqO87707cgHLbPIb/fFefglKiufT+NLWL65BK84TM6Pg+DBmF1hA+zjx uhcBHsx9MITcLUipk2L/QCxpElrtnP2e+BDH5UdJk1Oi3OiSZ+V8HKI2rTtcgogNlfOz DXMaBzjAgQVc9SO4GSKPOBiwNzbrYc4FfSihJlZLjUrxpdDFXr6+7nFnFH8CKcJuJ+Se +HLw== X-Gm-Message-State: AOJu0YwPZFps1qsfGjcVE7FhSY2VfiP0bHlrMObVv837Pt0hfRjVp78z GeHWqXObmKy06tZvEae8ipwJ1L1wIf4rKJUn3uS9LZv/HzyIqhQyKX9Yr4o+VteJibRK120XdGf aR6apXnYL5P9cemxmgPWZSwIOGQCuH9A+g4zfgOS68lTvVekV/GJis/62oeMB X-Gm-Gg: ASbGncv9u+VobEwyxQ9UOZgrB2+mN7dNEts82+oSbpcVXsJ8OP6xXvuV+lt9vq9z8FL t/CfesUSLJfOoo9UW950JppZnOa8yfnSgm2YB9wNtrsSSPgO+781Vy8Z7mvuRxZRuZv7mf4gZ4S ORnj7Z5tKJDvwsZdMYJ0HppxYTq7ElfAZrtCdhMfBJu8fxfKL5LDhf2ZbKhRLIHpJrLIJVxZ3TK LjxDr+GRilEcW4qwXIH4Sd3ByLrfz+RHZLBT+oekfWfWZmjqT18ksJKGytoK4K+0ljHC8KtZwB9 rKXgw572EEcLQY/uSEZLknHP2vvyHNrrGlG8z+GnHgKYjP7trdT5Y0BRdWfJvgyP9QAzK7c7mHe +pIV0WOv9 X-Google-Smtp-Source: AGHT+IEYemY5wx+nrmyEmN6Uptqn1Aot7YCPrzSpOak/y9Mcj2FKuex5lRj/X8kLTZ5nW+HJQagow/BHY55t X-Received: by 2002:a05:6e02:2704:b0:433:2812:8066 with SMTP id e9e14a558f8ab-433407c37bfmr65448155ab.23.1762382156918; Wed, 05 Nov 2025 14:35:56 -0800 (PST) Received: from postal.iol.unh.edu (postal.iol.unh.edu. [2606:4100:3880:1234::84]) by smtp-relay.gmail.com with ESMTPS id 8926c6da1cb9f-5b7468b6442sm65524173.35.2025.11.05.14.35.56 (version=TLS1_2 cipher=ECDHE-ECDSA-AES128-GCM-SHA256 bits=128/128); Wed, 05 Nov 2025 14:35:56 -0800 (PST) X-Relaying-Domain: iol.unh.edu Date: Wed, 05 Nov 2025 14:35:56 -0800 (PST) Message-ID: <690bd14c.050a0220.377e84.3905SMTPIN_ADDED_MISSING@mx.google.com> Received: from [172.21.0.2] (unknown [172.18.0.240]) by postal.iol.unh.edu (Postfix) with ESMTP id 76FB66051830; Wed, 5 Nov 2025 17:35:56 -0500 (EST) Subject: |SUCCESS| pw158458 [PATCH] mbuf: improve mbuf comments From: dpdklab@iol.unh.edu To: Test Report Cc: dpdk-test-reports@iol.unh.edu In-Reply-To: <20251105112810.20838-1-mb@smartsharesystems.com> References: <20251105112810.20838-1-mb@smartsharesystems.com> Content-Type: text/plain X-BeenThere: test-report@dpdk.org X-Mailman-Version: 2.1.29 Precedence: list List-Id: automatic DPDK test reports List-Unsubscribe: , List-Archive: List-Post: List-Help: List-Subscribe: , Errors-To: test-report-bounces@dpdk.org Test-Label: iol-unit-arm64-testing Test-Status: SUCCESS http://dpdk.org/patch/158458 _Testing PASS_ Submitter: Morten Brorup Date: Wednesday, November 05 2025 11:28:10 DPDK git baseline: Repo:dpdk Branch: master CommitID:8ebe22669c1f4edf095d4265651f109cd9e491b3 158458 --> testing pass Upstream job id: Generic-Unit-Test-DPDK#388895 Test environment and result as below: +------------------------------+---------------------------+--------------+------------------------------+----------------+ | Environment | cryptodev_sw_zuc_autotest | lpm_autotest | cryptodev_sw_snow3g_autotest | dpdk_unit_test | +==============================+===========================+==============+==============================+================+ | Debian 12 (arm) | PASS | SKIPPED | PASS | SKIPPED | +------------------------------+---------------------------+--------------+------------------------------+----------------+ | Ubuntu 20.04 | SKIPPED | PASS | SKIPPED | PASS | +------------------------------+---------------------------+--------------+------------------------------+----------------+ | Ubuntu 22.04 | SKIPPED | SKIPPED | SKIPPED | PASS | +------------------------------+---------------------------+--------------+------------------------------+----------------+ | CentOS Stream 9 | SKIPPED | SKIPPED | SKIPPED | PASS | +------------------------------+---------------------------+--------------+------------------------------+----------------+ | Debian GNU/Linux 12 | SKIPPED | SKIPPED | SKIPPED | PASS | +------------------------------+---------------------------+--------------+------------------------------+----------------+ | Ubuntu 24.04 | SKIPPED | SKIPPED | SKIPPED | PASS | +------------------------------+---------------------------+--------------+------------------------------+----------------+ | Fedora Linux 42 | SKIPPED | SKIPPED | SKIPPED | PASS | +------------------------------+---------------------------+--------------+------------------------------+----------------+ | Fedora Linux 41 | SKIPPED | SKIPPED | SKIPPED | PASS | +------------------------------+---------------------------+--------------+------------------------------+----------------+ | Fedora Linux 40 | SKIPPED | SKIPPED | SKIPPED | PASS | +------------------------------+---------------------------+--------------+------------------------------+----------------+ | Red Hat Enterprise Linux 9.5 | SKIPPED | SKIPPED | SKIPPED | PASS | +------------------------------+---------------------------+--------------+------------------------------+----------------+ | CentOS Stream 10 | SKIPPED | SKIPPED | SKIPPED | PASS | +------------------------------+---------------------------+--------------+------------------------------+----------------+ Debian 12 (arm) Kernel: Depends on container host Compiler: gcc (Debian 12.2.0-14) 12.2.0 Ubuntu 20.04 Kernel: 5.4 Compiler: gcc gcc (Ubuntu 9.4.0-1ubuntu1~20.04.2) 9.4.0 Ubuntu 22.04 Kernel: 5.15 Compiler: gcc gcc (Ubuntu 11.4.0-1ubuntu1~22.04.2) 11.4.0 CentOS Stream 9 Kernel: 5.4 Compiler: gcc gcc (GCC) 11.5.0 20240719 (Red Hat 11.5.0-11) Debian GNU/Linux 12 Kernel: 5.4 Compiler: gcc gcc (Debian 12.2.0-14+deb12u1) 12.2.0 Ubuntu 24.04 Kernel: 5.4 Compiler: gcc gcc (Ubuntu 13.3.0-6ubuntu2~24.04) 13.3.0 Fedora Linux 42 Kernel: 5.4 Compiler: gcc gcc (GCC) 15.2.1 20250808 (Red Hat 15.2.1-1) Fedora Linux 41 Kernel: 5.4 Compiler: clang gcc (GCC) 14.3.1 20250523 (Red Hat 14.3.1-1) Fedora Linux 40 Kernel: 5.4 Compiler: clang gcc (GCC) 14.2.1 20240912 (Red Hat 14.2.1-3) Red Hat Enterprise Linux 9.5 Kernel: 5.4 Compiler: gcc gcc (GCC) 11.5.0 20240719 (Red Hat 11.5.0-2) CentOS Stream 10 Kernel: 5.4 Compiler: gcc gcc (GCC) 14.2.1 20250110 (Red Hat 14.2.1-8) To view detailed results, visit: https://lab.dpdk.org/results/dashboard/patchsets/34472/ UNH-IOL DPDK Community Lab To manage your email subscriptions, visit: https://lab.dpdk.org/results/dashboard/preferences/subscriptions/