From mboxrd@z Thu Jan 1 00:00:00 1970 Return-Path: Received: from mails.dpdk.org (mails.dpdk.org [217.70.189.124]) by inbox.dpdk.org (Postfix) with ESMTP id 085E648A7E for ; Thu, 6 Nov 2025 09:07:15 +0100 (CET) Received: from mails.dpdk.org (localhost [127.0.0.1]) by mails.dpdk.org (Postfix) with ESMTP id E677C4013F; Thu, 6 Nov 2025 09:07:14 +0100 (CET) Received: from mail-il1-f226.google.com (mail-il1-f226.google.com [209.85.166.226]) by mails.dpdk.org (Postfix) with ESMTP id 186384013F for ; Thu, 6 Nov 2025 09:07:14 +0100 (CET) Received: by mail-il1-f226.google.com with SMTP id e9e14a558f8ab-4332acf24e2so3013185ab.1 for ; Thu, 06 Nov 2025 00:07:14 -0800 (PST) DKIM-Signature: v=1; a=rsa-sha256; c=relaxed/relaxed; d=iol.unh.edu; s=unh-iol; t=1762416433; x=1763021233; darn=dpdk.org; h=references:in-reply-to:cc:to:from:subject:message-id:date:from:to :cc:subject:date:message-id:reply-to; bh=MnSBFyzdAN4RbD4fV+Ga6jrFUT1FMLQ9MG3Czha07Fs=; b=VbBTuOxb0KKpMykRrLFBdr1JY4fK1cRcuAUXl6jiiNIcRJ8Phtu4PuZG7ikaMSw2Gk GfARCrKl2p3qmTXjn5l+69fCya1+xDmrTcQI737D9h8yJrLhq/XBn1Hozx1G+Vm4UPxc TH4wM0TET4QOUusQulCBMj9+2x8cNRnpRuNfk= X-Google-DKIM-Signature: v=1; a=rsa-sha256; c=relaxed/relaxed; d=1e100.net; s=20230601; t=1762416433; x=1763021233; h=references:in-reply-to:cc:to:from:subject:message-id:date :x-gm-message-state:from:to:cc:subject:date:message-id:reply-to; bh=MnSBFyzdAN4RbD4fV+Ga6jrFUT1FMLQ9MG3Czha07Fs=; b=GaR6ppuRkLMUPwjh5LqBGHpNNcRsJp4y+ZGlJpCdR5eGsn6Ls3Wk9wFGY6fF46wHfh Ij+V3PMoMS1Nej4c3BqnmMLOy28+ZqLbC2061m2LpDDo5ZAAscWrtOyCWwv+5vX/cX7d 9a7SOfCxTCBAqmU4s2ow9Z9jE6PfwInizMVizYRYE3vk3jzMe7Fw0/w5bnfvORBfk+R6 wUb52YHZ4Y9m/VcqjeeUpRdXLpNtLRiW2wG1Q9pIqXjO1aUr28+BmkoCIqSqAc2QbpOT K6+2m72Kb/2MJJMypEe0w888DP7pbKOkA1l7G6WDrxaYFvjt8dWnZCYUOYoum8Yqq+a3 9aYw== X-Gm-Message-State: AOJu0YyD+mPIIkhm5Ep9JNlzyZy9sJqJ2QoUo1L/TgnzCkAxyPoLIKi0 gdukMtl6R4PqlMEyPhbxOAeK55xhUZDcq2/+22G5Ra9h0C0MXs+dQXyq8LOrG4KWY6TsK7Bj6Sv 8JAn0dYm5xYu6NSu/8dNwaj8I0QvCIROZ7iSYjEvPZm7sBdgOiwN4mJ4HJzoL X-Gm-Gg: ASbGncuHvpMPw9YIPMSNOHoZSq6r2oU4ajDoXc6i2e7f0S5vr4v5anKDtsliVcV/F1t KLQMphpDwlxGTAzkxSowoNUwHaT3Pf6nXKSUqEqdH1ZJwO5Qeyr9mUqKG0reP2dVEaAZpSnpwoA s0yE3D/X3s8ybf4nv2m6iHZ3DBPCwP5B3k07WhSB82SApSOffKZk3CTFotHWN4oWMFIb0h6a682 MGQQEdpTwYryXIbxs5B01+2AjZrQd1oqkfjN/vTfEddZr7OcgcXMHGo3d76yNQ/dKemQt++vEfa ey1d+1UxrlkhRW2wHel+OJrS7yJhzcIWDJOnZ9jW9GdvhdFtLrntehrZoZ/64ujxRC1oAzo9HTo uUs3HFzb+ X-Google-Smtp-Source: AGHT+IFF1ew7B7h3WCHibD+k2ahzWuOV7EIat9yDJ3XYKfgdEe0Od2UTqBDMYswZvyhEoGi2vgrvDdthm2C9 X-Received: by 2002:a05:6e02:3789:b0:433:31b5:573a with SMTP id e9e14a558f8ab-433407e262dmr75834935ab.18.1762416433292; Thu, 06 Nov 2025 00:07:13 -0800 (PST) Received: from postal.iol.unh.edu (postal.iol.unh.edu. [2606:4100:3880:1234::84]) by smtp-relay.gmail.com with ESMTPS id e9e14a558f8ab-4334f4b488fsm1357115ab.22.2025.11.06.00.07.13 (version=TLS1_2 cipher=ECDHE-ECDSA-AES128-GCM-SHA256 bits=128/128); Thu, 06 Nov 2025 00:07:13 -0800 (PST) X-Relaying-Domain: iol.unh.edu Date: Thu, 06 Nov 2025 00:07:13 -0800 (PST) Message-ID: <690c5731.050a0220.1dd094.6eebSMTPIN_ADDED_MISSING@mx.google.com> Received: from [172.21.0.2] (unknown [172.18.0.240]) by postal.iol.unh.edu (Postfix) with ESMTP id 993FD6051830; Thu, 6 Nov 2025 03:07:12 -0500 (EST) Subject: |SUCCESS| pw158478-158481 [PATCH] [v3,4/4] doc: update TxPP document From: dpdklab@iol.unh.edu To: Test Report Cc: dpdk-test-reports@iol.unh.edu, Bruce Richardson In-Reply-To: <20251106064638.23020-5-soumyadeep.hore@intel.com> References: <20251106064638.23020-5-soumyadeep.hore@intel.com> Content-Type: text/plain X-BeenThere: test-report@dpdk.org X-Mailman-Version: 2.1.29 Precedence: list List-Id: automatic DPDK test reports List-Unsubscribe: , List-Archive: List-Post: List-Help: List-Subscribe: , Errors-To: test-report-bounces@dpdk.org Test-Label: iol-unit-arm64-testing Test-Status: SUCCESS http://dpdk.org/patch/158481 _Testing PASS_ Submitter: Soumyadeep Hore Date: Thursday, November 06 2025 06:46:37 DPDK git baseline: Repo:dpdk-next-net-intel Branch: master CommitID:03e1f9ac281264a54af53f547a2eb80f25bc19e6 158478-158481 --> testing pass Upstream job id: Generic-Unit-Test-DPDK#389093 Test environment and result as below: +------------------------------+----------------+------------------------------+---------------------------+--------------+ | Environment | dpdk_unit_test | cryptodev_sw_snow3g_autotest | cryptodev_sw_zuc_autotest | lpm_autotest | +==============================+================+==============================+===========================+==============+ | CentOS Stream 9 | PASS | SKIPPED | SKIPPED | SKIPPED | +------------------------------+----------------+------------------------------+---------------------------+--------------+ | CentOS Stream 10 | PASS | SKIPPED | SKIPPED | SKIPPED | +------------------------------+----------------+------------------------------+---------------------------+--------------+ | Fedora Linux 40 | PASS | SKIPPED | SKIPPED | SKIPPED | +------------------------------+----------------+------------------------------+---------------------------+--------------+ | Debian GNU/Linux 12 | PASS | SKIPPED | SKIPPED | SKIPPED | +------------------------------+----------------+------------------------------+---------------------------+--------------+ | Fedora Linux 41 | PASS | SKIPPED | SKIPPED | SKIPPED | +------------------------------+----------------+------------------------------+---------------------------+--------------+ | Ubuntu 24.04 | PASS | SKIPPED | SKIPPED | SKIPPED | +------------------------------+----------------+------------------------------+---------------------------+--------------+ | Ubuntu 22.04 | PASS | SKIPPED | SKIPPED | SKIPPED | +------------------------------+----------------+------------------------------+---------------------------+--------------+ | Ubuntu 20.04 | PASS | SKIPPED | SKIPPED | PASS | +------------------------------+----------------+------------------------------+---------------------------+--------------+ | Red Hat Enterprise Linux 9.5 | PASS | SKIPPED | SKIPPED | SKIPPED | +------------------------------+----------------+------------------------------+---------------------------+--------------+ | Fedora Linux 42 | PASS | SKIPPED | SKIPPED | SKIPPED | +------------------------------+----------------+------------------------------+---------------------------+--------------+ | Debian 12 (arm) | SKIPPED | PASS | PASS | SKIPPED | +------------------------------+----------------+------------------------------+---------------------------+--------------+ CentOS Stream 9 Kernel: 5.4 Compiler: gcc gcc (GCC) 11.5.0 20240719 (Red Hat 11.5.0-11) CentOS Stream 10 Kernel: 5.4 Compiler: gcc gcc (GCC) 14.2.1 20250110 (Red Hat 14.2.1-8) Fedora Linux 40 Kernel: 5.4 Compiler: clang gcc (GCC) 14.2.1 20240912 (Red Hat 14.2.1-3) Debian GNU/Linux 12 Kernel: 5.4 Compiler: gcc gcc (Debian 12.2.0-14+deb12u1) 12.2.0 Fedora Linux 41 Kernel: 5.4 Compiler: gcc gcc (GCC) 14.3.1 20250523 (Red Hat 14.3.1-1) Ubuntu 24.04 Kernel: 5.4 Compiler: gcc gcc (Ubuntu 13.3.0-6ubuntu2~24.04) 13.3.0 Ubuntu 22.04 Kernel: 5.4 Compiler: gcc gcc (Ubuntu 11.4.0-1ubuntu1~22.04) 11.4.0 Ubuntu 20.04 Kernel: 5.4 Compiler: gcc gcc (Ubuntu 9.4.0-1ubuntu1~20.04.2) 9.4.0 Red Hat Enterprise Linux 9.5 Kernel: 5.4 Compiler: gcc gcc (GCC) 11.5.0 20240719 (Red Hat 11.5.0-2) Fedora Linux 42 Kernel: 5.4 Compiler: clang gcc (GCC) 15.2.1 20250808 (Red Hat 15.2.1-1) Debian 12 (arm) Kernel: Depends on container host Compiler: gcc (Debian 12.2.0-14) 12.2.0 To view detailed results, visit: https://lab.dpdk.org/results/dashboard/patchsets/34480/ UNH-IOL DPDK Community Lab To manage your email subscriptions, visit: https://lab.dpdk.org/results/dashboard/preferences/subscriptions/