From mboxrd@z Thu Jan 1 00:00:00 1970 Return-Path: Received: from mails.dpdk.org (mails.dpdk.org [217.70.189.124]) by inbox.dpdk.org (Postfix) with ESMTP id 2155A48A81 for ; Thu, 6 Nov 2025 10:21:56 +0100 (CET) Received: from mails.dpdk.org (localhost [127.0.0.1]) by mails.dpdk.org (Postfix) with ESMTP id 10EBF4013F; Thu, 6 Nov 2025 10:21:56 +0100 (CET) Received: from mail-yw1-f228.google.com (mail-yw1-f228.google.com [209.85.128.228]) by mails.dpdk.org (Postfix) with ESMTP id 5B8B24013F for ; Thu, 6 Nov 2025 10:21:55 +0100 (CET) Received: by mail-yw1-f228.google.com with SMTP id 00721157ae682-786943affbaso6367467b3.0 for ; Thu, 06 Nov 2025 01:21:55 -0800 (PST) DKIM-Signature: v=1; a=rsa-sha256; c=relaxed/relaxed; d=iol.unh.edu; s=unh-iol; t=1762420914; x=1763025714; darn=dpdk.org; h=references:in-reply-to:cc:to:from:subject:message-id:date:from:to :cc:subject:date:message-id:reply-to; bh=mY0gsuaPODoNSjoyZVyXACiak2Edopk6mjw1wicgJ4A=; b=e2AAez+3MUKDDP67HOWgkz1OTxpOTASYNOcl6w7rFGetERRQA4RMWZvLCJ1rD5Eans JZXj27ZjNNgs4iaBermvAKhuP01HgKdVC0x4cZhu4jIIAXTKdHmy1B8qG6wBRBXGJOWZ rDh0qZwlYYf5fl1KO6hyGjfDITbn1AsTpMjpY= X-Google-DKIM-Signature: v=1; a=rsa-sha256; c=relaxed/relaxed; d=1e100.net; s=20230601; t=1762420914; x=1763025714; h=references:in-reply-to:cc:to:from:subject:message-id:date :x-gm-message-state:from:to:cc:subject:date:message-id:reply-to; bh=mY0gsuaPODoNSjoyZVyXACiak2Edopk6mjw1wicgJ4A=; b=XaEwVqJijtwLQh+BK3Wlh4SoEm29WvVBzI0RkPEwsHWV67tzT9DzSzzIIqSCt4tjYU NkRH7TOQiitXdhok0YCdV9Uh/y3Fgs48ZnfDNS7OOiYuaDe6+QDkq9+kxehPUTfOCN5w AG3zrH9QjWWVwy6L9g9gCna0xyg4m9fXUoh4ysgroCndKuNi4LxKCyPViOmE9Bqrjr/4 iN/zHAoiqX4B6HzwQtEfecJ3BuzHWZEyFaaPF4fW3RgbMgQ09G1wzJPCUHDe9/2sySln FZXzOJ3ZUmMbWSnhiUIPsX99OmuglcVjpWRtTtiAO9UuBQahbmNXQ8J5OR+A+PVsI0YI 1uNA== X-Gm-Message-State: AOJu0Yx6+/wKShOAujdLKK84Dq1ulVKLjFSwk/aUk7vweDokx0xMEZh/ G3IH2p9C5vyGrx5iwm8htb/dd7km3GqEd06SqP3xB1CbmUTnCQnLzjuRtARR4eitp7n8kvCGIyL r1NV+VVjbiN+LAOyS8IIlYoOrgX5srCDv9ifZnPmBEPDl X-Gm-Gg: ASbGnctDv4nUy6gywX3+heGAU+fJBF/3tYEyXexJsx6HYqHaCec9SlvQysCJiZW1Hht I4xbMe5vs9dU5a7gp2k9chEUUVLwf8aFoIb+mGjngXttOmFUK9+0x0xMecAYTHoKS4ZEJLdFFPH uHiw5qX4bV96Qt4a0lSRTgAR/LNoVsx2KnInyriUZUyT7enFaSKUHMBl2Zd8DnLKR0L49CHRvtm neVBjcB94zOLl070tYJa65/3qClcUaDNUa9nnQm67WBj7Ts0KDLfHx+MQShwuNq0J88X7mX9Lk/ frZyJRxdeBDpdOoIlgEs6uWkMlafdaV0BqYLjaWRvosDi7fqyttH2lyh66ZQhIV1WSJuSjoa4Kr LtWxDEp6iWdNLfxCNvoUT19F8tGkskm8= X-Google-Smtp-Source: AGHT+IGH8ScLKAwKy/iYJ7xxUVB6IReNfJWrL2rNg7eePdP7U49jm2vDYSBnX7sqQ63npFTu4dbxLHKUBwCf X-Received: by 2002:a05:690c:a5d3:b0:785:eccf:7ff7 with SMTP id 00721157ae682-786a420a020mr50191687b3.66.1762420914734; Thu, 06 Nov 2025 01:21:54 -0800 (PST) Received: from postal.iol.unh.edu (postal.iol.unh.edu. [132.177.123.84]) by smtp-relay.gmail.com with ESMTPS id 00721157ae682-787b16101ccsm1298107b3.5.2025.11.06.01.21.54 (version=TLS1_2 cipher=ECDHE-ECDSA-AES128-GCM-SHA256 bits=128/128); Thu, 06 Nov 2025 01:21:54 -0800 (PST) X-Relaying-Domain: iol.unh.edu Date: Thu, 06 Nov 2025 01:21:54 -0800 (PST) Message-ID: <690c68b2.050a0220.32cbea.6b6dSMTPIN_ADDED_MISSING@mx.google.com> Received: from [172.21.0.3] (unknown [172.18.0.240]) by postal.iol.unh.edu (Postfix) with ESMTP id 6050F6051830; Thu, 6 Nov 2025 04:21:54 -0500 (EST) Subject: |SUCCESS| pw158477 [PATCH] net/bonding: fix MAC address propagation From: dpdklab@iol.unh.edu To: Test Report Cc: dpdk-test-reports@iol.unh.edu, Stephen Hemminger In-Reply-To: <20251105180135.1181619-1-shperetz@nvidia.com> References: <20251105180135.1181619-1-shperetz@nvidia.com> Content-Type: text/plain X-BeenThere: test-report@dpdk.org X-Mailman-Version: 2.1.29 Precedence: list List-Id: automatic DPDK test reports List-Unsubscribe: , List-Archive: List-Post: List-Help: List-Subscribe: , Errors-To: test-report-bounces@dpdk.org Test-Label: iol-unit-arm64-testing Test-Status: SUCCESS http://dpdk.org/patch/158477 _Testing PASS_ Submitter: Shani Peretz Date: Wednesday, November 05 2025 18:01:35 DPDK git baseline: Repo:dpdk-next-net Branch: master CommitID:538052bb364db22ba8cc08b5e23a9e6d25a864a9 158477 --> testing pass Upstream job id: Generic-Unit-Test-DPDK#389130 Test environment and result as below: +------------------------------+----------------+--------------+---------------------------+------------------------------+ | Environment | dpdk_unit_test | lpm_autotest | cryptodev_sw_zuc_autotest | cryptodev_sw_snow3g_autotest | +==============================+================+==============+===========================+==============================+ | CentOS Stream 9 | PASS | SKIPPED | SKIPPED | SKIPPED | +------------------------------+----------------+--------------+---------------------------+------------------------------+ | CentOS Stream 10 | PASS | SKIPPED | SKIPPED | SKIPPED | +------------------------------+----------------+--------------+---------------------------+------------------------------+ | Debian GNU/Linux 12 | PASS | SKIPPED | SKIPPED | SKIPPED | +------------------------------+----------------+--------------+---------------------------+------------------------------+ | Ubuntu 22.04 | PASS | SKIPPED | SKIPPED | SKIPPED | +------------------------------+----------------+--------------+---------------------------+------------------------------+ | Fedora Linux 40 | PASS | SKIPPED | SKIPPED | SKIPPED | +------------------------------+----------------+--------------+---------------------------+------------------------------+ | Fedora Linux 41 | PASS | SKIPPED | SKIPPED | SKIPPED | +------------------------------+----------------+--------------+---------------------------+------------------------------+ | Ubuntu 20.04 | PASS | PASS | SKIPPED | SKIPPED | +------------------------------+----------------+--------------+---------------------------+------------------------------+ | Fedora Linux 42 | PASS | SKIPPED | SKIPPED | SKIPPED | +------------------------------+----------------+--------------+---------------------------+------------------------------+ | Red Hat Enterprise Linux 9.5 | PASS | SKIPPED | SKIPPED | SKIPPED | +------------------------------+----------------+--------------+---------------------------+------------------------------+ | Ubuntu 24.04 | PASS | SKIPPED | SKIPPED | SKIPPED | +------------------------------+----------------+--------------+---------------------------+------------------------------+ | Debian 12 (arm) | SKIPPED | SKIPPED | PASS | PASS | +------------------------------+----------------+--------------+---------------------------+------------------------------+ CentOS Stream 9 Kernel: 5.4 Compiler: gcc gcc (GCC) 11.5.0 20240719 (Red Hat 11.5.0-11) CentOS Stream 10 Kernel: 5.4 Compiler: gcc gcc (GCC) 14.2.1 20250110 (Red Hat 14.2.1-8) Debian GNU/Linux 12 Kernel: 5.4 Compiler: gcc gcc (Debian 12.2.0-14+deb12u1) 12.2.0 Ubuntu 22.04 Kernel: 5.15 Compiler: gcc gcc (Ubuntu 11.4.0-1ubuntu1~22.04.2) 11.4.0 Fedora Linux 40 Kernel: 5.4 Compiler: gcc gcc (GCC) 14.2.1 20240912 (Red Hat 14.2.1-3) Fedora Linux 41 Kernel: 5.4 Compiler: gcc gcc (GCC) 14.3.1 20250523 (Red Hat 14.3.1-1) Ubuntu 20.04 Kernel: 5.4 Compiler: gcc gcc (Ubuntu 9.4.0-1ubuntu1~20.04.2) 9.4.0 Fedora Linux 42 Kernel: 5.4 Compiler: gcc gcc (GCC) 15.2.1 20250808 (Red Hat 15.2.1-1) Red Hat Enterprise Linux 9.5 Kernel: 5.4 Compiler: gcc gcc (GCC) 11.5.0 20240719 (Red Hat 11.5.0-2) Ubuntu 24.04 Kernel: 5.4 Compiler: gcc gcc (Ubuntu 13.3.0-6ubuntu2~24.04) 13.3.0 Debian 12 (arm) Kernel: Depends on container host Compiler: gcc (Debian 12.2.0-14) 12.2.0 To view detailed results, visit: https://lab.dpdk.org/results/dashboard/patchsets/34481/ UNH-IOL DPDK Community Lab To manage your email subscriptions, visit: https://lab.dpdk.org/results/dashboard/preferences/subscriptions/